BEGIN:VCALENDAR
VERSION:2.0
PRODID:-//BioFoto - ECPv6.15.20//NONSGML v1.0//EN
CALSCALE:GREGORIAN
METHOD:PUBLISH
X-ORIGINAL-URL:https://biofoto.no
X-WR-CALDESC:Arrangement for BioFoto
REFRESH-INTERVAL;VALUE=DURATION:PT1H
X-Robots-Tag:noindex
X-PUBLISHED-TTL:PT1H
BEGIN:VTIMEZONE
TZID:Europe/Paris
BEGIN:DAYLIGHT
TZOFFSETFROM:+0100
TZOFFSETTO:+0200
TZNAME:CEST
DTSTART:20230326T010000
END:DAYLIGHT
BEGIN:STANDARD
TZOFFSETFROM:+0200
TZOFFSETTO:+0100
TZNAME:CET
DTSTART:20231029T010000
END:STANDARD
BEGIN:DAYLIGHT
TZOFFSETFROM:+0100
TZOFFSETTO:+0200
TZNAME:CEST
DTSTART:20240331T010000
END:DAYLIGHT
BEGIN:STANDARD
TZOFFSETFROM:+0200
TZOFFSETTO:+0100
TZNAME:CET
DTSTART:20241027T010000
END:STANDARD
BEGIN:DAYLIGHT
TZOFFSETFROM:+0100
TZOFFSETTO:+0200
TZNAME:CEST
DTSTART:20250330T010000
END:DAYLIGHT
BEGIN:STANDARD
TZOFFSETFROM:+0200
TZOFFSETTO:+0100
TZNAME:CET
DTSTART:20251026T010000
END:STANDARD
END:VTIMEZONE
BEGIN:VEVENT
DTSTART;TZID=Europe/Paris:20240921T110000
DTEND;TZID=Europe/Paris:20240921T133000
DTSTAMP:20260425T152427
CREATED:20240906T195107Z
LAST-MODIFIED:20241011T200559Z
UID:17582-1726916400-1726925400@biofoto.no
SUMMARY:Tur til Herdla - Biofoto Hordaland
DESCRIPTION:Denne lørdagen tar vi turen til Herdla. Alle fugleinteresserte i Hordaland kjenner godt til det rike og mangfoldige fuglelivet på Herdla. Her vil det bli anledning til å ta flotte bilder\, og hvem vet – kan hende dukker det opp en art du ikke har festet til minnebrikken tidligere. \nTurleder er Jan Helge Fosså\, ingen påmelding. Nærmere info om frammøte tid og nøyaktig sted kommer i en egen mail. \nDette blir en fin anledning til en fototur med gode foto- og fuglevenner i et av våre mest kjente fuglereservat. \nMer info følger\, \nVel møtt!
URL:https://biofoto.no/event/tur-til-herdla-biofoto-hordaland/
LOCATION:Herdla\, Herdla\, Askøy\, Vestland\, 5315\, Norway
CATEGORIES:Hordaland
END:VEVENT
END:VCALENDAR