BEGIN:VCALENDAR
VERSION:2.0
PRODID:-//BioFoto - ECPv6.15.20//NONSGML v1.0//EN
CALSCALE:GREGORIAN
METHOD:PUBLISH
X-ORIGINAL-URL:https://biofoto.no
X-WR-CALDESC:Arrangement for BioFoto
REFRESH-INTERVAL;VALUE=DURATION:PT1H
X-Robots-Tag:noindex
X-PUBLISHED-TTL:PT1H
BEGIN:VTIMEZONE
TZID:Europe/Paris
BEGIN:DAYLIGHT
TZOFFSETFROM:+0100
TZOFFSETTO:+0200
TZNAME:CEST
DTSTART:20240331T010000
END:DAYLIGHT
BEGIN:STANDARD
TZOFFSETFROM:+0200
TZOFFSETTO:+0100
TZNAME:CET
DTSTART:20241027T010000
END:STANDARD
BEGIN:DAYLIGHT
TZOFFSETFROM:+0100
TZOFFSETTO:+0200
TZNAME:CEST
DTSTART:20250330T010000
END:DAYLIGHT
BEGIN:STANDARD
TZOFFSETFROM:+0200
TZOFFSETTO:+0100
TZNAME:CET
DTSTART:20251026T010000
END:STANDARD
BEGIN:DAYLIGHT
TZOFFSETFROM:+0100
TZOFFSETTO:+0200
TZNAME:CEST
DTSTART:20260329T010000
END:DAYLIGHT
BEGIN:STANDARD
TZOFFSETFROM:+0200
TZOFFSETTO:+0100
TZNAME:CET
DTSTART:20261025T010000
END:STANDARD
END:VTIMEZONE
BEGIN:VEVENT
DTSTART;TZID=Europe/Paris:20250903T190000
DTEND;TZID=Europe/Paris:20250903T210000
DTSTAMP:20260420T203529
CREATED:20241125T212727Z
LAST-MODIFIED:20250828T175032Z
UID:18963-1756926000-1756933200@biofoto.no
SUMMARY:Østlandet: medlemsmøte 3. september - Elin Blindheim
DESCRIPTION:  \n  \nElin Blindheim startet med foto da hun skulle flytte til Svalbard. Bildene ble mange\, og opplevelsene enda flere. Hun startet med landskap\, men nå er det fugler og dyr som gir de store opplevelsene. Spenningen og utfordringen naturfoto gir trigger henne. Det blir stadig jaktet på nye motiv og bedre bilder\, men det viktigste er de fantastiske naturopplevelsene. Bli med til landet med de kalde kyster – Svalbard.   \nSølve Apollo Fredheim holder teknisk kvarter om astrofoto. \nTema på konkurransen: Speiling  
URL:https://biofoto.no/event/ostlandet-medlemsmote-3-september/
LOCATION:OsloMet Kjeller\, Kunnskapsveien 55\, Kjeller\, 2007\, Norway
CATEGORIES:Østlandet,Møter
ORGANIZER;CN="BioFoto %C3%98stlandet":MAILTO:ostlandet@biofoto.no
END:VEVENT
END:VCALENDAR