BEGIN:VCALENDAR
VERSION:2.0
PRODID:-//BioFoto - ECPv6.15.20//NONSGML v1.0//EN
CALSCALE:GREGORIAN
METHOD:PUBLISH
X-WR-CALNAME:BioFoto
X-ORIGINAL-URL:https://biofoto.no
X-WR-CALDESC:Arrangement for BioFoto
REFRESH-INTERVAL;VALUE=DURATION:PT1H
X-Robots-Tag:noindex
X-PUBLISHED-TTL:PT1H
BEGIN:VTIMEZONE
TZID:Europe/Paris
BEGIN:DAYLIGHT
TZOFFSETFROM:+0100
TZOFFSETTO:+0200
TZNAME:CEST
DTSTART:20240331T010000
END:DAYLIGHT
BEGIN:STANDARD
TZOFFSETFROM:+0200
TZOFFSETTO:+0100
TZNAME:CET
DTSTART:20241027T010000
END:STANDARD
BEGIN:DAYLIGHT
TZOFFSETFROM:+0100
TZOFFSETTO:+0200
TZNAME:CEST
DTSTART:20250330T010000
END:DAYLIGHT
BEGIN:STANDARD
TZOFFSETFROM:+0200
TZOFFSETTO:+0100
TZNAME:CET
DTSTART:20251026T010000
END:STANDARD
BEGIN:DAYLIGHT
TZOFFSETFROM:+0100
TZOFFSETTO:+0200
TZNAME:CEST
DTSTART:20260329T010000
END:DAYLIGHT
BEGIN:STANDARD
TZOFFSETFROM:+0200
TZOFFSETTO:+0100
TZNAME:CET
DTSTART:20261025T010000
END:STANDARD
END:VTIMEZONE
BEGIN:VEVENT
DTSTART;TZID=Europe/Paris:20250305T190000
DTEND;TZID=Europe/Paris:20250305T210000
DTSTAMP:20260421T074500
CREATED:20241125T212252Z
LAST-MODIFIED:20250211T131017Z
UID:18955-1741201200-1741208400@biofoto.no
SUMMARY:Østlandet: medlemsmøte 5. mars med Thor Håkonsen
DESCRIPTION:Wonders of Cold Blood \n \nEn reise i reptiler! Foredraget vil vise bilder av reptiler og amfibier som Thor har funnet og fotografert under sine reiser rundt i verden på jakt etter hoggorm. Dyr med de mest fantastiske farger\,mønster og former! \nThor Håkonsen er lidenskapelig opptatt av reptiler generelt\, og hoggorm spesielt\, og reiser verden rundt for å observere og fotografere disse fascinerende skapningene. Han har vært ambassadør for CEWE Japan Photo siden 2017\, og leder i Norsk Herpetologisk Forening siden 2014. Thor er medlem av Norske Naturfotografer/NN og BioFoto. \nTema for kveldskonkurransen; Nærbilder av dyr  – unntatt pattedyr og fugl!
URL:https://biofoto.no/event/ostlandet-medlemsmote-5-mars-med-thor-hakonsen/
LOCATION:OsloMet Kjeller\, Kunnskapsveien 55\, Kjeller\, 2007\, Norway
CATEGORIES:Møter,Østlandet
ORGANIZER;CN="BioFoto %C3%98stlandet":MAILTO:ostlandet@biofoto.no
END:VEVENT
END:VCALENDAR