BEGIN:VCALENDAR
VERSION:2.0
PRODID:-//BioFoto - ECPv6.15.20//NONSGML v1.0//EN
CALSCALE:GREGORIAN
METHOD:PUBLISH
X-ORIGINAL-URL:https://biofoto.no
X-WR-CALDESC:Arrangement for BioFoto
REFRESH-INTERVAL;VALUE=DURATION:PT1H
X-Robots-Tag:noindex
X-PUBLISHED-TTL:PT1H
BEGIN:VTIMEZONE
TZID:Europe/Paris
BEGIN:DAYLIGHT
TZOFFSETFROM:+0100
TZOFFSETTO:+0200
TZNAME:CEST
DTSTART:20230326T010000
END:DAYLIGHT
BEGIN:STANDARD
TZOFFSETFROM:+0200
TZOFFSETTO:+0100
TZNAME:CET
DTSTART:20231029T010000
END:STANDARD
BEGIN:DAYLIGHT
TZOFFSETFROM:+0100
TZOFFSETTO:+0200
TZNAME:CEST
DTSTART:20240331T010000
END:DAYLIGHT
BEGIN:STANDARD
TZOFFSETFROM:+0200
TZOFFSETTO:+0100
TZNAME:CET
DTSTART:20241027T010000
END:STANDARD
BEGIN:DAYLIGHT
TZOFFSETFROM:+0100
TZOFFSETTO:+0200
TZNAME:CEST
DTSTART:20250330T010000
END:DAYLIGHT
BEGIN:STANDARD
TZOFFSETFROM:+0200
TZOFFSETTO:+0100
TZNAME:CET
DTSTART:20251026T010000
END:STANDARD
END:VTIMEZONE
BEGIN:VEVENT
DTSTART;TZID=Europe/Paris:20240904T190000
DTEND;TZID=Europe/Paris:20240904T210000
DTSTAMP:20260423T190245
CREATED:20240813T195721Z
LAST-MODIFIED:20260418T202701Z
UID:17249-1725476400-1725483600@biofoto.no
SUMMARY:Østlandet: medlemsmøte 4. september – Villsvin og andre svenske skapninger med Torbjørn Pehrsen
DESCRIPTION:Møter med villsvin og andre svenske skapninger – Torbjørn Pehrsen \nPehrsen sier om foredraget: “I 2014 var jeg på en av mine årlige turer til Hornborgasjön. Der traff jeg en som kom med tips om et spennende område. Vi dro dit\, og opplevde et rikt dyreliv. Vi så blant annet noen villsvin. Det var spennende\, og siden har det blitt opptil et par turer i året dit. Foredraget handler om møter med villsvina\, men også bilder fra et par andre steder i Sverige.”  \n  \nOm foredragsholderen:  \nTorbjørn Pehrsen er 54 år. Han jobber med analyse og rapportering\, i SpareBank 1. Avkoblingen fra arbeidshverdagen på kontor\, i form av naturfoto\, betyr mye. Han har tatt bilder siden ung alder\, og startet som en mer rendyrket naturfotograf rundt 2010. Det har blitt en del turer i Norge\, Sverige og Finland. En del av disse stedene har blitt gjengangere\, som han alltid lengter tilbake til.  \nTemaet for kveldskonkurransen er adferd.
URL:https://biofoto.no/event/medlemsmote-4-september-villsvin-og-andre-svenske-skapninger-torbjorn-pehrsen/
LOCATION:OsloMet Kjeller\, Kunnskapsveien 55\, Kjeller\, 2007\, Norway
CATEGORIES:Østlandet
END:VEVENT
END:VCALENDAR