BEGIN:VCALENDAR
VERSION:2.0
PRODID:-//BioFoto - ECPv6.15.20//NONSGML v1.0//EN
CALSCALE:GREGORIAN
METHOD:PUBLISH
X-WR-CALNAME:BioFoto
X-ORIGINAL-URL:https://biofoto.no
X-WR-CALDESC:Arrangement for BioFoto
REFRESH-INTERVAL;VALUE=DURATION:PT1H
X-Robots-Tag:noindex
X-PUBLISHED-TTL:PT1H
BEGIN:VTIMEZONE
TZID:Europe/Paris
BEGIN:DAYLIGHT
TZOFFSETFROM:+0100
TZOFFSETTO:+0200
TZNAME:CEST
DTSTART:20240331T010000
END:DAYLIGHT
BEGIN:STANDARD
TZOFFSETFROM:+0200
TZOFFSETTO:+0100
TZNAME:CET
DTSTART:20241027T010000
END:STANDARD
BEGIN:DAYLIGHT
TZOFFSETFROM:+0100
TZOFFSETTO:+0200
TZNAME:CEST
DTSTART:20250330T010000
END:DAYLIGHT
BEGIN:STANDARD
TZOFFSETFROM:+0200
TZOFFSETTO:+0100
TZNAME:CET
DTSTART:20251026T010000
END:STANDARD
BEGIN:DAYLIGHT
TZOFFSETFROM:+0100
TZOFFSETTO:+0200
TZNAME:CEST
DTSTART:20260329T010000
END:DAYLIGHT
BEGIN:STANDARD
TZOFFSETFROM:+0200
TZOFFSETTO:+0100
TZNAME:CET
DTSTART:20261025T010000
END:STANDARD
END:VTIMEZONE
BEGIN:VEVENT
DTSTART;TZID=Europe/Paris:20250108T190000
DTEND;TZID=Europe/Paris:20250108T210000
DTSTAMP:20260421T093237
CREATED:20241125T211528Z
LAST-MODIFIED:20250113T211740Z
UID:18936-1736362800-1736370000@biofoto.no
SUMMARY:Østlandet: medlemsmøte 8. januar med Arne Nævra
DESCRIPTION:NATUROPPLEVELSER\, NATURFOTO OG NATUR UNDER PRESS\nArne Nævra er først og fremst kjent for utallige naturfilmer og naturserier på NRK\, og er en av de mest profilerte naturfilmskaperne i Norden. Det er nok å nevne Villdyr og Villmark (9 episoder fra hele verden)\, Antarktis- en eventyrlig seilas (3 episoder) med Stein P. Aasheim\, Norske Naturperler (8 episoder) fra utvalgte steder i landet i 2014. Dette var nok den mest omfattende serien laget i Norden med ville dyr i hovedrollen. Han har også vært mer og mer opptatt av å skildre ødeleggelsene i naturen\, og den siste serien Min Natur (4 episoder\, 2017)\, med blant andre Dag O. Hessen\, Trude Myhre og Gjermund Andersen\, var dette viktig. De siste åra har han jobbet sammen med Torgeir Beck Lande som han drev selskapet Naturbilder AS sammen med. I tillegg til disse større seriene har han vært sentral i Ut i naturens magasinprogram i mange år på 1990-tallet. I perioden 2017 til 2021 var han også stortingsrepresentant for SV\, innvalgt fra Buskerud\, der han spesielt jobba med miljørelaterte spørsmål. Men sjøl om TV-filmer har vært næringsveien for Nævra\, har han alltid hatt et Nikon stillskamera på brystet. «stillbildet er et eget uttrykk»\, sier Nævra\, «jeg har alltid vært fasinert av å skildre en historie eller en situasjon i ett eneste bilde. \nI kveld vil Nævra vise noen av høydepunktene sine som filmprodusent og stillbildefotograf\, der nærmøter med ville dyr står sentralt. Men siden han har blitt mer og mer opptatt av å advare mot nedbygging av naturen\, vil han også vise noen eksempler på hvordan kameraet kan brukes som våpen i naturvernkampen. Dette er en tematikk han har holdt foredrag om før\, og som også er tema for kveldskonkurransen. Dette at naturen angripes fra mange kanter er også viktig tematikk i hans nye bok Naturen og oss\, som han også har med for salg og signering på møtet (kr. 400\,-). \nTema for kveldskonkurransen er “Med kamera som våpen”.
URL:https://biofoto.no/event/ostlandet-medlemsmote-8-januar-med-arne-naevra/
LOCATION:OsloMet Kjeller\, Kunnskapsveien 55\, Kjeller\, 2007\, Norway
CATEGORIES:Østlandet,Møter
ATTACH;FMTTYPE=image/jpeg:https://biofoto.no/wp-content/uploads/2024/11/To-ulike-liv.jpg
ORGANIZER;CN="BioFoto %C3%98stlandet":MAILTO:ostlandet@biofoto.no
END:VEVENT
END:VCALENDAR