BEGIN:VCALENDAR
VERSION:2.0
PRODID:-//BioFoto - ECPv6.15.20//NONSGML v1.0//EN
CALSCALE:GREGORIAN
METHOD:PUBLISH
X-ORIGINAL-URL:https://biofoto.no
X-WR-CALDESC:Arrangement for BioFoto
REFRESH-INTERVAL;VALUE=DURATION:PT1H
X-Robots-Tag:noindex
X-PUBLISHED-TTL:PT1H
BEGIN:VTIMEZONE
TZID:Europe/Paris
BEGIN:DAYLIGHT
TZOFFSETFROM:+0100
TZOFFSETTO:+0200
TZNAME:CEST
DTSTART:20240331T010000
END:DAYLIGHT
BEGIN:STANDARD
TZOFFSETFROM:+0200
TZOFFSETTO:+0100
TZNAME:CET
DTSTART:20241027T010000
END:STANDARD
BEGIN:DAYLIGHT
TZOFFSETFROM:+0100
TZOFFSETTO:+0200
TZNAME:CEST
DTSTART:20250330T010000
END:DAYLIGHT
BEGIN:STANDARD
TZOFFSETFROM:+0200
TZOFFSETTO:+0100
TZNAME:CET
DTSTART:20251026T010000
END:STANDARD
BEGIN:DAYLIGHT
TZOFFSETFROM:+0100
TZOFFSETTO:+0200
TZNAME:CEST
DTSTART:20260329T010000
END:DAYLIGHT
BEGIN:STANDARD
TZOFFSETFROM:+0200
TZOFFSETTO:+0100
TZNAME:CET
DTSTART:20261025T010000
END:STANDARD
END:VTIMEZONE
BEGIN:VEVENT
DTSTART;VALUE=DATE:20251003
DTEND;VALUE=DATE:20251006
DTSTAMP:20260422T105358
CREATED:20250202T162554Z
LAST-MODIFIED:20251002T152925Z
UID:19882-1759449600-1759708799@biofoto.no
SUMMARY:Østlandet: Helgetur til Mølen AVLYST
DESCRIPTION:Avlyst pga ekstremvær \nFugl og landskap \nVi har leid en hytte med sengeplass til 12 personer på Oddanesand Camping for helgen. Mer info følger. \nPåmelding til turleder Jon Bruce ( 928 19 416 ). Morten Vagleng blir også med.
URL:https://biofoto.no/event/helgetur-til-molen/
CATEGORIES:Østlandet,Turer
END:VEVENT
BEGIN:VEVENT
DTSTART;TZID=Europe/Paris:20251007T180000
DTEND;TZID=Europe/Paris:20251007T204500
DTSTAMP:20260422T105358
CREATED:20250908T083746Z
LAST-MODIFIED:20250908T083746Z
UID:22145-1759860000-1759869900@biofoto.no
SUMMARY:Medlemsmøte Biofoto Sørlandet
DESCRIPTION:Info fra styret ved Terje. Bildevisning ved Kai-Erik Uleberg: Kameralek med skiftende fokus» \nDenne månedens foto ved Hilde. Tema: Kontraster
URL:https://biofoto.no/event/medlemsmote-biofoto-sorlandet-7/
LOCATION:Rådhuskvartalet\, Rådhusgata 18\, KRISTIANSAND
CATEGORIES:Sørlandet
END:VEVENT
BEGIN:VEVENT
DTSTART;TZID=Europe/Paris:20251008T190000
DTEND;TZID=Europe/Paris:20251008T210000
DTSTAMP:20260422T105358
CREATED:20241125T212848Z
LAST-MODIFIED:20250923T190128Z
UID:18965-1759950000-1759957200@biofoto.no
SUMMARY:Østlandet: medlemsmøte 8. oktober med Tom Dyring
DESCRIPTION:TOM DYRING : «WINTER WILDLIFE»\n  \n \nTom Dyring er profesjonell naturfotograf bosatt i Frogn syd for Oslo. Som fotograf arbeider han KUN med ville dyr og har ambisiøse fotoprosjekt i hele verden. Han er en voksen kar med lang fartstid\, har vært 60 ganger i Afrika syd for Sahara og elsker farlige slanger. Dette til tross: Han kommer denne gangen for å vise presentasjonen «Winter Wildlife» og vil\, i tillegg til å vise en utvalgt kolleksjon av bilder\, fortelle om en rekke «iskalde prosjekter» i den nordlige boreale naturen. Tom Dyring har vunnet en rekke internasjonale priser for sine dyrebilder og er medlem av Norske Naturfotografer. \nInnledningsvis får vi en kort “Historien om bildet” av Nils Olav Thonvald \nTema for kveldskonkurransen er; “Winter wildlife”
URL:https://biofoto.no/event/ostlandet-medlemsmote-8-oktober-med-tom-dyring/
LOCATION:OsloMet Kjeller\, Kunnskapsveien 55\, Kjeller\, 2007\, Norway
CATEGORIES:Østlandet,Møter
ORGANIZER;CN="BioFoto %C3%98stlandet":MAILTO:ostlandet@biofoto.no
END:VEVENT
BEGIN:VEVENT
DTSTART;TZID=Europe/Paris:20251013T190000
DTEND;TZID=Europe/Paris:20251013T220000
DTSTAMP:20260422T105358
CREATED:20250804T162036Z
LAST-MODIFIED:20250930T175703Z
UID:21948-1760382000-1760392800@biofoto.no
SUMMARY:Medlemsmøte Biofoto Innlandet med bildevisning av Jan-Rune Samuelsen
DESCRIPTION:Fotograf Jan-Rune Samuelsen vil på dette medlemsmøtet holde et innlegg med tema “Skog” hvor han vil kombinere en overtoningsserie og et påfølgende prate-kåseri m/ bilder om naturskogen som økosystem. I bildeforedraget vil han belyse viktigheten av eldre skog og intakte skogøkosystemer\, sett i lys av ulike brukerinteresser som bl.a. intensiv skogsdrift. Velkommen til møte!
URL:https://biofoto.no/event/medlemsmote-biofoto-innlandet-med-bildevisning-av-jan-rune-samuelsen/
LOCATION:Ringsaker bibliotek\, Brumunddal\, 2380\, Norge
CATEGORIES:Innlandet
ATTACH;FMTTYPE=image/jpeg:https://biofoto.no/wp-content/uploads/2025/08/Brunbjorn2_JRS.jpg
END:VEVENT
BEGIN:VEVENT
DTSTART;TZID=Europe/Paris:20251014T190000
DTEND;TZID=Europe/Paris:20251014T210000
DTSTAMP:20260422T105358
CREATED:20250908T084024Z
LAST-MODIFIED:20250908T084024Z
UID:22147-1760468400-1760475600@biofoto.no
SUMMARY:Ekstramøte Biofoto Sørlandet
DESCRIPTION:Ekstramøte i forbindelse med Vennesla kulturuke\, i et samarbeid med Vennesla Film & Naturfotoklubb \nForedragsholdere er Grete Jonsson og Gunn Olufsen fra Jæren. De har gitt ut bok sammen med dikt og foto: «Øyeblikk over lang tid»
URL:https://biofoto.no/event/ekstramote-biofoto-sorlandet/
LOCATION:Vennesla kino\, Venneslamoen 19\, Vennesla\, Agder\, 4700\, Norway
CATEGORIES:Sørlandet
ORGANIZER;CN="BioFoto S%C3%B8rlandet":MAILTO:biofotosorlandet1@gmail.com
END:VEVENT
BEGIN:VEVENT
DTSTART;TZID=Europe/Paris:20251016T180000
DTEND;TZID=Europe/Paris:20251016T210000
DTSTAMP:20260422T105358
CREATED:20250103T222750Z
LAST-MODIFIED:20251006T190904Z
UID:19484-1760637600-1760648400@biofoto.no
SUMMARY:Østlandet: Lightroomkurs med Fredrik Strømme 16. oktober
DESCRIPTION:Vi er så heldige at den dyktige kursholderen Fredrik Strømme skal ha flere kurs for oss i BioFoto Østlandet i det grunnleggende i Lightroom Classic. \n\n16. oktober kl. 18.00 – 21.00\n100\,- kr per deltager (maks 20 deltagere)\nKurset foregår på Zoom\nTilgang for å laste ned kurset i sin helhet etter kurskvelden.\nBindende påmelding ved først å bruke RSVP linken under (OBS: du må være logget inn for å melde deg på) etterfulgt av betaling via VIPPS #536728 (BioFoto Østlandet) eller bankoverføring til kontonummer: 9001.27.30313\n\n\n  \nHva du vil lære?\nDette er et grunnleggende kurs hvor du vil få en innføring i de vanligste og mest brukte verktøyene i Lightroom Classic. Du trenger ingen Lightroomkunnskaper fra før\, men bær være nysgjerrig på hva dette programmet har å tilby. Kurset skjer på Zoom og du vil få en innloggingslenke før kurset starter. Du trenger ikke Zoomkonto eller abonnement for å logge inn på lenken. Da vil du kunne følge med på Fredrik sin skjerm\, samtidig som han forklarer. Det vil være muligheter for å stille spørsmål underveis. \n\n  \nDu vil få en innføring i:\n\nGod forståelse for hvordan Lightroom behandler bildene på en veldig sikker måte ved å ta i bruk katalog. Katalogen er selve “hjernen” til Lightroom.\nTips til hvordan man organiserer bildene på harddisk eller ekstern harddisk\, for en ekstra oversiktlig Lightroom.\nHvordan importere bilder\, samt ulike ekstra valg man kan gjøre i forbindelse med det.\nOrganisering og sortering av importerte bilder ved bruk av samlinger\, som er den beste metoden for et oversiktlig system på bildene. Og du vil få gode råd på hvordan man setter de opp slik at du vil ha veldig god kontroll på hvor ulike bilder befinner seg.\nHvordan skille ut bilder man er godt fornøyd med og bilder man er mindre fornøyd med i samlingene\, slik at det også er organisert på en ryddig måte.\nBruk av plukkflagg\, vurderinger\, fargeetiketter og grupperinger. Dette er verktøy som gjør organiseringen enda mer oversiktlig.\nLegge søkeord på bildene og forandre filnavn\, for å gjøre de lettere søkbar.\nUlike metoder for å bruke søkeverktøyet.\nHvordan automatisere enkelte prosesser i organiseringen ved bruk av smarte verktøy.\nGjennomgang av alle glidebrytere man bruker i forbindelse med redigering.\nVerktøy som bruker kunstig intelligens.\nBeskjæring av bilder\, og hvordan bruke dette verktøyet på en optimal måte med tanke på komposisjon.\nHvordan fjerne uønskede element.\nUlike metoder for maskering. Maskering er en teknikk hvor man gjør redigering kun på en utvalgt del av bildet. Du vil lære å maskere alt fra større deler av bildet og helt ned til små detaljer som iris i øyet\, med veldig enkle grep.\nEksport av bilder\n\n  \nBetaling:\n100\,- NOK på VIPPS #536728 (BioFoto Østlandet) eller bankoverføring til kontonummer: 9001.27.30313
URL:https://biofoto.no/event/ostlandet-lightroomkurs-med-fredrik-stromme-16-oktober/
LOCATION:Zoom\, Online
CATEGORIES:Østlandet,Kurs
ATTACH;FMTTYPE=image/jpeg:https://biofoto.no/wp-content/uploads/2025/01/Lightroom-kurs-organisering-min.jpg
ORGANIZER;CN="BioFoto %C3%98stlandet":MAILTO:ostlandet@biofoto.no
END:VEVENT
BEGIN:VEVENT
DTSTART;TZID=Europe/Paris:20251019T100000
DTEND;TZID=Europe/Paris:20251019T150000
DTSTAMP:20260422T105358
CREATED:20250202T162833Z
LAST-MODIFIED:20251006T195153Z
UID:19884-1760868000-1760886000@biofoto.no
SUMMARY:Østlandet: Breimåsan (Losby)
DESCRIPTION:Breimåsan og skogen rundt er et flott område for de som liker flotte myrer og til dels ulendt skog.  Det er muligheter for spennende skogsinteriørbilder og mer nære motiver. Myra byr på flotte motiver i seg selv. Det er noe fugler i området\, også svartspett. Fuglene er generelt vanskelig å se og å ta bilde av i skogen.\nDet kan være både vått og kronglete å komme seg frem å området. Ta på godt og vanntett fottøy og gode turklær. Stativ og filter (grå\, pola) er lurt å ta med. Matpakke. Sitteunderlag. Tørre sko og sokker er lurt å ha i bilen.\nDet er fort å bli desorientert i Østmarka\, selv på kort avstand\, så ta gjerne med kart og/eller kompass om du har.\nFremmøte på plassen utenfor Låven / serveringsstedet på Losby (ikke Losby gods). Fra parkeringsplassen på venstre side i bunn av bakkene er det kun ca 100m å gå veien opp til fremmøtestedet.  Turen går et stykke på grusvei langs golfbanen og deretter inn i skogen\, ca 20-30 min å gå rolig til myra. Det er til dels kronglete og bløtt. Husk godt og vanntett fottøy. Breimåsan er en bløtmyr og det er også bløtt i terrenget rundt omkring.\n \nTurleder Nils Olaf Thonvald\, mob 48008662.
URL:https://biofoto.no/event/losby/
CATEGORIES:Østlandet,Turer
END:VEVENT
BEGIN:VEVENT
DTSTART;TZID=Europe/Paris:20251028T180000
DTEND;TZID=Europe/Paris:20251028T210000
DTSTAMP:20260422T105358
CREATED:20250425T091926Z
LAST-MODIFIED:20251020T154436Z
UID:21093-1761674400-1761685200@biofoto.no
SUMMARY:Medlemsmøte Midt-Norge
DESCRIPTION:Velkommen til kveldens BioFoto-møte! \nFørste del av møtet\, hvor vi hedrer våre æresmedlemmer som startet BioFoto Norge\, vil bli streamet på Teams. Vi gjør oppmerksom på at lydkvaliteten under denne delen kan være begrenset\, da vi ikke har teknisk utstyr som gir god lyd fra hele rommet. Vi håper på forståelse for dette. \nEtter pausen holder Heide Mellingen\, leder for BioFoto Norge\, kveldens hovedforedrag. Denne delen av møtet vil bli streamet som et vanlig medlemsmøte med god lyd og bilde. \nLes mer om arrangementet her: BioFoto Midt-Norge hedrer stifterne av BioFoto. – BioFoto
URL:https://biofoto.no/event/medlemsmote-midt-norge-8/
LOCATION:Byåsen videregående skole\, Selsbakkveien 34\, Trondheim\, 7027
CATEGORIES:Midt-Norge
END:VEVENT
BEGIN:VEVENT
DTSTART;TZID=Europe/Paris:20251030T080000
DTEND;TZID=Europe/Paris:20251102T170000
DTSTAMP:20260422T105358
CREATED:20251002T111440Z
LAST-MODIFIED:20251002T111440Z
UID:22453-1761811200-1762102800@biofoto.no
SUMMARY:Fysisk styremøte i Skogvoktergården
DESCRIPTION:Styret + Jan Inge Karlsen treffes for å planlegge det som er igjen av 2025 + aktiviteter 2026.\nHar du ønsker til aktiviteter?\nØnsker du å bidra med stort eller smått? \nSend e-post til nord-norge@biofoto.no eller melding til en av oss. \nHilsen alle oss: Anita\, Grete\, Jan Inge\, Ketil\, Ørnulf og Lise Mari
URL:https://biofoto.no/event/fysisk-styremote-i-skogvoktergarden/
CATEGORIES:Nord-Norge
END:VEVENT
END:VCALENDAR