BEGIN:VCALENDAR
VERSION:2.0
PRODID:-//BioFoto - ECPv6.15.20//NONSGML v1.0//EN
CALSCALE:GREGORIAN
METHOD:PUBLISH
X-WR-CALNAME:BioFoto
X-ORIGINAL-URL:https://biofoto.no
X-WR-CALDESC:Arrangement for BioFoto
REFRESH-INTERVAL;VALUE=DURATION:PT1H
X-Robots-Tag:noindex
X-PUBLISHED-TTL:PT1H
BEGIN:VTIMEZONE
TZID:Europe/Paris
BEGIN:DAYLIGHT
TZOFFSETFROM:+0100
TZOFFSETTO:+0200
TZNAME:CEST
DTSTART:20240331T010000
END:DAYLIGHT
BEGIN:STANDARD
TZOFFSETFROM:+0200
TZOFFSETTO:+0100
TZNAME:CET
DTSTART:20241027T010000
END:STANDARD
BEGIN:DAYLIGHT
TZOFFSETFROM:+0100
TZOFFSETTO:+0200
TZNAME:CEST
DTSTART:20250330T010000
END:DAYLIGHT
BEGIN:STANDARD
TZOFFSETFROM:+0200
TZOFFSETTO:+0100
TZNAME:CET
DTSTART:20251026T010000
END:STANDARD
BEGIN:DAYLIGHT
TZOFFSETFROM:+0100
TZOFFSETTO:+0200
TZNAME:CEST
DTSTART:20260329T010000
END:DAYLIGHT
BEGIN:STANDARD
TZOFFSETFROM:+0200
TZOFFSETTO:+0100
TZNAME:CET
DTSTART:20261025T010000
END:STANDARD
END:VTIMEZONE
BEGIN:VEVENT
DTSTART;TZID=Europe/Paris:20250506T180000
DTEND;TZID=Europe/Paris:20250506T203000
DTSTAMP:20260419T152640
CREATED:20250402T155405Z
LAST-MODIFIED:20250403T105757Z
UID:20934-1746554400-1746563400@biofoto.no
SUMMARY:Medlemsmøte i Biofoto Sørlandet
DESCRIPTION:Bildevisning ved Tarald Reinholt Aas: Fugl\, frosk og flagring. \nTema for månedens foto: Fugl. Frist for innlevering er 15. april kl. 21.00. \nFotografen med en apollosommerfugl fra Telemark. Foto: Tarald Reinholt Aas\n 
URL:https://biofoto.no/event/medlemsmote-i-biofoto-sorlandet/
LOCATION:Rådhuskvartalet\, Rådhusgata 18\, KRISTIANSAND
CATEGORIES:Sørlandet
END:VEVENT
BEGIN:VEVENT
DTSTART;TZID=Europe/Paris:20250507T190000
DTEND;TZID=Europe/Paris:20250507T210000
DTSTAMP:20260419T152640
CREATED:20241125T212522Z
LAST-MODIFIED:20250409T063927Z
UID:18959-1746644400-1746651600@biofoto.no
SUMMARY:Østlandet: medlemsmøte med Pål Brenne
DESCRIPTION:Frustrerende turer og oppturer \nFototurer  kan innholde litt av hvert. Pål tar oss med til noen av sine mest minneverdige turer med kamera:  blant annet en nødhjelpstur  til urfolk i Mexico med altfor få filmruller\, et komplisert oppdrag om å fotografere menneskehandel i Nepal\,  fotojakt på terner i Nordland og myrull med nogo attåt.  Noe frustrerende\, og noen usedvanlige oppturer.  Denne kvelden vil både utfordre\, overraske og begeistre. \nTema på konkurransen er: Vennskap \n     \nhttps://brennefoto.myportfolio.com/ \nPål
URL:https://biofoto.no/event/ostlandet-medlemsmote-7-mai-med-pal-brenne/
LOCATION:OsloMet Kjeller\, Kunnskapsveien 55\, Kjeller\, 2007\, Norway
CATEGORIES:Østlandet,Møter
ORGANIZER;CN="BioFoto %C3%98stlandet":MAILTO:ostlandet@biofoto.no
END:VEVENT
BEGIN:VEVENT
DTSTART;TZID=Europe/Paris:20250508T180000
DTEND;TZID=Europe/Paris:20250508T203000
DTSTAMP:20260419T152640
CREATED:20250125T204759Z
LAST-MODIFIED:20250125T204759Z
UID:19770-1746727200-1746736200@biofoto.no
SUMMARY:Biofoto Hordaland - Medlemsmøte
DESCRIPTION:Denne gangen skal vi møtes i klasserom 3001\, Åsane Kulturhus. \nTema er ikke endelig bestemt\, det vil være mulig å delta på Teams. \nVel møtt!
URL:https://biofoto.no/event/biofoto-hordaland-medlemsmote-3/
LOCATION:Åsane Kulturhus\, Åsane senter 52\, Bergen\, 5116\, Norway
CATEGORIES:Hordaland
END:VEVENT
BEGIN:VEVENT
DTSTART;VALUE=DATE:20250510
DTEND;VALUE=DATE:20250512
DTSTAMP:20260419T152640
CREATED:20250318T195535Z
LAST-MODIFIED:20250425T165608Z
UID:20685-1746835200-1747007999@biofoto.no
SUMMARY:Fototur til Sjodalen - landskap rund Sjoa - fuglefotografering
DESCRIPTION:ENDRING: Denne vinteren og våren har vært litt utenom det vanlige\, og vi må derfor gjøre noen endringer på fototuren til Sjodalen med Mogop på agendaen. Som dere sikkert har sett\, blomstret Mogopen for fullt i påsken\, og det meste av blomstringen vil være over om 2\,5 uker når vi skal på tur. I samråd med Rune Nilsson vil vi endre tema for turen. Vi planlegger med mer fokus på landskap i området ved Sjoa elven og omegn. Elva er nok ganske stor på det tidspunktet\, og kan gi grunnlag for mange fine bilder sammen med landskapet rundt. Det er også en del fugler i området\, men dette tar vi som en eventuell bonus og kan ikke love noen spesifikk art på forhånd . Rune vil gjøre en del rekognosering i tiden frem mot turen for å finne gode fotosteder. Så dette skal bli en fin tur\, Mogop eller ei! Vi møter opp på Randsverk camping (https://g.co/kgs/sKPU3Ts) lørdag kl. 1000 for felles gjennomgang av turen og deling av informasjon. Vi tar sikte på å fotografere både lørdagen og søndagen for de som ønsker. Det er flere muligheter for overnatting i området. Håper vi ses på fototur helgen 10.-11. mai i vakre Sjodalen!
URL:https://biofoto.no/event/fototur-til-sjodalen-pa-leting-etter-mogop/
LOCATION:Sjodalen
CATEGORIES:Innlandet
END:VEVENT
BEGIN:VEVENT
DTSTART;TZID=Europe/Paris:20250521T190000
DTEND;TZID=Europe/Paris:20250521T213000
DTSTAMP:20260419T152640
CREATED:20250318T200052Z
LAST-MODIFIED:20250510T080839Z
UID:20688-1747854000-1747863000@biofoto.no
SUMMARY:Innlandet: medlemsmøte med innlegg av Atle Sveen
DESCRIPTION:Velkommen til nytt medlemsmøte i Biofoto Innlandet! Kveldens innlegg er det Atle Sveen som står for. Ta en titt på hans nettside: https://www.atlesveen.com/nature-gallery\nMøtet vil kjøres både med fysisk oppmøte samt streaming via Teams. Alle foto nedenfor er tatt av Atle Sveen.
URL:https://biofoto.no/event/medlemsmote-med-innlegg-av-atle-sveen/
LOCATION:Ringsaker bibliotek\, Brumunddal\, 2380\, Norge
CATEGORIES:Innlandet
END:VEVENT
BEGIN:VEVENT
DTSTART;TZID=Europe/Paris:20250522T180000
DTEND;TZID=Europe/Paris:20250522T203000
DTSTAMP:20260419T152640
CREATED:20250125T205246Z
LAST-MODIFIED:20250125T205246Z
UID:19772-1747936800-1747945800@biofoto.no
SUMMARY:Biofoto Hordaland - Medlemsmøte
DESCRIPTION:Denne gangen møtes vi på klasserom 3001\, Åsane kulturhus. \nTema er ikke endelig bestemt. Det vil være mulig å delta på Teams. \nVel møtt til siste møte før sommeren! \n 
URL:https://biofoto.no/event/biofoto-hordaland-medlemsmote-4/
LOCATION:Åsane Kulturhus\, Åsane senter 52\, Bergen\, 5116\, Norway
CATEGORIES:Hordaland
END:VEVENT
BEGIN:VEVENT
DTSTART;VALUE=DATE:20250530
DTEND;VALUE=DATE:20250602
DTSTAMP:20260419T152640
CREATED:20250409T111405Z
LAST-MODIFIED:20260221T100313Z
UID:21019-1748563200-1748822399@biofoto.no
SUMMARY:Stjørdal Foto inviterer til Vårtreff 2025
DESCRIPTION:Stjørdal Foto inviterer deg til et spennende Foto Vårtreff 2025 på naturskjønne Dovrefjell Lodge! \nHer får du en helg fylt med inspirerende foredrag\, aktiviteter som Bird Walk og fantastiske naturopplevelser i en av Norges vakreste områder. Les mer her. \nBook opphold her: Dovrefjell Lodge og Bruk rabattkoden: STJØRDAL2025 \nEksklusive rabatter for deltakere: Som deltaker på Vårtreffet\, tilbyr vi en spesialrabatt på oppholdet på Dovrefjell Lodge! 25% rabatt på opphold når du bor to eller flere netter. Rabatt gjelder for hytter\, rom og camping. Tilbudet gjelder fra 25. mai til 7. juni 2025. Bruk rabattkoden: STJØRDAL2025\nRabattkoden kan legges inn ved bestilling under feltet “Jeg har en kode” for å få rabatten på oppholdet. Rabatt gjelder kun for overnatting\, ikke for mat og tilleggstjenester.
URL:https://biofoto.no/event/stjordal-foto-inviterer-til-vartreff-2025/
LOCATION:Dovrefjell Lodge\, Furuhauglie 80\, Dombås\, 2660\, Norway
CATEGORIES:Østlandet,Nasjonalt
ORGANIZER;CN="Stj%C3%B8rdal Foto":MAILTO:kundeservice@stjordalfoto.no
END:VEVENT
END:VCALENDAR