BEGIN:VCALENDAR
VERSION:2.0
PRODID:-//BioFoto - ECPv6.15.20//NONSGML v1.0//EN
CALSCALE:GREGORIAN
METHOD:PUBLISH
X-ORIGINAL-URL:https://biofoto.no
X-WR-CALDESC:Arrangement for BioFoto
REFRESH-INTERVAL;VALUE=DURATION:PT1H
X-Robots-Tag:noindex
X-PUBLISHED-TTL:PT1H
BEGIN:VTIMEZONE
TZID:Europe/Paris
BEGIN:DAYLIGHT
TZOFFSETFROM:+0100
TZOFFSETTO:+0200
TZNAME:CEST
DTSTART:20230326T010000
END:DAYLIGHT
BEGIN:STANDARD
TZOFFSETFROM:+0200
TZOFFSETTO:+0100
TZNAME:CET
DTSTART:20231029T010000
END:STANDARD
BEGIN:DAYLIGHT
TZOFFSETFROM:+0100
TZOFFSETTO:+0200
TZNAME:CEST
DTSTART:20240331T010000
END:DAYLIGHT
BEGIN:STANDARD
TZOFFSETFROM:+0200
TZOFFSETTO:+0100
TZNAME:CET
DTSTART:20241027T010000
END:STANDARD
BEGIN:DAYLIGHT
TZOFFSETFROM:+0100
TZOFFSETTO:+0200
TZNAME:CEST
DTSTART:20250330T010000
END:DAYLIGHT
BEGIN:STANDARD
TZOFFSETFROM:+0200
TZOFFSETTO:+0100
TZNAME:CET
DTSTART:20251026T010000
END:STANDARD
END:VTIMEZONE
BEGIN:VEVENT
DTSTART;TZID=Europe/Paris:20241010T190000
DTEND;TZID=Europe/Paris:20241010T210000
DTSTAMP:20260421T003432
CREATED:20240926T050643Z
LAST-MODIFIED:20241011T200548Z
UID:17815-1728586800-1728594000@biofoto.no
SUMMARY:Medlemsmøte i Biofoto Innlandet
DESCRIPTION:Medlemsmøte 10. oktober – foredrag med Arnfinn Johansen \nSted: Ringsaker bibliotek\, Brumunddal \nTid: 10. oktober kl. 1900  \nNaturfoto i Maasai Mara med Oltepesi Tented Safari Camp \n  \nI dette foredraget vil Arnfinn dele egne erfaringer knyttet til naturfotografering i Maasai Mara i Kenya. Foredraget er todelt: \nDet første temaet vil omhandle alt man kan lure på i forbindelse med en slik safari\, slik som hvordan man pakker og får med seg fotoutstyret på flyet\, booking av reise og detaljer rundt dette\, mulighet for kjentmann fra Oltepesi som tar i mot på Nairobi flyplass\, evt vaksiner man trenger\, innreisedokument (ETA)\, og andre praktiske forberedelser. Man vil også få info om hvordan man bor i egne safaritelt i Oltepesi\, måltider på savannen og middag i restaurantteltet i campen\, menyen (vegetarisk\, allergier osv)\, og annen praktisk info ift typisk døgnrytme\, lading av batterier\, laundry service osv. \n  \nDeretter vil Arnfinn vise hvordan fotograferingen foregår! Maasai Mara er jo alle naturfotografers drøm! Inntrykkene står i kø og overveldende\, og det er action og dyr overalt! Opplevelsen er så fantastisk at man nesten blir helt satt ut! Så hvordan kan man forberede seg best mulig fotomessig? Vi går gjennom ulike fotografiske “mål” man kan ha for safarien\, og ser på bilder som eksemplifiserer dette. Vi ser også på mulighetene som tilbys gjennom campens spesialbygde og åpne biler med mulighet for lavt perspektiv\, og hvordan man får hjelp av de spesialtrente Maasai guidene som er erfarne mht å jobbe med naturforfotografer.  \n  \nDialog underveis i foredraget er ønskelig! Tenk derfor gjerne gjennom spørsmål og/eller egne erfaringer man ønsker å dele! Vel møtt!
URL:https://biofoto.no/event/medlemsmote-i-biofoto-innlandet/
LOCATION:Ringsaker bibliotek\, Brumunddal\, 2380\, Norge
CATEGORIES:Innlandet
END:VEVENT
BEGIN:VEVENT
DTSTART;TZID=Europe/Paris:20241011T000000
DTEND;TZID=Europe/Paris:20241011T000000
DTSTAMP:20260421T003432
CREATED:20171017T081808Z
LAST-MODIFIED:20241011T202451Z
UID:3914-1728604800-1728604800@biofoto.no
SUMMARY:Lokallagsledermøte skype
DESCRIPTION:Skype møte kl. 19:00
URL:https://biofoto.no/event/lokallagsledermote-skype/
CATEGORIES:Sentralstyret
END:VEVENT
BEGIN:VEVENT
DTSTART;VALUE=DATE:20241011
DTEND;VALUE=DATE:20241014
DTSTAMP:20260421T003432
CREATED:20241009T165124Z
LAST-MODIFIED:20241009T165124Z
UID:18044-1728604800-1728863999@biofoto.no
SUMMARY:Fotohelg på Stave gård - Vanse - BFS
DESCRIPTION:Inkludert i prisen:\n*foredrag fredag og lørdag ved Carl-Erik Kilander og Sissel Kristiansen.\n*guiding\n*frokost\, niste\, og middag fredag kveld og lørdag kveld.\nMedlemmer kr 1100\,-. Ikke-medlemmer kr 1500\,-. \nOppmøte fredag kl. 18.00 – 18.30. \n(Helga er fullbooket)
URL:https://biofoto.no/event/fotohelg-pa-stave-gard-vanse-bfs/
LOCATION:Stave gård\, Vanse\, Stave\, Vanse\, Agder\, 4560\, Norway
CATEGORIES:Sørlandet
ORGANIZER;CN="BioFoto S%C3%B8rlandet":MAILTO:biofotosorlandet1@gmail.com
END:VEVENT
BEGIN:VEVENT
DTSTART;TZID=Europe/Paris:20241012T110000
DTEND;TZID=Europe/Paris:20241012T133000
DTSTAMP:20260421T003432
CREATED:20240907T055539Z
LAST-MODIFIED:20241011T200539Z
UID:17599-1728730800-1728739800@biofoto.no
SUMMARY:Tur til Alvøen - Biofoto Hordaland
DESCRIPTION:Lørdag 12 Oktober blir det tur til Alvøen. Dette er en liten perle med mange fine fotomuligheter. Ingen påmelding\, nærmere detaljer om tid og sted for oppmøte kommer senere. \nTurleder er Roald Anfinsen \nBli med på tur! \n 
URL:https://biofoto.no/event/tur-til-alvoen-biofoto-hordaland/
LOCATION:Alvøen\, Alvøveien 150\, Bergen\, Vestland\, 5179\, Norway
CATEGORIES:Hordaland
END:VEVENT
BEGIN:VEVENT
DTSTART;TZID=Europe/Paris:20241015T190000
DTEND;TZID=Europe/Paris:20241015T213000
DTSTAMP:20260421T003432
CREATED:20241009T173537Z
LAST-MODIFIED:20241009T190305Z
UID:18052-1729018800-1729027800@biofoto.no
SUMMARY:Fotokveld - Kulturuka i Vennesla
DESCRIPTION:BioFoto Sørlandet samarbeider med Vennesla Film & Naturfotoklubb om en fotokveld i Vennesla Kulturhus under Kulturuka i Vennesla. Vi får besøk av selveste Tobias Gjerde. Tobias er en virkelig stjerne i naturfotomiljøet\, og dette vil bli en fantastisk fotokveld. Arrangementet er offentlig og åpent for alle! \nDørene åpner kl. 18.00. Arrangementet starter kl. 19.00. \nMedlemmer av BioFoto Sørlandet og Vennesla Film & Naturfotoklubb gratis inngang.\nIkke-medlemmer kr 50\,-.\nServering av kaffe og kaker\, og naturfotomagasinet “Naturfotografen” (medlemsbladet til BioFoto) får du inkludert. \n  \n \nKort om foredraget “Villmarkens stemninger”\nNaturfotografering er en forenkling av den mektige villmarken. Bortsett fra synet\, er alle andre sanseinntrykk strippet bort\, og bilder mangler ofte kontekst. Dermed kan det fort bli et todimensjonalt uttrykk. Men ved å fange villmarkens unike stemninger\, kan vi gjenskape selve kjernen av naturopplevelsen – hva vi følte da vi trykket på utløseren. I dette foredraget inviterer jeg ut i snøstorm på snaufjellet\, til soloppgang ved tjernet og skumring i gammelskogen. Med bilder og video\, tar jeg dere med ut i villmarken for å oppleve dens magiske stemninger. \n\n\n\n\n\nOm Tobias Gjerde  \nJeg heter Tobias Gjerde og er en 20 år gammel naturfotograf. Så lenge jeg kan huske har jeg oppsøkt naturen så ofte som mulig – med kameraet ved min side. Jeg synes det er vel så spennende å oppdage originale og kreative måter å fotografere vanligere dyrearter\, som det er å oppleve mer sky og uvanlige arter i søkeren. Gjennom bildene mine ønsker jeg å forevige og dele naturopplevelser\, fange naturens ubeskrivelige skjønnhet\, samt belyse viktigheten av å ivareta det siste vi har av sann villmark.
URL:https://biofoto.no/event/fotokveld-kulturuka-i-vennesla/
LOCATION:Vennesla kino\, Venneslamoen 19\, Vennesla\, Agder\, 4700\, Norway
CATEGORIES:Nasjonalt,Sørlandet
ORGANIZER;CN="BioFoto S%C3%B8rlandet":MAILTO:biofotosorlandet1@gmail.com
END:VEVENT
BEGIN:VEVENT
DTSTART;VALUE=DATE:20241017
DTEND;VALUE=DATE:20241018
DTSTAMP:20260421T003432
CREATED:20240929T073102Z
LAST-MODIFIED:20240929T073102Z
UID:17823-1729123200-1729209599@biofoto.no
SUMMARY:Naturfotodag 17. oktober under Stavanger fotos fotomesse
DESCRIPTION:Tradisjon tro dedikerer Stavanger foto en hel dag til naturfoto i samarbeid med BioFoto Rogaland under deres årlige fotomesse. Ta derfor en særlig kikk på programmet torsdag 17. oktober! Det vil også være innslag av naturfoto de øvrige dagene under fotomessa. Fullt program finner du på: Fotomesse 2024 – Stavanger foto \nOktober-konkurransen er åpen for innsending av bilder tom 13. oktober. Vinneren blir kjent 17. oktober kl. 18.30\, men blir denne gangen kun annonsert digitalt.
URL:https://biofoto.no/event/naturfotodag-17-oktober-under-stavanger-fotos-fotomesse/
LOCATION:Stavanger Foto\, Sjøhagen 11\, Stavanger
CATEGORIES:Rogaland
END:VEVENT
BEGIN:VEVENT
DTSTART;TZID=Europe/Paris:20241017T180000
DTEND;TZID=Europe/Paris:20241017T200000
DTSTAMP:20260421T003432
CREATED:20240907T061241Z
LAST-MODIFIED:20240930T195329Z
UID:17606-1729188000-1729195200@biofoto.no
SUMMARY:Kurs i Capture One - Biofoto Hordaland
DESCRIPTION:Torsdag 17 Oktober blir det kurs i Capture One\, ved Anders Lundberg. Capture One er meget kraftig verktøy til å redigere bildene dine\, og blir regnet som et fullgodt alternativ til Lightroom. \nOm du er ny i bilderedigering\, eller bare nysgjerrig på et nytt redigeringsprogram\, er dette kurset for deg! For å ha fullt utbytte av kurset er det viktig at du tar med egen PC med Capture One installert. \nKurset er i klasserom 1050 i Åsane Kulturhus. Maks 15 deltagere\, påmelding til Per Ivar (tyttis@online.no) \nVel møtt!
URL:https://biofoto.no/event/kurs-i-capture-one-biofoto-hordaland/
LOCATION:Åsane kulturhus\, Klasserom 1050\, Åsane senter 52\, Bergen\, Vestland\, 5116\, Norway
CATEGORIES:Hordaland
END:VEVENT
BEGIN:VEVENT
DTSTART;TZID=Europe/Paris:20241021T190000
DTEND;TZID=Europe/Paris:20241021T210000
DTSTAMP:20260421T003432
CREATED:20241015T110237Z
LAST-MODIFIED:20241017T164150Z
UID:18237-1729537200-1729544400@biofoto.no
SUMMARY:Online kurs med Fredrik Strømme for Biofoto Innlandet; bruk av Adobe Lightroom
DESCRIPTION:Ta kontakt på innlandet@biofoto.no for påmelding til kurset.
URL:https://biofoto.no/event/online-kurs-med-fredrik-stromme-bruk-av-adobe-lightroom/
CATEGORIES:Innlandet
END:VEVENT
BEGIN:VEVENT
DTSTART;TZID=Europe/Paris:20241024T180000
DTEND;TZID=Europe/Paris:20241024T210000
DTSTAMP:20260421T003432
CREATED:20241011T203251Z
LAST-MODIFIED:20241219T204739Z
UID:18173-1729792800-1729803600@biofoto.no
SUMMARY:Østlandet: online kurs i Lightroom - 24. oktober med Fredrik Strømme
DESCRIPTION:Online kurs i Lightroom\nVi er så heldige å fått den dyktige kursholderen Fredrik Strømme til å ha kurs i Lightroom for medlemmer i BioFoto Østlandet. \n\nDato: 24. oktober kl 18.00 til 21.00\nFrist for påmelding er fredag18. oktober kl 12.00\nPris kr 100\,- pr person (max 20 personer)\nKurset vil foregå digitalt via Zoom og alle som er med på kurset vil få tilgang til å laste ned kurset i sin helhet etter kurskvelden\n\nBindende påmelding ved utføring av punkt 1 og 2 under \n\nRegistrer deg ved å klikke på RSVP linken under (kun for innloggede medlemmer)\nBetal 100kr via VIPPS #536728 til Biofoto Østlandet\n\nHva vil du lære?\nDette er et grunnleggende kurs hvor du vil få en innføring i de vanligste og mest brukte verktøyene i Lightroom Classic. Du trenger ingen Lightroom kunnskaper fra før\, men er nysgjerrig på hva dette programmet har å tilby. Kurset skjer på Zoom og du vil få en innloggingslenke før kurset starter. Og du trenger ikke Zoom konto eller abonnement for å logge inn på lenka. Da vil du kunne følge med på min skjerm\, samtidig som jeg forklarer. Og det vil være muligheter for å stille spørsmål underveis. \nDette vil du få innføring i\n\nGod forståelse for hvordan Lightroom behandler bildene på en veldig sikker måte ved å ta i bruk katalog. Katalogen er selve “hjernen” til Lightroom.\nTips til hvordan man organiserer bildene på harddisk eller ekstern harddisk\, for en ekstra oversiktlig Lightroom.\nHvordan importere bilder\, samt ulike ekstra valg man kan gjøre i forbindelse med det.\nOrganisering og sortering av importerte bilder ved bruk av samlinger\, som er den beste metoden for et oversiktlig system på bildene. Og du vil få gode råd på hvordan man setter de opp slik at du vil ha veldig god kontroll på hvor ulike bilder befinner seg.\nHvordan skille ut bilder man er godt fornøyd med og bilder man er mindre fornøyd med i samlingene\, slik at det også er organisert på en ryddig måte.\nBruk av plukkflagg\, vurderinger\, fargeetiketter og grupperinger. Dette er verktøy som gjør organiseringen enda mer oversiktlig.\nLegge søkeord på bildene og forandre filnavn\, for å gjøre de lettere søkbar.\nUlike metoder for å bruke søkeverktøyet.\nHvordan automatisere enkelte prosesser i organiseringen ved bruk av smarte verktøy.\nGjennomgang av alle glidebrytere man bruker i forbindelse med redigering.\nVerktøy som bruker kunstig intelligens.\nBeskjæring av bilder\, og hvordan bruke dette verktøyet på en optimal måte med tanke på komposisjon.\nHvordan fjerne uønskede element.\nUlike metoder for maskering. Maskering er en teknikk hvor man gjør redigering kun på en utvalgt del av bildet. Du vil lære å maskere alt fra større deler av bildet og helt ned til små detaljer som iris i øyet\, med veldig enkle grep.\nEksport av bilder.\n\nHilsen Styret i BioFoto Østlandet \nPåmelding her gjennom BioFoto Østlandets nettside.
URL:https://biofoto.no/event/18173/
LOCATION:Online
CATEGORIES:Østlandet,Kurs
ORGANIZER;CN="BioFoto %C3%98stlandet":MAILTO:ostlandet@biofoto.no
END:VEVENT
BEGIN:VEVENT
DTSTART;TZID=Europe/Paris:20241025T163000
DTEND;TZID=Europe/Paris:20241026T180000
DTSTAMP:20260421T003432
CREATED:20240902T100622Z
LAST-MODIFIED:20241009T153459Z
UID:17420-1729873800-1729965600@biofoto.no
SUMMARY:Midt-Norske NaturFotodager 2024
DESCRIPTION:
URL:https://biofoto.no/event/midt-norske-naturfotodager-2024/
LOCATION:Stokkan ungdomsskole\, Stokkanvegen 13\, Stjørdal\, 7507\, Norway
CATEGORIES:Midt-Norge,Nasjonalt
END:VEVENT
BEGIN:VEVENT
DTSTART;TZID=Europe/Paris:20241027T100000
DTEND;TZID=Europe/Paris:20241027T150000
DTSTAMP:20260421T003433
CREATED:20241011T203656Z
LAST-MODIFIED:20241011T203656Z
UID:18178-1730023200-1730041200@biofoto.no
SUMMARY:Trolldalen og Trolldalsåsen 27. oktober
DESCRIPTION:Trolldalsåsen og Trolldalen er et naturskjønt område med store kontraster i landskapet. Området har store naturverdier og opplevelseskvaliteter for friluftslivet. Bortsett fra den nederste delen av Trolldalen\, inngår Trolldalsåsen og Trolldalen i Østmarka nasjonalpark. \nSom navnet tyder på\, er Trolldalen både vill og trolsk. Øverst i Trolldalen finnes Dryppet\, en spesiell foss som tilsynelatende kommer ut av en fjellvegg. Oppe på platået er det rolige landskapsformer med to myrer. Trolldalsåsen er på 284 moh.\, og like øst for toppen finner vi et av Østmarkas fineste utsiktspunkt med en markert varde. Vegetasjonen er dominert av furuskog som preger områdene rundt myrene og på de tørrere kollene. I de mer fuktige drågene\, og i Trolldalen\, dominerer granskogen. I store deler av området er skogen mellom 80-120 år gammel (naturskog)\, og på åsryggene er det mange spennende og krokete furutrær. \n\n			\n				\n			\n				\n				Trolldalen i Østmarka. Foto: Nils Olaf Thonvald\n				\n			\n				\n			\n				\n				Dryppet i Østmarka. Foto: Nils Olaf Thonvald\n				\n		\n\nDet er muligheter for spennende skogsinteriørbilder og mer nære motiver. Det er noe fugler i området\, også svartspett. Fuglene er generelt vanskelig å ta bilde av i skogen. \nDet kan være både vått og kronglete å komme seg frem å området. Ta på godt og vanntett fottøy og gode turklær. Stativ og filter (grå\, pola) er lurt å ta med. Matpakke. Sitteunderlag. Tørre sko og sokker er lurt å ha i bilen. \nTrolldalen er ganske kupert.\nFremmøte søndag 27. oktober kl 10.00 innerst på parkeringsplassen innenfor Skullerud skole (samme avkjøring som til skolen). Her er parkeringa på Google maps. Vi møtes ved foten av gangveien. Turen inn går forbi Rustasaga sportsstue og videre på god skogsvei\, frem til Trolldalen\, 30-40 min (2\,3 km fra Parkeringen til Trolldalen) å gå. Videre går turen med div fotostopp opp Trolldalen og Trolldalsåsen. \nTurleder Nils Olaf Thonvald\, mob 48008662.
URL:https://biofoto.no/event/trolldalen-og-trolldalsasen-27-oktober/
LOCATION:Trolldalen
CATEGORIES:Østlandet
ORGANIZER;CN="BioFoto %C3%98stlandet":MAILTO:ostlandet@biofoto.no
END:VEVENT
BEGIN:VEVENT
DTSTART;TZID=Europe/Paris:20241030T190000
DTEND;TZID=Europe/Paris:20241030T203000
DTSTAMP:20260421T003433
CREATED:20241007T092028Z
LAST-MODIFIED:20241007T092028Z
UID:17919-1730314800-1730320200@biofoto.no
SUMMARY:Foredrag Pål Brenne "Pust og påfyll"
DESCRIPTION:🎈 \n“Pust og påfyll” bilder til forfriskning av hverdagen. Pål Brenne er naturfotograf\, prest og redaktør i BioFotos blad Naturfotografen. Han viser bilder fra sitt nærmiljø på Romerike. Bilder som er forfriskende for ham å ta og for oss å se og høre historiene rundt.
URL:https://biofoto.no/event/foredrag-pal-brenne-pust-og-pafyll/
LOCATION:Misjonskirka Bodø\, Storgata 70\, Bodø\, 8006\, Norway
CATEGORIES:Nordland
END:VEVENT
BEGIN:VEVENT
DTSTART;TZID=Europe/Paris:20241031T180000
DTEND;TZID=Europe/Paris:20241031T210000
DTSTAMP:20260421T003433
CREATED:20241011T203857Z
LAST-MODIFIED:20241219T204747Z
UID:18183-1730397600-1730408400@biofoto.no
SUMMARY:Østlandet: online kurs i Photoshop – 31. oktober med Fredrik Strømme
DESCRIPTION:Online kurs i Photoshop\nVi er så heldige å fått den dyktige kursholderen Fredrik Strømme til å ha kurs i Photoshop for medlemmer i BioFoto Østlandet. \n\nDato: 31. oktober kl 18.00 til 21.00\nFrist for påmelding er fredag 25. oktober kl 12.00\nPris kr 100\,- pr person (max 20 personer)\nKurset vil foregå digitalt via Zoom og alle som er med på kurset vil få tilgang til å laste ned kurset i sin helhet etter kurskvelden\n\nBindende påmelding ved utføring av punkt 1 og 2 under \n\nRegistrer deg ved å klikke på RSVP linken under (kun for innloggede medlemmer)\nBetal 100kr via VIPPS #536728 til Biofoto Østlandet\n\nHva vil du lære?\nDette er et grunnleggende kurs hvor du vil få en innføring i de vanligste og mest brukte verktøyene i Photoshop. Du trenger ingen Photoshop kunnskaper fra før\, men er nysgjerrig på hva dette programmet har å tilby. Etter kurset vil du ha kunnskap om alt fra enkle fargejusteringer til komplekse maskeringer. Samt fått innføring i ulike kunstig intelligens verktøy. Dette er en veldig spennende teknologi som gjør at det som før var avanserte øvelser\, nå enkelt kan gjøres etter et grunnleggende kurs. Slik at du vil være i stand til å utføre oppgaver man tidligere trengte stor erfaring for å få til. \nDette vil du få innføring i\n\nLag (Layers). Dette er Photoshop sitt viktigste verktøy og vil bli brukt gjennom hele kurset.\nJusteringslag (Adjustment layers). Dette er spesial lag som gjør at du kan forandre farger\, fargemetning\, lys\, kontrast med mer.\nHvordan klippe ut fra et bilde og sette det inn i et annet ved å bruke et verktøy som heter smart objects.\nBruk av (Transform) verktøy for å justere størrelse.\nLag effekter (Layer Effects). Disse brukes for å legge til skygge\, glød\, tekstur med mer.\nUlike metoder for å fjerne uønskede og sette inn ønskede elementer\, blant annet ved bruk av kunstig intelligens.\nGjennomgang av de mest brukte verktøyene som flytteverktøy\, markeringsverktøy\, tekstverktøy med mer.\nUlike metoder for maskering. Fra enkel til mer kompleks maskering\, som for eksempel hår.\nHvordan maskere ut et objekt med et eneste museklikk.\nBytte himmel ved bruk av kunstig intelligens\, også med kun et museklikk.\nKunstig intelligens filter.\nKort om bruk av pensler (Brush).\nKort om klargjøring for utskrift (Print).\nKlargjøring for sosiale medier.\nGjennom hele kurset vil du lære ulike snarveier som gjør arbeidsflyten bedre.\n\nHilsen Styret i BioFoto Østlandet \nPåmelding her gjennom BioFoto Østlandets nettside.
URL:https://biofoto.no/event/online-kurs-i-photoshop-31-oktober-med-fredrik-stromme/
LOCATION:Online
CATEGORIES:Østlandet,Kurs
ORGANIZER;CN="BioFoto %C3%98stlandet":MAILTO:ostlandet@biofoto.no
END:VEVENT
END:VCALENDAR