BEGIN:VCALENDAR
VERSION:2.0
PRODID:-//BioFoto - ECPv6.15.20//NONSGML v1.0//EN
CALSCALE:GREGORIAN
METHOD:PUBLISH
X-WR-CALNAME:BioFoto
X-ORIGINAL-URL:https://biofoto.no
X-WR-CALDESC:Arrangement for BioFoto
REFRESH-INTERVAL;VALUE=DURATION:PT1H
X-Robots-Tag:noindex
X-PUBLISHED-TTL:PT1H
BEGIN:VTIMEZONE
TZID:Europe/Paris
BEGIN:DAYLIGHT
TZOFFSETFROM:+0100
TZOFFSETTO:+0200
TZNAME:CEST
DTSTART:20180325T010000
END:DAYLIGHT
BEGIN:STANDARD
TZOFFSETFROM:+0200
TZOFFSETTO:+0100
TZNAME:CET
DTSTART:20181028T010000
END:STANDARD
BEGIN:DAYLIGHT
TZOFFSETFROM:+0100
TZOFFSETTO:+0200
TZNAME:CEST
DTSTART:20190331T010000
END:DAYLIGHT
BEGIN:STANDARD
TZOFFSETFROM:+0200
TZOFFSETTO:+0100
TZNAME:CET
DTSTART:20191027T010000
END:STANDARD
BEGIN:DAYLIGHT
TZOFFSETFROM:+0100
TZOFFSETTO:+0200
TZNAME:CEST
DTSTART:20200329T010000
END:DAYLIGHT
BEGIN:STANDARD
TZOFFSETFROM:+0200
TZOFFSETTO:+0100
TZNAME:CET
DTSTART:20201025T010000
END:STANDARD
END:VTIMEZONE
BEGIN:VEVENT
DTSTART;TZID=Europe/Paris:20190404T180000
DTEND;TZID=Europe/Paris:20190404T210000
DTSTAMP:20260419T220728
CREATED:20190322T142130Z
LAST-MODIFIED:20241011T200936Z
UID:6866-1554400800-1554411600@biofoto.no
SUMMARY:Foredrag og Medlemsmøte Indre Østland
DESCRIPTION:BioFoto Indre Østland årsmøte.\nBioFoto Indre Østland holder årsmøte 4. april kl. 1800 på biblioteket i Brumunddal. \nMøte innledes med et åpent foredrag i samarbeid med biblioteket. Øyvind Antonsen holder det samme foredraget som han holdt på NNFF i år. \nhttps://www.ringsaker.kommune.no/droemmen-om-kolyma.6205909-448935.html?fbclid=IwAR2zycVZ6S7G0eRGynuNEaZHr5751nVkoFyvpRg4wkUyY7iunGBRr57NyVY \n 
URL:https://biofoto.no/event/foredrag-og-medlemsmote-indre-ostland/
CATEGORIES:Innlandet
ATTACH;FMTTYPE=image/jpeg:https://biofoto.no/wp-content/uploads/2019/03/Oyvind-antonsen-1.jpg
END:VEVENT
BEGIN:VEVENT
DTSTART;VALUE=DATE:20190410
DTEND;VALUE=DATE:20190411
DTSTAMP:20260419T220728
CREATED:20190128T190216Z
LAST-MODIFIED:20241011T200932Z
UID:6445-1554854400-1554940799@biofoto.no
SUMMARY:BioFoto Hordaland Kurs
DESCRIPTION:Kurs:\n– 10. april. Blits i naturen. Hvordan bruke blits som hovedlyskilde\, som utfyllingsblits\, og\nmed synkronisering på andre lukkergardin? Bruk av én blits og flere sammen. Kursleder:\nAnders Lundberg. Vi begynner med en teoridel inne. Etterpå går vi til Muséhagen\, kanskje\nogså Smålungeren for å teste ulike blitsfunksjoner. Ta med kamera og blits. \nTurer:\n– Tur til Dalen 28. februar – 03. mars\, tema kongeørn. Plass til seks fotografer. To skjul med\ntre fotografer i hver. Vi ønsker å prioritere medlemmer som ikke har vært med på kongeørn i\nDalen før. De første som melder seg som ikke har vært med før får plass. De som har vært\nmed før\, får plass i den grad det ikke er nye som melder seg. Pris: kr 1900/pers/dag\, inkl leie\nav skjul\, transport med skuter til og fra skjul\, overnatting i hus\, frokost\, nistemat og middag.\nKjøring kommer i tillegg\, vi deler på utgiftene. \n– Tur med Vicki Santello i Bergensområdet 17. mars. \n– Tur til Raudlia i Os 24. april. Kjør til Søfteland og ta inn Gåssandvegen. \n– Tur til Rambjøra og Myravatnet landskapsvernområde i Fana 29. mai. Tema: orkidéer\,\nramsløk o.a. vårplanter. Passende objektiver: makro\, vidvinkel (vårblomster)\, en tele på \nlurkan også gå an\, det er et rikt fugleliv i området. Ta gjerne med en duk eller noe til å ligge på\nså får du lavt perspektiv. Parkering på p-plass i Sandbrekkevegen. \n– Landstreff i Rogaland\, 31. mai – 2. juni. Mer info kommer. \n– Tur til Runde 13-16. juni. Vi leier et hus i Runde havn som vi har for oss selv. \n– Tur til Botanisk Hage på Store Milde 30. juni \n– Øyenstikkere i august. Det blir en ettermiddags-/kveldstur i Bergensområdet\, en ukedag. Vi\nkommer tilbake til tid og sted.
URL:https://biofoto.no/event/biofoto-hordaland-kurs/
CATEGORIES:Hordaland
END:VEVENT
BEGIN:VEVENT
DTSTART;VALUE=DATE:20190424
DTEND;VALUE=DATE:20190425
DTSTAMP:20260419T220728
CREATED:20190128T191421Z
LAST-MODIFIED:20241011T200928Z
UID:6453-1556064000-1556150399@biofoto.no
SUMMARY:BioFoto Hordaland
DESCRIPTION:– Tur til Raudlia i Os 24. april. Kjør til Søfteland og ta inn Gåssandvegen. \n– Tur til Rambjøra og Myravatnet landskapsvernområde i Fana 29. mai. Tema: orkidéer\,\nramsløk o.a. vårplanter. Passende objektiver: makro\, vidvinkel (vårblomster)\, en tele på \nlurkan også gå an\, det er et rikt fugleliv i området. Ta gjerne med en duk eller noe til å ligge på\nså får du lavt perspektiv. Parkering på p-plass i Sandbrekkevegen. \n– Landstreff i Rogaland\, 31. mai – 2. juni. Mer info kommer. \n– Tur til Runde 13-16. juni. Vi leier et hus i Runde havn som vi har for oss selv. \n– Tur til Botanisk Hage på Store Milde 30. juni \n– Øyenstikkere i august. Det blir en ettermiddags-/kveldstur i Bergensområdet\, en ukedag. Vi\nkommer tilbake til tid og sted.
URL:https://biofoto.no/event/biofoto-hordaland-3/
CATEGORIES:Hordaland
ATTACH;FMTTYPE=image/jpeg:https://biofoto.no/wp-content/uploads/2019/01/dandelion-445228_1920.jpg
END:VEVENT
END:VCALENDAR