BEGIN:VCALENDAR
VERSION:2.0
PRODID:-//BioFoto - ECPv6.15.20//NONSGML v1.0//EN
CALSCALE:GREGORIAN
METHOD:PUBLISH
X-WR-CALNAME:BioFoto
X-ORIGINAL-URL:https://biofoto.no
X-WR-CALDESC:Arrangement for BioFoto
REFRESH-INTERVAL;VALUE=DURATION:PT1H
X-Robots-Tag:noindex
X-PUBLISHED-TTL:PT1H
BEGIN:VTIMEZONE
TZID:Europe/Paris
BEGIN:DAYLIGHT
TZOFFSETFROM:+0100
TZOFFSETTO:+0200
TZNAME:CEST
DTSTART:20180325T010000
END:DAYLIGHT
BEGIN:STANDARD
TZOFFSETFROM:+0200
TZOFFSETTO:+0100
TZNAME:CET
DTSTART:20181028T010000
END:STANDARD
BEGIN:DAYLIGHT
TZOFFSETFROM:+0100
TZOFFSETTO:+0200
TZNAME:CEST
DTSTART:20190331T010000
END:DAYLIGHT
BEGIN:STANDARD
TZOFFSETFROM:+0200
TZOFFSETTO:+0100
TZNAME:CET
DTSTART:20191027T010000
END:STANDARD
BEGIN:DAYLIGHT
TZOFFSETFROM:+0100
TZOFFSETTO:+0200
TZNAME:CEST
DTSTART:20200329T010000
END:DAYLIGHT
BEGIN:STANDARD
TZOFFSETFROM:+0200
TZOFFSETTO:+0100
TZNAME:CET
DTSTART:20201025T010000
END:STANDARD
END:VTIMEZONE
BEGIN:VEVENT
DTSTART;VALUE=DATE:20190213
DTEND;VALUE=DATE:20190214
DTSTAMP:20260419T185530
CREATED:20190128T184930Z
LAST-MODIFIED:20241011T201237Z
UID:6433-1550016000-1550102399@biofoto.no
SUMMARY:Biofoto Hordaland
DESCRIPTION:Biofoto Hordaland 2019\nMøter:\n– 13. februar: Jan Rabben: Stabling i praksis + småfugler i nærmiljø med vekt på fluktbilder.\nJan har lang erfaring med stabling (på engelsk: stacking)\, og på dette møtet viser han hvordan\ndet fungerer i praksis. Hva må til for å bruke denne funksjonen? Noen kameraer har\nfunksjonen innebygd\, andre ikke\, men du kan stable likevel. Hvilken programvare er best? I\nden andre delen av foredraget vil Jan vise bilder av småfugler som trekryper o.a.\, og hvordan\nhan forsøker å få bilder av dem i flukt. \n– 27. mars. Vicki Santello: Natural Wonders of North America. Vicki er en amerikansk\nnaturfotograf fra New York\, bosatt i Florida. Hun har en omfattende naturfotoerfaring fra\nstore deler av Nord-Amerika\, fra sør til nord (Alaska)\, og fra øst (North Carolina) til vest.\nHennes bilder har vunnet flere priser\, og nå kommer hun til Bergen! \nJubileumsmarkering i mars. Biofoto Hordaland er 5 år:\n– Jubileumsmiddag på Nøsteboden 9. mars\n– Utstilling i Byparken \nKurs:\n– 10. april. Blits i naturen. Hvordan bruke blits som hovedlyskilde\, som utfyllingsblits\, og\nmed synkronisering på andre lukkergardin? Bruk av én blits og flere sammen. Kursleder:\nAnders Lundberg. Vi begynner med en teoridel inne. Etterpå går vi til Muséhagen\, kanskje\nogså Smålungeren for å teste ulike blitsfunksjoner. Ta med kamera og blits. \nTurer:\n– Tur til Dalen 28. februar – 03. mars\, tema kongeørn. Plass til seks fotografer. To skjul med\ntre fotografer i hver. Vi ønsker å prioritere medlemmer som ikke har vært med på kongeørn i\nDalen før. De første som melder seg som ikke har vært med før får plass. De som har vært\nmed før\, får plass i den grad det ikke er nye som melder seg. Pris: kr 1900/pers/dag\, inkl leie\nav skjul\, transport med skuter til og fra skjul\, overnatting i hus\, frokost\, nistemat og middag.\nKjøring kommer i tillegg\, vi deler på utgiftene. \n– Tur med Vicki Santello i Bergensområdet 17. mars. \n– Tur til Raudlia i Os 24. april. Kjør til Søfteland og ta inn Gåssandvegen. \n– Tur til Rambjøra og Myravatnet landskapsvernområde i Fana 29. mai. Tema: orkidéer\,\nramsløk o.a. vårplanter. Passende objektiver: makro\, vidvinkel (vårblomster)\, en tele på \nlurkan også gå an\, det er et rikt fugleliv i området. Ta gjerne med en duk eller noe til å ligge på\nså får du lavt perspektiv. Parkering på p-plass i Sandbrekkevegen. \n– Landstreff i Rogaland\, 31. mai – 2. juni. Mer info kommer. \n– Tur til Runde 13-16. juni. Vi leier et hus i Runde havn som vi har for oss selv. \n– Tur til Botanisk Hage på Store Milde 30. juni \n– Øyenstikkere i august. Det blir en ettermiddags-/kveldstur i Bergensområdet\, en ukedag. Vi\nkommer tilbake til tid og sted.
URL:https://biofoto.no/event/6433/
CATEGORIES:Hordaland
ATTACH;FMTTYPE=image/jpeg:https://biofoto.no/wp-content/uploads/2019/01/dandelion-445228_1920.jpg
END:VEVENT
BEGIN:VEVENT
DTSTART;VALUE=DATE:20190222
DTEND;VALUE=DATE:20190225
DTSTAMP:20260419T185530
CREATED:20190114T211536Z
LAST-MODIFIED:20241011T201232Z
UID:6250-1550793600-1551052799@biofoto.no
SUMMARY:Medlemstur/Årsmøte i Nordland 22.-24. Februar
DESCRIPTION:Godt nytt år alle sammen. Nå er vi i gang igjen med nye foto-opplevelser i Nordland.Første tur i år går til Saltstraumen. Vi har reservert 4 hytter ved Saltstraumen Hotell. \nHer er det bare å begynne og glede seg. Rett utenfor Bodø finner du verdens-attraksjonen Saltstraumen. \nHer kan du se informasjon på vår nettside BioFoto Nordland \n  \nRett utenfor Bodø finner du verdens-attraksjonen\nSaltstraumen. For det er her\, rett nord for Polarsirkelen\, at du finner verdens sterkeste\nmalstrøm. Saltstraumen er valgt ut som et av The Wild Wonders of Europe\, som er et\nsamarbeid mellom National Geographic og WWF. Her er det et rikt fugleliv. Fugler som\nærfugl\, skarv og havørn er spesielt tallrik i området. Det er fantastiske fjell og bergformasjoner\nsom begeistrer selv geologer. Naturen byr også på elg\, rådyr\, rev\, oter\, sel og niser. Det er\nmange flotte plasser for foto-opplevelser i nærområdet. Her kan du sikre deg flotte dyrebilder\nog unike landskapsbilder. \n 
URL:https://biofoto.no/event/medlemstur-arsmote-i-nordland-22-februar/
LOCATION:Saltstraumen\, Saltstraumen\, 8056\, Norge
CATEGORIES:Nordland
ATTACH;FMTTYPE=image/jpeg:https://biofoto.no/wp-content/uploads/2019/01/saltstraumen-Foto-Tommy-Andreassern-2706.jpg
END:VEVENT
BEGIN:VEVENT
DTSTART;TZID=Europe/Paris:20190226T183000
DTEND;TZID=Europe/Paris:20190226T210000
DTSTAMP:20260419T185530
CREATED:20190215T095839Z
LAST-MODIFIED:20241011T201228Z
UID:6542-1551205800-1551214800@biofoto.no
SUMMARY:Medlemsmøte i BioFoto Midt-Norge 26. februar
DESCRIPTION:På møteagendaen står følgende punkter: \n\nHovedforedrag: “Drømmetur til Peru og Galapagos” ved Unn Marit Forbregd og Solveig Rinnan Sundt\nMedlemmenes bilder: “Snøaper i Japan” ved Ståle Ertzgaard\nDagens tips: Gode råd om fuglefotografering ved Tor Omnes\nDagens framsnakk: Informasjon om neste landstreff i BioFoto+ rapport og bilder fra forrige landstreff ved Knut Inge Røstad\nBildekritikk: To medlemmer gir sine synspunkter på fem bilder som medlemmene har sendt inn til dette punktet\n\nMvh\nSolveig Rinnan Sundt
URL:https://biofoto.no/event/medlemsmote-i-biofoto-midt-norge-26-februar/
LOCATION:Suhmhuset\, Elvegata 6\, Trondheim\, Norge
CATEGORIES:Midt-Norge
ATTACH;FMTTYPE=image/jpeg:https://biofoto.no/wp-content/uploads/2019/02/049_PA030171.jpg
END:VEVENT
BEGIN:VEVENT
DTSTART;VALUE=DATE:20190228
DTEND;VALUE=DATE:20190304
DTSTAMP:20260419T185530
CREATED:20190128T190854Z
LAST-MODIFIED:20241011T201220Z
UID:6447-1551312000-1551657599@biofoto.no
SUMMARY:BioFoto Hordaland Ørnetur til Dalen
DESCRIPTION:Tur til Dalen 28. februar – 03. mars\, tema kongeørn.\nPlass til seks fotografer. To skjul med\ntre fotografer i hver. Vi ønsker å prioritere medlemmer som ikke har vært med på kongeørn i\nDalen før. De første som melder seg som ikke har vært med før får plass. De som har vært\nmed før\, får plass i den grad det ikke er nye som melder seg. Pris: kr 1900/pers/dag\, inkl leie\nav skjul\, transport med skuter til og fra skjul\, overnatting i hus\, frokost\, nistemat og middag.\nKjøring kommer i tillegg\, vi deler på utgiftene. \n  \n– Tur med Vicki Santello i Bergensområdet 17. mars. \n– Tur til Raudlia i Os 24. april. Kjør til Søfteland og ta inn Gåssandvegen. \n– Tur til Rambjøra og Myravatnet landskapsvernområde i Fana 29. mai. Tema: orkidéer\,\nramsløk o.a. vårplanter. Passende objektiver: makro\, vidvinkel (vårblomster)\, en tele på \nlurkan også gå an\, det er et rikt fugleliv i området. Ta gjerne med en duk eller noe til å ligge på\nså får du lavt perspektiv. Parkering på p-plass i Sandbrekkevegen. \n– Landstreff i Rogaland\, 31. mai – 2. juni. Mer info kommer. \n– Tur til Runde 13-16. juni. Vi leier et hus i Runde havn som vi har for oss selv. \n– Tur til Botanisk Hage på Store Milde 30. juni \n– Øyenstikkere i august. Det blir en ettermiddags-/kveldstur i Bergensområdet\, en ukedag. Vi\nkommer tilbake til tid og sted.
URL:https://biofoto.no/event/biofoto-hordaland-ornetur-til-dalen/
CATEGORIES:Hordaland
ATTACH;FMTTYPE=image/jpeg:https://biofoto.no/wp-content/uploads/2019/01/eagle-1753002_1280.jpg
END:VEVENT
END:VCALENDAR