BEGIN:VCALENDAR
VERSION:2.0
PRODID:-//BioFoto - ECPv6.15.20//NONSGML v1.0//EN
CALSCALE:GREGORIAN
METHOD:PUBLISH
X-ORIGINAL-URL:https://biofoto.no
X-WR-CALDESC:Arrangement for BioFoto
REFRESH-INTERVAL;VALUE=DURATION:PT1H
X-Robots-Tag:noindex
X-PUBLISHED-TTL:PT1H
BEGIN:VTIMEZONE
TZID:Europe/Paris
BEGIN:DAYLIGHT
TZOFFSETFROM:+0100
TZOFFSETTO:+0200
TZNAME:CEST
DTSTART:20170326T010000
END:DAYLIGHT
BEGIN:STANDARD
TZOFFSETFROM:+0200
TZOFFSETTO:+0100
TZNAME:CET
DTSTART:20171029T010000
END:STANDARD
BEGIN:DAYLIGHT
TZOFFSETFROM:+0100
TZOFFSETTO:+0200
TZNAME:CEST
DTSTART:20180325T010000
END:DAYLIGHT
BEGIN:STANDARD
TZOFFSETFROM:+0200
TZOFFSETTO:+0100
TZNAME:CET
DTSTART:20181028T010000
END:STANDARD
BEGIN:DAYLIGHT
TZOFFSETFROM:+0100
TZOFFSETTO:+0200
TZNAME:CEST
DTSTART:20190331T010000
END:DAYLIGHT
BEGIN:STANDARD
TZOFFSETFROM:+0200
TZOFFSETTO:+0100
TZNAME:CET
DTSTART:20191027T010000
END:STANDARD
END:VTIMEZONE
BEGIN:VEVENT
DTSTART;TZID=Europe/Paris:20181030T183000
DTEND;TZID=Europe/Paris:20181030T203000
DTSTAMP:20260419T154745
CREATED:20181029T215027Z
LAST-MODIFIED:20241011T201353Z
UID:5988-1540924200-1540931400@biofoto.no
SUMMARY:Medlemsmøte Midt-Norge
DESCRIPTION:Tid: 30. oktober kl 18:30\nSted: Suhmhuset ved Vitenskapsmuseet i Trondheim\nBilde:  Se vedlegg \nTekst: \nMedlemsmøte i BioFoto Midt-Norge 30. oktober \nPå møteagendaen står følgende punkter: \nHovedforedrag: \n\n“Oversikt\, innsyn\, nærsyn” ved Knut Dreiås. Knut er medlem i BioFoto og fotograferer nesten daglig og helst i nærmiljøet sitt i Åfjord.\n\nTeknisk: \n\nObjektiver ved Kjetil Schjølberg\n\nBildevurdering: \n\nBildekritikk av bilder som medlemmene ønsker vurdert ved Eli Kristin Hårberg og Per Gãtschmann\n\nMedlemmenes bilder: \n\nBente Prestmo-Edvardsen viser bilder fra Skottland\n\nAnnet: \n\nKnut Inge Røstad gir en kort oppsummering av landstreffet i Rosendal i juni\n\nMvh\nSolveig Rinnan Sundt
URL:https://biofoto.no/event/medlemsmote-midt-norge/
LOCATION:Suhmhuset\, Elvegata 6\, Trondheim\, Norge
CATEGORIES:Midt-Norge
ATTACH;FMTTYPE=image/jpeg:https://biofoto.no/wp-content/uploads/2018/10/bilde.jpg
END:VEVENT
END:VCALENDAR