BEGIN:VCALENDAR
VERSION:2.0
PRODID:-//BioFoto - ECPv6.15.20//NONSGML v1.0//EN
CALSCALE:GREGORIAN
METHOD:PUBLISH
X-ORIGINAL-URL:https://biofoto.no
X-WR-CALDESC:Arrangement for BioFoto
REFRESH-INTERVAL;VALUE=DURATION:PT1H
X-Robots-Tag:noindex
X-PUBLISHED-TTL:PT1H
BEGIN:VTIMEZONE
TZID:Europe/Paris
BEGIN:DAYLIGHT
TZOFFSETFROM:+0100
TZOFFSETTO:+0200
TZNAME:CEST
DTSTART:20170326T010000
END:DAYLIGHT
BEGIN:STANDARD
TZOFFSETFROM:+0200
TZOFFSETTO:+0100
TZNAME:CET
DTSTART:20171029T010000
END:STANDARD
BEGIN:DAYLIGHT
TZOFFSETFROM:+0100
TZOFFSETTO:+0200
TZNAME:CEST
DTSTART:20180325T010000
END:DAYLIGHT
BEGIN:STANDARD
TZOFFSETFROM:+0200
TZOFFSETTO:+0100
TZNAME:CET
DTSTART:20181028T010000
END:STANDARD
BEGIN:DAYLIGHT
TZOFFSETFROM:+0100
TZOFFSETTO:+0200
TZNAME:CEST
DTSTART:20190331T010000
END:DAYLIGHT
BEGIN:STANDARD
TZOFFSETFROM:+0200
TZOFFSETTO:+0100
TZNAME:CET
DTSTART:20191027T010000
END:STANDARD
END:VTIMEZONE
BEGIN:VEVENT
DTSTART;VALUE=DATE:20180501
DTEND;VALUE=DATE:20180502
DTSTAMP:20260419T233856
CREATED:20180226T184106Z
LAST-MODIFIED:20241011T201506Z
UID:4598-1525132800-1525219199@biofoto.no
SUMMARY:Påmeldingsfrist siste dag til Landstreffet 2018
DESCRIPTION:Foto Anne Øverås \nBioFotos landstreff i Rosendal 8-10. juni 2018\nBioFoto Hordaland ønsker velkommen til landstreff 2018 i vakre Rosendal i Hardanger.\nIdag er siste mulighet for å melde deg på til Landstreffet. \nSe link for informasjon : http://biofoto.no/landstreff-2018/ \n  \n 
URL:https://biofoto.no/event/pameldingsfrist-siste-dag-landstreffet/
CATEGORIES:Hordaland,Nasjonalt
ATTACH;FMTTYPE=image/jpeg:https://biofoto.no/wp-content/uploads/2017/02/Prekestolen-©Anne-Øverås.jpg
END:VEVENT
BEGIN:VEVENT
DTSTART;VALUE=DATE:20180503
DTEND;VALUE=DATE:20180507
DTSTAMP:20260419T233856
CREATED:20180204T141505Z
LAST-MODIFIED:20241011T201446Z
UID:4557-1525305600-1525651199@biofoto.no
SUMMARY:Medlemstur BioFoto Nordland
DESCRIPTION:Medlemstur til Vestvatn | Arctic Cabins\nVelkommen til fotosamling i et nydelig naturområde. \n\n			\n				\n			\n				\n				Koelige Koier å bo i\n				\n			\n				\n			\n				\n				Sov søtt 🙂\n				\n			\n				\n			\n				\n				Her serveres frokost\, middag. Det er her foredrag også holdes.\n				\n			\n				\n			\n				\n				Flott bosted med alle faseliteter.\n				\n		\n\nRegionen rundt Misvær\, Skjerstad og Vestvatn har stor elgbestand og havørn. Ved elvene og vannene rundt Vestvatn er det mye fugl\, her kan vi treffe på horndykker\, fossekall\, svaner\, kvinender\, + mye mer. \nRundt Misvær er det en del løer\, gammer og gamle bygninger. Det er kort kjøretur til Saltstraumen\, verdens sterkeste malstrøm\, der er det et yrende fugleliv/sjøfugl. I området er det også spesielle bergformasjoner.\nEr vi heldig får vi grønt lauv i sne\, så her er det mye å glede seg til\, noe for enhver fotograf. \nAvstander\nVestvatn ligger i Misvær\, Bodø kommune\, Det er 76 km. kjøretur fra Bodø\, ca 1 t 20 minutter. \nKommer du i fra sør eller på E6 så kan du ta av ved Medby i Saltdal det er 26 km. 27 minutter kjøretur. \nPraktisk info\n● Boforhold https://arctic-cabins.no/\nSjekk ut linken å se de fantastiske forholdene.\n● Betaling for overnatting ved utsjekk.\n● Pris for helgen er ca 1000\,- pr. pers (torsdag-søndag).\n● På hyttene er det muligheter for å lage egen mat\,\nhyttene er utrustet med det utstyret som trengs på kjøkkenet.\n● Sengetøy er inkludert i prisen.\n● Det er reservert overnatting for max 20 personer\, 4 personer pr hytte.\n● Påmeldingsfrist er onsdag 25. april\n● Invitasjonen blir først sendt ut til medlemmer i Nordland BioFoto.\nSå sender vi ut invitasjonen til alle lokallag i Norge onsdag 18. april. \nFor å sikre seg 1 av max 20 plasser er det først til mølla prinsippet. \nHer kan du melde deg på \nProgram:\nTorsdag: Ankomst og innsjekking\nVelkomstord med informasjon holdes kl. 21:00 \nFredag /Lørdag: Foto\nVi jobber med å komme oss på høgfjellet. Vi har fått tilbud om snøscooter tur. Det er mange grotter i område Beiarn som ligger ca. 30 min. kjøring fra Vestvatn\, her har vi kontakt med grotte guid for informasjon om geologien i område og mulig guiding. \nDet er mulig vi må deles i puljer for fjellturen og eventuelt besøk i grottene. Vi har ikke fått eksakt pris på turene Skuter og Grotte kommer an på interessen. \nLørdag kveld:\nFelles sosialt med felles middag. Pris på middag ca. 200.-\nHer prøver vi å få til foredrag om området\, det er alltid spennende å høre om stedene vi besøker. Har noen noe å bidra med\, erfaringer\, eller har bilder fra fototurer\, et tema om teknikker osv. er det bare å kontakte Rita Jakobsen 90879349 så kan vi flette det inn i programmet. \nTransport: \nHvis det er noen som kjører og har plass til en eller to personer så kan\ndere melde det i kommentarfeltet på påmeldingen. eller i en e-post til\nivindrita@gmail.com så prøver vi å samkjøre så langt det lar seg gjøre. \nDet er vår og det kan være skifting i vær\, så det er kjekt å ha klær etter forholdene. \nI Misvær er det matbutikk\, der kan du handle det som du trenger av mat. \nCoop Misvær Åpningstider:\nTorsdag 09:00-19:00.\nFredag 09:00-20:00.\nLørdag 10:00-18:00\nSøndag Stengt \nPåmeldingsavgift kr. 100 til konto 1208.68.80375\nHer kan du melde deg på \nVelkommen til Vestvatn\nMed hilsen Styret BioFoto Nordland \n 
URL:https://biofoto.no/event/medlemstur-biofoto-nordland/
LOCATION:Vestvatn\, Misvær\, 8100\, Norge
CATEGORIES:Nordland
ATTACH;FMTTYPE=image/jpeg:https://biofoto.no/wp-content/uploads/2018/02/©-Tommy-Andreassen-7552.jpg
END:VEVENT
BEGIN:VEVENT
DTSTART;TZID=Europe/Paris:20180508T180000
DTEND;TZID=Europe/Paris:20180508T210000
DTSTAMP:20260419T233856
CREATED:20171207T180634Z
LAST-MODIFIED:20241011T201441Z
UID:4230-1525802400-1525813200@biofoto.no
SUMMARY:Medlemsmøte BioFoto Sørlandet 
DESCRIPTION:Foto Tommy Andreassen. En bit av Norges tak. \n2018 Medlemsmøter BioFoto Sørlandet \nProgram for våren blir som følgende: \n  \n\n\n\n2. Januar:     \nStig Repstad – Månedens foto – Minimalistisk \n\n\n6. Februar: \nÅrsmøte – Månedens foto – Kamera med bevegelse – ICM \n\n\n6. Mars: \nMedlemmenes aften – Månedens foto – Fritt Motiv \n\n\n10. April: \nSynnøve Solberg – Månedens foto – Urban natur \n\n\n? April:   \nJomfruland – helgetur – dato og pris kommer etter hvert \n\n\n8. Mai:  \nBjarke Andersson – Månedens foto – Jeg i naturen “Selfie” \n\n\n\n  \nAlle våre møter holder vi på  \nNaturmuseum og botaniske hage Universitetet i Agder  \nAdresse: Gimleveien 23\, Gimle Gård\, 4630 Kristiansand  \n2.etasje  \nKlokken 18.00-21.00 
URL:https://biofoto.no/event/medlemsmote-biofoto-sorlandet-4/
LOCATION:Agder naturmuseum og botansike hage\, Gimleveien 23\, Kristiansand\, 4630\, Norge
CATEGORIES:Sørlandet
ATTACH;FMTTYPE=image/jpeg:https://biofoto.no/wp-content/uploads/2017/12/20160613-_P5A8439.jpg
ORGANIZER;CN="BioFoto S%C3%B8rlandet":MAILTO:biofotosorlandet1@gmail.com
END:VEVENT
BEGIN:VEVENT
DTSTART;VALUE=DATE:20180510
DTEND;VALUE=DATE:20180514
DTSTAMP:20260419T233856
CREATED:20170823T113338Z
LAST-MODIFIED:20241011T201436Z
UID:3236-1525910400-1526255999@biofoto.no
SUMMARY:Fototur BioFoto Sunnmøre og Nordfjord
DESCRIPTION:Fototur til Runde. Arrangør BioFoto Sunnmøre og Nordfjord \nTorsdag 10. til søndag 13. Mai. Fototur til Runde\nMer info kommer
URL:https://biofoto.no/event/fototur-biofoto-sunnmore-nordfjord-2/
CATEGORIES:Sunnmøre og Nordfjord
END:VEVENT
END:VCALENDAR