BEGIN:VCALENDAR
VERSION:2.0
PRODID:-//BioFoto - ECPv6.15.20//NONSGML v1.0//EN
CALSCALE:GREGORIAN
METHOD:PUBLISH
X-WR-CALNAME:BioFoto
X-ORIGINAL-URL:https://biofoto.no
X-WR-CALDESC:Arrangement for BioFoto
REFRESH-INTERVAL;VALUE=DURATION:PT1H
X-Robots-Tag:noindex
X-PUBLISHED-TTL:PT1H
BEGIN:VTIMEZONE
TZID:Europe/Paris
BEGIN:DAYLIGHT
TZOFFSETFROM:+0100
TZOFFSETTO:+0200
TZNAME:CEST
DTSTART:20170326T010000
END:DAYLIGHT
BEGIN:STANDARD
TZOFFSETFROM:+0200
TZOFFSETTO:+0100
TZNAME:CET
DTSTART:20171029T010000
END:STANDARD
BEGIN:DAYLIGHT
TZOFFSETFROM:+0100
TZOFFSETTO:+0200
TZNAME:CEST
DTSTART:20180325T010000
END:DAYLIGHT
BEGIN:STANDARD
TZOFFSETFROM:+0200
TZOFFSETTO:+0100
TZNAME:CET
DTSTART:20181028T010000
END:STANDARD
BEGIN:DAYLIGHT
TZOFFSETFROM:+0100
TZOFFSETTO:+0200
TZNAME:CEST
DTSTART:20190331T010000
END:DAYLIGHT
BEGIN:STANDARD
TZOFFSETFROM:+0200
TZOFFSETTO:+0100
TZNAME:CET
DTSTART:20191027T010000
END:STANDARD
END:VTIMEZONE
BEGIN:VEVENT
DTSTART;VALUE=DATE:20180301
DTEND;VALUE=DATE:20180302
DTSTAMP:20260420T022934
CREATED:20180226T184606Z
LAST-MODIFIED:20241011T201836Z
UID:4602-1519862400-1519948799@biofoto.no
SUMMARY:Siste frist for saker til Årsmøte
DESCRIPTION:1. mars – frist for innsending av saker til årsmøtet i BioFoto
URL:https://biofoto.no/event/siste-frist-saker-arsmote/
CATEGORIES:Sentralstyret
END:VEVENT
BEGIN:VEVENT
DTSTART;TZID=Europe/Paris:20180305T190000
DTEND;TZID=Europe/Paris:20180305T210000
DTSTAMP:20260420T022934
CREATED:20180119T090501Z
LAST-MODIFIED:20241011T201751Z
UID:4529-1520276400-1520283600@biofoto.no
SUMMARY:Lokallagsledermøte BioFoto/Skypemøte
DESCRIPTION:Innkalling til lokallagsledermøte 5. mars / Skypemøte\nInnkalt: Øyvind Håvarstein-Hustoft (R)\, Gunnar Veastad (I-Ø)\, Kåre O. Hoftvedt (Ø)\,\nRikki M. Langnes (TF)\, Tommy Andreassen (N)\, Einar Hugnes (M-N)\, Audun Hølleland (H)\,\nIngvald R. Ingebretsen (S)\, Erlend Krumsvik (SN) \nDag/dato: Tirsdag 05.03.18\nTid: Kl. 19.00 – 21.00\nSted: Skype
URL:https://biofoto.no/event/lokallagsledermote-biofotoskypemote/
LOCATION:Skype
CATEGORIES:Sentralstyret
ATTACH;FMTTYPE=image/jpeg:https://biofoto.no/wp-content/uploads/2017/02/Capture-skype-meeting.jpg
END:VEVENT
BEGIN:VEVENT
DTSTART;TZID=Europe/Paris:20180306T180000
DTEND;TZID=Europe/Paris:20180306T210000
DTSTAMP:20260420T022934
CREATED:20171207T173810Z
LAST-MODIFIED:20241011T201725Z
UID:4221-1520359200-1520370000@biofoto.no
SUMMARY:Medlemsmøte BioFoto Sørlandet 
DESCRIPTION:Foto Tommy Andreassen. Solnedgang Helgeland \n2018 Medlemsmøter BioFoto Sørlandet \nProgram for våren blir som følgende: \n  \n\n\n\n2. Januar:     \nStig Repstad – Månedens foto – Minimalistisk \n\n\n6. Februar: \nÅrsmøte – Månedens foto – Kamera med bevegelse – ICM \n\n\n6. Mars: \nMedlemmenes aften – Månedens foto – Fritt Motiv \n\n\n10. April: \nSynnøve Solberg – Månedens foto – Urban natur \n\n\n? April:   \nJomfruland – helgetur – dato og pris kommer etter hvert \n\n\n8. Mai:  \nBjarke Andersson – Månedens foto – Jeg i naturen “Selfie” \n\n\n\n  \nAlle våre møter holder vi på  \nNaturmuseum og botaniske hage Universitetet i Agder  \nAdresse: Gimleveien 23\, Gimle Gård\, 4630 Kristiansand  \n2.etasje  \nKlokken 18.00-21.00 
URL:https://biofoto.no/event/medlemsmote-biofoto-sorlandet-2/
LOCATION:Agder naturmuseum og botansike hage\, Gimleveien 23\, Kristiansand\, 4630\, Norge
CATEGORIES:Sørlandet
ATTACH;FMTTYPE=image/jpeg:https://biofoto.no/wp-content/uploads/2017/12/Lofoten-foto-Tommy-Andreassen-4072.jpg
ORGANIZER;CN="BioFoto S%C3%B8rlandet":MAILTO:biofotosorlandet1@gmail.com
END:VEVENT
BEGIN:VEVENT
DTSTART;TZID=Europe/Paris:20180307T190000
DTEND;TZID=Europe/Paris:20180307T213000
DTSTAMP:20260420T022934
CREATED:20180117T215526Z
LAST-MODIFIED:20241011T201716Z
UID:4518-1520449200-1520458200@biofoto.no
SUMMARY:Medlemsmøte BioFoto Sunnmøre og Nordfjord
DESCRIPTION:Foto Tommy Andreassen \nMedlemsmøte Biofoto Sunnmøre og Nordfjord\n  \n7. Mars\, kl. 19.00 – 21.30\, Pinsekyrkja i Volda (kjellerstua) Stormyra 3\, 6100 Volda\n\n4. April\, kl. 19.00 – 21.30\, Pinsekyrkja i Volda (kjellerstua) Stormyra 3\, 6100 Volda
URL:https://biofoto.no/event/medlemsmote-biofoto-sunnmore-nordfjord-7/
LOCATION:Pinsekyrkja i Volda\, Stormyra 3\, Volda\, 6100\, Norge
CATEGORIES:Sunnmøre og Nordfjord
ATTACH;FMTTYPE=image/jpeg:https://biofoto.no/wp-content/uploads/2018/01/kannestein-foto-Tommy-Andreassen-3791.jpg
END:VEVENT
BEGIN:VEVENT
DTSTART;TZID=Europe/Paris:20180312T190000
DTEND;TZID=Europe/Paris:20180312T213000
DTSTAMP:20260420T022934
CREATED:20180204T125659Z
LAST-MODIFIED:20241011T201707Z
UID:4545-1520881200-1520890200@biofoto.no
SUMMARY:Sentralstyret møte Skype
DESCRIPTION:Sentralstyremøte BioFoto \nDag/dato: Mandag 12.03.18 \nTid: kl. 19.00 – 21.30 \nSted: Skype \nHovedsaker: \n– årsmøtet \n– NNFF (mars) \nevt.
URL:https://biofoto.no/event/sentralstyret-mote-skype/
LOCATION:Skype
CATEGORIES:Sentralstyret
END:VEVENT
BEGIN:VEVENT
DTSTART;TZID=Europe/Paris:20180316T150000
DTEND;TZID=Europe/Paris:20180318T153000
DTSTAMP:20260420T022934
CREATED:20171103T115452Z
LAST-MODIFIED:20241011T201655Z
UID:4042-1521212400-1521387000@biofoto.no
SUMMARY:Norsk Naturfotofestival 2018
DESCRIPTION:Norsk Naturfotofestival Nordens største Naturfotofestival eies av Norske Naturfotografer og Biofoto\n\nFemte utgave av Norsk Naturfotofestival arrangeres i Ski kommune i Akershus\, Norge\, 16-18 mars 2018. \nBioFoto har utstilling med tema “vår region”\, og stand. \nNB! alle medlemmer av BioFoto vil få rabatt på festivalpass – kr 950\,- ved kjøp av festivalpass innen 1. januar! 🙂 \n \n  \nBioFoto har utstilling med tema “vår region”\, og stand. \nNB! alle medlemmer av BioFoto vil få rabatt på festivalpass – kr 950\,- ved kjøp av festivalpass innen 1. januar! 🙂
URL:https://biofoto.no/event/nnff-2018/
LOCATION:Ski storsenter\, Jernbaneveien 8\, Ski\, 1400\, Norge
CATEGORIES:Nasjonalt
ATTACH;FMTTYPE=image/png:https://biofoto.no/wp-content/uploads/2017/11/Skjermbilde-2017-11-03-12.23.19.png
END:VEVENT
BEGIN:VEVENT
DTSTART;TZID=Europe/Paris:20180320T180000
DTEND;TZID=Europe/Paris:20180320T210000
DTSTAMP:20260420T022934
CREATED:20180312T140620Z
LAST-MODIFIED:20241011T201624Z
UID:4738-1521568800-1521579600@biofoto.no
SUMMARY:Medlemsmøte BioFoto Midt-Norge
DESCRIPTION:Medlemsmøte i BioFoto Midt-Norge\nTidspunkt: Tirsdag 20. mars 2018 kl 18:00 – 21:00 \nSted: Suhmhuset\, Trondheim \n  \n\nHovedforedrag: “Natur i Sør-Afrika” ved Einar Hugnes\nFotokonkurranse: Avstemming i forbindelse med vårens fotokonkurranse med tema «Hvitt»\nPAUSE\n\n\nMedlemmenes bilder: Per Harald Olsen viser bilder fra boka: «Northern Serengeti – Road Ecology”\nPlaner: Einar presenterer detaljert program for Midt-Norske NaturFotodager\nFotokonkurranse: Presentasjon av vinnerbilder fra fotokonkurransen. Premier leveres av Stjørdal foto.\n\nLitt mer om hovedforedraget: \nEinar besøkte «Zimanga»\, et privat reservat i Zululand\, og Cape Town i Sør-Afrika i fjor sommer. \nI dette foredraget vil han fortelle om og vise bilder fra de mange nærmøtene han hadde med spennende afrikanske dyr og fugler. \nLitt om medlemmenes bilder: \nPer Harald Olsen har tatt bilder for AfricanBioServices (http://africanbioservices.eu/). \nDet ble en fire hundre siders bok med hans bilder – «Northern Serengeti – Road Ecology”: (https://www.fagbokforlaget.no/Northern-Serengeti/I9788245023596). \nNoen av bildene vises på møtet.
URL:https://biofoto.no/event/medlemsmote-biofoto-midt-norge-5/
LOCATION:Suhmhuset\, Elvegata 6\, Trondheim\, Norge
CATEGORIES:Midt-Norge
ATTACH;FMTTYPE=image/jpeg:https://biofoto.no/wp-content/uploads/2018/03/ele.jpg
END:VEVENT
BEGIN:VEVENT
DTSTART;TZID=Europe/Paris:20180320T183000
DTEND;TZID=Europe/Paris:20180320T210000
DTSTAMP:20260420T022934
CREATED:20180117T204939Z
LAST-MODIFIED:20241011T201617Z
UID:4506-1521570600-1521579600@biofoto.no
SUMMARY:Medlemsmøte BioFoto Midt-Norge
DESCRIPTION:Foto: Børge Wahl \nMedlemsmøte i BioFoto Midt-Norge 20. mars kl 18:30 \nProgram kommer senere.
URL:https://biofoto.no/event/medlemsmote-biofoto-midt-norge-4/
CATEGORIES:Midt-Norge
ATTACH;FMTTYPE=image/jpeg:https://biofoto.no/wp-content/uploads/2018/01/Januar.jpg
END:VEVENT
END:VCALENDAR