BEGIN:VCALENDAR
VERSION:2.0
PRODID:-//BioFoto - ECPv6.15.20//NONSGML v1.0//EN
CALSCALE:GREGORIAN
METHOD:PUBLISH
X-WR-CALNAME:BioFoto
X-ORIGINAL-URL:https://biofoto.no
X-WR-CALDESC:Arrangement for BioFoto
REFRESH-INTERVAL;VALUE=DURATION:PT1H
X-Robots-Tag:noindex
X-PUBLISHED-TTL:PT1H
BEGIN:VTIMEZONE
TZID:Europe/Paris
BEGIN:DAYLIGHT
TZOFFSETFROM:+0100
TZOFFSETTO:+0200
TZNAME:CEST
DTSTART:20170326T010000
END:DAYLIGHT
BEGIN:STANDARD
TZOFFSETFROM:+0200
TZOFFSETTO:+0100
TZNAME:CET
DTSTART:20171029T010000
END:STANDARD
BEGIN:DAYLIGHT
TZOFFSETFROM:+0100
TZOFFSETTO:+0200
TZNAME:CEST
DTSTART:20180325T010000
END:DAYLIGHT
BEGIN:STANDARD
TZOFFSETFROM:+0200
TZOFFSETTO:+0100
TZNAME:CET
DTSTART:20181028T010000
END:STANDARD
BEGIN:DAYLIGHT
TZOFFSETFROM:+0100
TZOFFSETTO:+0200
TZNAME:CEST
DTSTART:20190331T010000
END:DAYLIGHT
BEGIN:STANDARD
TZOFFSETFROM:+0200
TZOFFSETTO:+0100
TZNAME:CET
DTSTART:20191027T010000
END:STANDARD
END:VTIMEZONE
BEGIN:VEVENT
DTSTART;TZID=Europe/Paris:20180204T110000
DTEND;TZID=Europe/Paris:20180204T190000
DTSTAMP:20260420T035743
CREATED:20171030T195950Z
LAST-MODIFIED:20241011T201909Z
UID:4008-1517742000-1517770800@biofoto.no
SUMMARY:Natur&Foto-dagen
DESCRIPTION:Natur&Foto-dagen i Oslo konserthus 4. februar tidligere i år ble en suksess. Derfor gjentaes suksessen på samme dag i 2018. Foruten gedigen premiedryss til Nordens beste naturfotografer\, byr Natur&Foto også denne gangen på inspirerende foredrag i verdensklasse. Fotobransjen er til stede på egen fotomesse med gode tilbud. Dette er en happening du bør få med deg! \n  \nHER KAN DU FØLGE ARRANGEMANGET PÅ FACEBOOK \nPRAKTISK INFO\nKonserten starter presis.\nIngen aldersgrense. \nFor rullestolplass\nkontakt billettluken\npå 23113111 eller billetter@okh.no \nHer kan du lese om Natur&Foto-dagen i Oslo konserthus \n  \nPRISER (EKS. BILL. AVGIFT)550\,-
URL:https://biofoto.no/event/naturfoto-dagen/
LOCATION:Oslo konserthus\, Munkedamsveien 14\, Oslo\, 0115\, Norge
CATEGORIES:Nasjonalt
ATTACH;FMTTYPE=image/png:https://biofoto.no/wp-content/uploads/2015/11/nnpc_2016.png
END:VEVENT
BEGIN:VEVENT
DTSTART;TZID=Europe/Paris:20180206T180000
DTEND;TZID=Europe/Paris:20180206T210000
DTSTAMP:20260420T035743
CREATED:20171207T173156Z
LAST-MODIFIED:20241011T201904Z
UID:4215-1517940000-1517950800@biofoto.no
SUMMARY:Medlemsmøte/Årsmøte BioFoto Sørlandet
DESCRIPTION:Foto Tommy Andreassen. Aurora Borealis \n2018 Medlemsmøter BioFoto Sørlandet \nProgram for våren blir som følgende: \n  \n\n\n\n2. Januar:     \nStig Repstad – Månedens foto – Minimalistisk \n\n\n6. Februar: \nÅrsmøte – Månedens foto – Kamera med bevegelse – ICM \n\n\n6. Mars: \nMedlemmenes aften – Månedens foto – Fritt Motiv \n\n\n10. April: \nSynnøve Solberg – Månedens foto – Urban natur \n\n\n? April:   \nJomfruland – helgetur – dato og pris kommer etter hvert \n\n\n8. Mai:  \nBjarke Andersson – Månedens foto – Jeg i naturen “Selfie” \n\n\n\n  \nAlle våre møter holder vi på  \nNaturmuseum og botaniske hage Universitetet i Agder  \nAdresse: Gimleveien 23\, Gimle Gård\, 4630 Kristiansand  \n2.etasje  \nKlokken 18.00-21.00 
URL:https://biofoto.no/event/medlemsmotearsmote-biofoto-sorlandet/
LOCATION:Agder naturmuseum og botansike hage\, Gimleveien 23\, Kristiansand\, 4630\, Norge
CATEGORIES:Sørlandet
ATTACH;FMTTYPE=image/jpeg:https://biofoto.no/wp-content/uploads/2017/12/nordlys_Foto-©-Tommy-Andreassen-1.jpg
ORGANIZER;CN="BioFoto S%C3%B8rlandet":MAILTO:biofotosorlandet1@gmail.com
END:VEVENT
BEGIN:VEVENT
DTSTART;TZID=Europe/Paris:20180207T190000
DTEND;TZID=Europe/Paris:20180207T210000
DTSTAMP:20260420T035743
CREATED:20180117T211820Z
LAST-MODIFIED:20241011T201853Z
UID:4513-1518030000-1518037200@biofoto.no
SUMMARY:Medlemsmøte BioFoto Sunnmøre og Nordfjord
DESCRIPTION:Foto Tommy Andreassen \nMedlemsmøte Biofoto Sunnmøre og Nordfjord\n\n7. Februar\, kl. 19.00 – 21.30\, Pinsekyrkja i Volda (kjellerstua) Stormyra 3\, 6100 Volda\n\n7. Mars\, kl. 19.00 – 21.30\, Pinsekyrkja i Volda (kjellerstua) Stormyra 3\, 6100 Volda\n\n4. April\, kl. 19.00 – 21.30\, Pinsekyrkja i Volda (kjellerstua) Stormyra 3\, 6100 Volda
URL:https://biofoto.no/event/medlemsmote-biofoto-sunnmore-nordfjord-6/
CATEGORIES:Sunnmøre og Nordfjord
ATTACH;FMTTYPE=image/jpeg:https://biofoto.no/wp-content/uploads/2018/01/Lofoten-seascape-Foto-Tommy-Andreassen-7340.jpg
END:VEVENT
BEGIN:VEVENT
DTSTART;TZID=Europe/Paris:20180212T180000
DTEND;TZID=Europe/Paris:20180213T210000
DTSTAMP:20260420T035743
CREATED:20171218T201554Z
LAST-MODIFIED:20241011T201845Z
UID:4449-1518458400-1518555600@biofoto.no
SUMMARY:Videokurs for BioFoto Midt-Norge
DESCRIPTION:Arrangement 5 \nTittel: Videokurs for BioFoto Midt-Norge\nTidspunkt: Mandag 12. februar 2018 kl 18:00 – 21:00 og  Tirsdag 13. februar 2018 kl 18:00 – 21:00 \nSted: Torgkvartalet i Stjørdal\, 3. etasje \nTekst:  Stjørdal Foto tilbyr BioFoto Midt-Norges medlemmer gratis kurs i videofotografering. Påmelding til Linda Bjørgan innen 20. januar på tlf 906 310 241 eller Facebook. Max 10 plasser.
URL:https://biofoto.no/event/4449/
LOCATION:Torgkvartalet\, Stjørdal\, Stokmovegen 2\, Stjørda\, 7500
CATEGORIES:Midt-Norge
ATTACH;FMTTYPE=image/jpeg:https://biofoto.no/wp-content/uploads/2017/12/video.jpg
END:VEVENT
BEGIN:VEVENT
DTSTART;TZID=Europe/Paris:20180215T180000
DTEND;TZID=Europe/Paris:20180215T210000
DTSTAMP:20260420T035743
CREATED:20171218T202158Z
LAST-MODIFIED:20241011T201842Z
UID:4454-1518717600-1518728400@biofoto.no
SUMMARY:Videokurs for BioFoto Midt-Norge
DESCRIPTION:Arrangement 5 \nTittel: Videokurs for BioFoto Midt-Norge\nTidspunkt: Torsdag 15. februar 2018 kl 18:00 – 21:00 \nSted: Torgkvartalet i Stjørdal\, 3. etasje \nBilde: video.jpg (vedlagt) \nTekst:  Stjørdal Foto tilbyr BioFoto Midt-Norges medlemmer gratis kurs i videofotografering. Påmelding til Linda Bjørgan innen 20. januar på tlf 906 310 241 eller Facebook. Max 10 plasser.
URL:https://biofoto.no/event/videokurs-biofoto-midt-norge/
LOCATION:Torgkvartalet\, Stjørdal\, Stokmovegen 2\, Stjørda\, 7500
CATEGORIES:Midt-Norge
ATTACH;FMTTYPE=image/jpeg:https://biofoto.no/wp-content/uploads/2017/12/video.jpg
END:VEVENT
BEGIN:VEVENT
DTSTART;TZID=Europe/Paris:20180216T180000
DTEND;TZID=Europe/Paris:20180216T220000
DTSTAMP:20260420T035743
CREATED:20180204T130757Z
LAST-MODIFIED:20241011T201838Z
UID:4549-1518804000-1518818400@biofoto.no
SUMMARY:Årsmøte BioFoto Nordland
DESCRIPTION:Årsmøte 2018  BioFoto Nordland\nEtter Årsmøtet går vi over til medlemsmøte med foredrag. \nDet vil bli servert pizza og brus 🙂 \nDato: fredag 16. februar\nTid: Klokken 18:00\nSted: Prinsens gt. 72 / Bispegården \nSaksliste.\n1. Godkjenning av innkalling og saksliste\n2. Valg av ordstyrer og referent.\n3. Årsmelding\n4. Aktivitetsplan\n5. Regnskap\n6. Innkomne forslag\n7. Budsjett\n8. Valg\n9. Landstreff 2018\n10. Generelt \nInnkalling var sendt pr. e-post til alle medlemmer den 2.februar
URL:https://biofoto.no/event/arsmote-biofoto-nordland/
LOCATION:Bispegården\, Bodø\, Prinsens gt. 72\, Bodø\, 8007\, Norge
CATEGORIES:Nordland
ATTACH;FMTTYPE=image/jpeg:https://biofoto.no/wp-content/uploads/2018/02/P5A5154.jpg
END:VEVENT
BEGIN:VEVENT
DTSTART;TZID=Europe/Paris:20180227T180000
DTEND;TZID=Europe/Paris:20180227T210000
DTSTAMP:20260420T035743
CREATED:20180117T204428Z
LAST-MODIFIED:20241011T201836Z
UID:4504-1519754400-1519765200@biofoto.no
SUMMARY:Medlemsmøte BioFoto Midt-Norge
DESCRIPTION:Foto: Børge Wahl \nMedlemsmøte i BioFoto Midt-Norge 27. februar kl 18:00 \nHovedforedrag: \nLars Andreas Dybvik presenterer den nye boka si «PLAY» \n \n\nMedlemmenes bilder: \nFinn Nilsen viser bilder fra turen sin til Borneo \nEdvard Bergene viser deltakernes bilder fra årets medlemsturer til Smøla og Flatanger \nLars Andreas vil presentere boka si og fortelle hvordan han har jobbet underveis\, både rent praktisk og konseptuelt for å velge bilder og layout. Vi får se førsteutgave og trykkark som viser hvordan bøker trykkes. Dette er første gang Lars Andreas har brukt tid på hele produktet\, som valg av papir\, trykk\, bildejusteringer\, sammensetning av bilder på oppslag\, store eller små bilder osv.  Boka selges på møtet. Vanlig utgave koster kr 360. Nummerert utgave inkl. signert bilde koster kr 495. Du kan betale kontant eller med Vipps. \nMvh Solveig Rinnan Sundt
URL:https://biofoto.no/event/medlemsmote-biofoto-midt-norge-3/
LOCATION:Suhmhuset\,\, Trondheim
CATEGORIES:Midt-Norge
ATTACH;FMTTYPE=image/jpeg:https://biofoto.no/wp-content/uploads/2018/01/Januar.jpg
END:VEVENT
END:VCALENDAR