BEGIN:VCALENDAR
VERSION:2.0
PRODID:-//BioFoto - ECPv6.15.20//NONSGML v1.0//EN
CALSCALE:GREGORIAN
METHOD:PUBLISH
X-WR-CALNAME:BioFoto
X-ORIGINAL-URL:https://biofoto.no
X-WR-CALDESC:Arrangement for BioFoto
REFRESH-INTERVAL;VALUE=DURATION:PT1H
X-Robots-Tag:noindex
X-PUBLISHED-TTL:PT1H
BEGIN:VTIMEZONE
TZID:Europe/Paris
BEGIN:DAYLIGHT
TZOFFSETFROM:+0100
TZOFFSETTO:+0200
TZNAME:CEST
DTSTART:20160327T010000
END:DAYLIGHT
BEGIN:STANDARD
TZOFFSETFROM:+0200
TZOFFSETTO:+0100
TZNAME:CET
DTSTART:20161030T010000
END:STANDARD
BEGIN:DAYLIGHT
TZOFFSETFROM:+0100
TZOFFSETTO:+0200
TZNAME:CEST
DTSTART:20170326T010000
END:DAYLIGHT
BEGIN:STANDARD
TZOFFSETFROM:+0200
TZOFFSETTO:+0100
TZNAME:CET
DTSTART:20171029T010000
END:STANDARD
BEGIN:DAYLIGHT
TZOFFSETFROM:+0100
TZOFFSETTO:+0200
TZNAME:CEST
DTSTART:20180325T010000
END:DAYLIGHT
BEGIN:STANDARD
TZOFFSETFROM:+0200
TZOFFSETTO:+0100
TZNAME:CET
DTSTART:20181028T010000
END:STANDARD
END:VTIMEZONE
BEGIN:VEVENT
DTSTART;TZID=Europe/Paris:20171205T180000
DTEND;TZID=Europe/Paris:20171205T210000
DTSTAMP:20260420T071422
CREATED:20170904T170935Z
LAST-MODIFIED:20241011T202054Z
UID:3303-1512496800-1512507600@biofoto.no
SUMMARY:BioFoto Sørlandet
DESCRIPTION:Agder naturmuseum og botaniske hage. \nHvem: Medlemmenes aften \nTema: Alt mellom himmel og jord \nMånedens foto: Fritt motiv \nOverraskelse  siden det er jul
URL:https://biofoto.no/event/biofoto-sorlandet-4/
LOCATION:Agder naturmuseum og botansike hage\, Gimleveien 23\, Kristiansand\, 4630\, Norge
CATEGORIES:Sørlandet
END:VEVENT
BEGIN:VEVENT
DTSTART;TZID=Europe/Paris:20171206T190000
DTEND;TZID=Europe/Paris:20171206T213000
DTSTAMP:20260420T071422
CREATED:20170823T112336Z
LAST-MODIFIED:20241011T202050Z
UID:3232-1512586800-1512595800@biofoto.no
SUMMARY:Medlemsmøte BioFoto Sunnmøre og Nordfjord
DESCRIPTION:Mer info kommer\nTema for fotokonkurransen: ”Linjer”
URL:https://biofoto.no/event/medlemsmote-biofoto-sunnmore-nordfjord-4/
LOCATION:Volda\, Norge\, Stormyra 3\, Volda\, 6100
CATEGORIES:Sunnmøre og Nordfjord
END:VEVENT
BEGIN:VEVENT
DTSTART;TZID=Europe/Paris:20171212T183000
DTEND;TZID=Europe/Paris:20171212T210000
DTSTAMP:20260420T071422
CREATED:20171204T174730Z
LAST-MODIFIED:20241011T202031Z
UID:4157-1513103400-1513112400@biofoto.no
SUMMARY:Medlemsmøte BioFoto Midt-Norge
DESCRIPTION:Medlemsmøte i BioFoto Midt-Norge 12. desember\nTidspunkt: 12. desember kl 18:30 \nPå møteagendaen står følgende punkter: \nHovedforedrag: \n – “Romsdal” v/Øivind Leren \nHøstkonkurransen: \n – Kåring av “Årets bilde” i BioFoto Midt-Norge \nVi serverer gløgg før møtet og pizza/brus i pausen. \nØivind Leren er mangeårig BioFoto-medlem fra Molde. Han har nettopp gitt ut praktboka “Romsdal” med gode tekster og mange flotte naturbilder. I Naturfotografen nr 4 kan du lese omtale av boka. Øivind vil snakke om den nye boka si i foredraget han holder for oss. Etter møtet blir det anledning til å kjøpe signerte eksemplarer for kr 400 (butikkpris er kr 500).
URL:https://biofoto.no/event/medlemsmote-biofoto-midt-norge-2/
LOCATION:Suhmhuset\, Elvegata 6\, Trondheim\, Norge
CATEGORIES:Midt-Norge
ATTACH;FMTTYPE=image/jpeg:https://biofoto.no/wp-content/uploads/2017/12/Morgensol-på-Romsdalshornet-og-Trolltindene-0574.jpeg
END:VEVENT
END:VCALENDAR