BEGIN:VCALENDAR
VERSION:2.0
PRODID:-//BioFoto - ECPv6.15.20//NONSGML v1.0//EN
CALSCALE:GREGORIAN
METHOD:PUBLISH
X-ORIGINAL-URL:https://biofoto.no
X-WR-CALDESC:Arrangement for BioFoto
REFRESH-INTERVAL;VALUE=DURATION:PT1H
X-Robots-Tag:noindex
X-PUBLISHED-TTL:PT1H
BEGIN:VTIMEZONE
TZID:Europe/Paris
BEGIN:DAYLIGHT
TZOFFSETFROM:+0100
TZOFFSETTO:+0200
TZNAME:CEST
DTSTART:20160327T010000
END:DAYLIGHT
BEGIN:STANDARD
TZOFFSETFROM:+0200
TZOFFSETTO:+0100
TZNAME:CET
DTSTART:20161030T010000
END:STANDARD
BEGIN:DAYLIGHT
TZOFFSETFROM:+0100
TZOFFSETTO:+0200
TZNAME:CEST
DTSTART:20170326T010000
END:DAYLIGHT
BEGIN:STANDARD
TZOFFSETFROM:+0200
TZOFFSETTO:+0100
TZNAME:CET
DTSTART:20171029T010000
END:STANDARD
BEGIN:DAYLIGHT
TZOFFSETFROM:+0100
TZOFFSETTO:+0200
TZNAME:CEST
DTSTART:20180325T010000
END:DAYLIGHT
BEGIN:STANDARD
TZOFFSETFROM:+0200
TZOFFSETTO:+0100
TZNAME:CET
DTSTART:20181028T010000
END:STANDARD
END:VTIMEZONE
BEGIN:VEVENT
DTSTART;TZID=Europe/Paris:20171101T190000
DTEND;TZID=Europe/Paris:20171101T213000
DTSTAMP:20260420T104120
CREATED:20170823T112111Z
LAST-MODIFIED:20241011T202159Z
UID:3229-1509562800-1509571800@biofoto.no
SUMMARY:Medlemsmøte BioFoto Sunnmøre og Nordfjord
DESCRIPTION:Biofoto Sunnmøre og Nordfjord\nMer info kommer\nTema for fotokonkurransen: ”Haust”
URL:https://biofoto.no/event/medlemsmote-biofoto-sunnmore-nordfjord-3/
LOCATION:Volda\, Norge\, Stormyra 3\, Volda\, 6100
CATEGORIES:Sunnmøre og Nordfjord
END:VEVENT
BEGIN:VEVENT
DTSTART;VALUE=DATE:20171104
DTEND;VALUE=DATE:20171105
DTSTAMP:20260420T104120
CREATED:20170904T170702Z
LAST-MODIFIED:20241011T202156Z
UID:3300-1509753600-1509839999@biofoto.no
SUMMARY:BioFoto Sørlandet
DESCRIPTION:Sørlandsk Naturfotodag \nSted: Kristiansand \nHvem kommer: Kai Jensen\, Leiv Arne Aakset og Anne-Lise Stangenes. \nHva skjer: her blir det fotomoro hele dagen\, workshop og spennede foredrag. \nSosialt sammen med likesinnede\, foto og naturintresserte mennesker \nOgså denne gangen blir det Månedens foto\, tema denne måneden er: Uvær \n  \nFørjulsstemning på museet blir i slutten av november. \nKjempeartig arrangement og masse hyggelig og blide små og store mennesker. her deltar BioFoto Sørlandet med aktiviteter for familien.
URL:https://biofoto.no/event/biofoto-sorlandet-3/
CATEGORIES:Sørlandet
ORGANIZER;CN="BioFoto S%C3%B8rlandet":MAILTO:biofotosorlandet1@gmail.com
END:VEVENT
BEGIN:VEVENT
DTSTART;VALUE=DATE:20171112
DTEND;VALUE=DATE:20171113
DTSTAMP:20260420T104120
CREATED:20171013T122618Z
LAST-MODIFIED:20241011T202121Z
UID:3899-1510444800-1510531199@biofoto.no
SUMMARY:BioFoto Indre Østland inviterer til Finnskogtur
DESCRIPTION:Biofoto Indre Østland inviterer til Finnskogtur søndag 12 november.\nTema for turen blir gammelskog\, og eventuelt forfalne boplasser i skogen om det er interesse for det. \nVi møtes ved Finnskogen kro og motell på Svullrya kl 10. De som ønsker å overnatte\, ordner dette selv. \nPåmelding til Øyvind Antonsen oyvind.g.antonsen@gmail.com innen 5. november. \nDet tas forbehold om at det blir tilstrekkelig antall deltakere. \nBegge bilder\, foto © Øyvind Antonsen
URL:https://biofoto.no/event/biofoto-indre-ostland-inviterer-finnskogtur/
LOCATION:Finnskogen\, Norge
CATEGORIES:Innlandet
ATTACH;FMTTYPE=image/jpeg:https://biofoto.no/wp-content/uploads/2017/10/DSC5326w3.jpg
END:VEVENT
BEGIN:VEVENT
DTSTART;TZID=Europe/Paris:20171125T093000
DTEND;TZID=Europe/Paris:20171125T153000
DTSTAMP:20260420T104120
CREATED:20171106T195150Z
LAST-MODIFIED:20241011T202112Z
UID:4069-1511602200-1511623800@biofoto.no
SUMMARY:Vestnorsk naturfotodag i Bergen 25. november
DESCRIPTION:Isfjell Foto Helge Søgnebotten \nVestnorsk naturfotodag i Universitetsaulaen.\nNaturopplevelser gjennom bilder.\nLørdag 25. november er det igjen duket for en spennende fotodag i Universitetsaulaen. Biofoto Hordaland inviterer sammen med Universitetsmuseet til billedvisning\, utstilling og workshop. Fire fotografer vil vise bilder fra hver sin innfallsvinkel. \nProgram\n09:30–10:45 Bli bedre kjent med eget kamera. Hvordan få bildene bedre? Få tips fra erfarne \nfotografer i Biofoto Hordaland.\nSted: Muséhagen. Ingen påmelding\, gratis adgang\, ta med eget kamera. \n11:00–11:15 Åpning\, velkommen\n11:15–12:00 Helge Søgnebotten: Fra Sørfjorden til Serengeti\n12:05–12:50 Espen Bergersen: Sju år med kvaleventyr\n12:50–13:30 Lunsj i Christie café\n13:30–14:15 Jan Rabben: Fem års blomejakt med kamera\n14:20–15:05 Roger Brendhagen: Nordisk natur\n15:05–15:15 Avslutning\nUtstilling: Naturbilder fra Biofoto Hordaland.\n50 % på sensorrens fra Japan Photo\, som også vil være til stede med egen stand.\nSted: Naturhistorisk Museum\, Universitetsaulaen i Bergen.\nInngang fra Olaf Ryes vei eller Muséplassen\, via Muséhagen.\nArrangør: Biofoto Hordaland i samarbeid med Universitetsmuséet i Bergen.\nSponsor: Japan Photo og Nikon Norge.\nHele arrangementet er gratis. \nhttp://www.uib.no/universitetsmuseet/101710/vestnorsk-naturfotodag \n 
URL:https://biofoto.no/event/vestnorsk-naturfotodag-bergen-25-november/
LOCATION:Naturhistorisk Museum\, Universitetsaulaen i Bergen.\, Museplassen 3\, Bergen\, Norge
CATEGORIES:Hordaland
ATTACH;FMTTYPE=image/jpeg:https://biofoto.no/wp-content/uploads/2017/11/Isfjell-Foto-Helge-Søgnebotten.jpg
END:VEVENT
END:VCALENDAR