BEGIN:VCALENDAR
VERSION:2.0
PRODID:-//BioFoto - ECPv6.15.20//NONSGML v1.0//EN
CALSCALE:GREGORIAN
METHOD:PUBLISH
X-ORIGINAL-URL:https://biofoto.no
X-WR-CALDESC:Arrangement for BioFoto
REFRESH-INTERVAL;VALUE=DURATION:PT1H
X-Robots-Tag:noindex
X-PUBLISHED-TTL:PT1H
BEGIN:VTIMEZONE
TZID:Europe/Paris
BEGIN:DAYLIGHT
TZOFFSETFROM:+0100
TZOFFSETTO:+0200
TZNAME:CEST
DTSTART:20160327T010000
END:DAYLIGHT
BEGIN:STANDARD
TZOFFSETFROM:+0200
TZOFFSETTO:+0100
TZNAME:CET
DTSTART:20161030T010000
END:STANDARD
BEGIN:DAYLIGHT
TZOFFSETFROM:+0100
TZOFFSETTO:+0200
TZNAME:CEST
DTSTART:20170326T010000
END:DAYLIGHT
BEGIN:STANDARD
TZOFFSETFROM:+0200
TZOFFSETTO:+0100
TZNAME:CET
DTSTART:20171029T010000
END:STANDARD
BEGIN:DAYLIGHT
TZOFFSETFROM:+0100
TZOFFSETTO:+0200
TZNAME:CEST
DTSTART:20180325T010000
END:DAYLIGHT
BEGIN:STANDARD
TZOFFSETFROM:+0200
TZOFFSETTO:+0100
TZNAME:CET
DTSTART:20181028T010000
END:STANDARD
END:VTIMEZONE
BEGIN:VEVENT
DTSTART;VALUE=DATE:20171001
DTEND;VALUE=DATE:20171002
DTSTAMP:20260422T122656
CREATED:20170704T163758Z
LAST-MODIFIED:20241011T202246Z
UID:3182-1506816000-1506902399@biofoto.no
SUMMARY:Innsendelsesfrist Naturfotografen
DESCRIPTION:Foto © Dag Røttereng \nFrist for innlevering av stoff til magasinet Naturfotografen 1/10 \n  \nUtgivelseplan 2017:\nNr.1: I postkassen ca 2/3 – Frist for innlevering av stoff: 1/1\nNr.2: I postkassen ca 3/6 – Frist for innlevering av stoff: 19/3\nNr.3: I postkassen ca 14/9 – Frist for innlevering av stoff: 25/6\nNr.4: I postkassen ca 30/11 – Frist for innlevering av stoff: 1/10 \n  \nRedaktøren\n\nPål Brenne\nSletta 27\n1920 Sørumsand\nTlf. 41204646\nnaturfotografen@biofoto.no
URL:https://biofoto.no/event/innsendelsesfrist/
CATEGORIES:Sentralstyret
ATTACH;FMTTYPE=image/jpeg:https://biofoto.no/wp-content/uploads/2016/03/Hauggjegla-fyr-på-Smøla_Røttereng.jpg
ORGANIZER;CN="Naturfotografen":MAILTO:naturfotografen@biofoto.no
END:VEVENT
BEGIN:VEVENT
DTSTART;TZID=Europe/Paris:20171003T180000
DTEND;TZID=Europe/Paris:20171003T210000
DTSTAMP:20260422T122656
CREATED:20170904T170456Z
LAST-MODIFIED:20241011T202240Z
UID:3298-1507053600-1507064400@biofoto.no
SUMMARY:BioFoto Sørlandet
DESCRIPTION:Klokka 18.00 \nSted: Agder naturmuseum og botansike hage \nHvem: Lillian Tveit\, Hilde Skiffard og Beate Johansen \nHva de skal snakke om kommer senere. \nMånedens foto: Blåtimen
URL:https://biofoto.no/event/biofoto-sorlandet-2/
LOCATION:Agder naturmuseum og botansike hage\, Gimleveien 23\, Kristiansand\, 4630\, Norge
CATEGORIES:Sørlandet
ORGANIZER;CN="BioFoto S%C3%B8rlandet":MAILTO:biofotosorlandet1@gmail.com
END:VEVENT
BEGIN:VEVENT
DTSTART;TZID=Europe/Paris:20171003T180000
DTEND;TZID=Europe/Paris:20171003T210000
DTSTAMP:20260422T122656
CREATED:20170927T182945Z
LAST-MODIFIED:20241011T202236Z
UID:3822-1507053600-1507064400@biofoto.no
SUMMARY:BioFoto Sørlandet - medlemsmøte
DESCRIPTION:Foto ©Hilde Skiffard. \nVelkommen til en eksotisk aften med Hilde Skiffard.\nHun vil ta oss med til øya Borneo. Øya er delt mellom Indonesia og Malaysia\, og innimellom palmeoljeplantasjene kan en fortsatt finne artsrike sumplandskap og noen av verdens største regnskogsområder. Hun vil ta dere med på en reise gjennom øyas grønne indre\, hvor vi blandt annet får møte menneskeaper\, reptiler og kryp i mange fasonger\, før vi til sist ender ved kysten\, der koraller\, havskilpadder og fisk i alle regnbuens farger florerer i skjønn harmoni. Vel møtt til en spennende kveld! \nHUSK:\nMånens foto: Blåtimen\, frist for innsendelse er 30/9 kl 23.59 \nDet blir som vanlig salg av kaffe og kake og brus så husk kr 20 eller du kan bruke vipps. \nGleder meg til å treffe deg denne kvelden.
URL:https://biofoto.no/event/biofoto-sorlandet-medlemsmote/
LOCATION:Agder naturmuseum og botansike hage\, Gimleveien 23\, Kristiansand\, 4630\, Norge
CATEGORIES:Sørlandet
ATTACH;FMTTYPE=image/jpeg:https://biofoto.no/wp-content/uploads/2017/09/2-1.jpg
ORGANIZER;CN="BioFoto S%C3%B8rlandet":MAILTO:biofotosorlandet1@gmail.com
END:VEVENT
BEGIN:VEVENT
DTSTART;TZID=Europe/Paris:20171003T183000
DTEND;TZID=Europe/Paris:20171003T183000
DTSTAMP:20260422T122656
CREATED:20170916T065449Z
LAST-MODIFIED:20241011T202231Z
UID:3380-1507055400-1507055400@biofoto.no
SUMMARY:BioFoto Indre Østland
DESCRIPTION:Klubbkveld med åpen presentasjon av naturfoto v/ Marcela Cardenas\n  \nBioFoto Indre Østland inviterer til Ringsaker bibliotek tirsdag den 3. oktober klokken 18:30 \nBli med på en opplevelsesrik fototur gjennom den storslåtte Grønlanske natur og til den gjestfrie inuitkulturen.
URL:https://biofoto.no/event/biofoto-indre-ostland/
LOCATION:Ringsaker bibliotek\, Brumunddal\, 2380\, Norge
CATEGORIES:Innlandet
ATTACH;FMTTYPE=image/jpeg:https://biofoto.no/wp-content/uploads/2017/09/21682412_1638513089532190_530071019_o.jpg
END:VEVENT
BEGIN:VEVENT
DTSTART;TZID=Europe/Paris:20171004T190000
DTEND;TZID=Europe/Paris:20171004T213000
DTSTAMP:20260422T122656
CREATED:20170823T111608Z
LAST-MODIFIED:20241011T202228Z
UID:3226-1507143600-1507152600@biofoto.no
SUMMARY:Medlemsmøte BioFoto Sunnmøre og Nordfjord
DESCRIPTION:Medlemsmøte Biofoto Sunnmøre og Nordfjord\nGeir Magne Sætre holder hovedforedrag\nTema for fotokonkurransen: ”Sunnmøre og Nordfjord”
URL:https://biofoto.no/event/medlemsmote-biofoto-sunnmore-nordfjord-2/
LOCATION:Volda\, Norge\, Stormyra 3\, Volda\, 6100
CATEGORIES:Sunnmøre og Nordfjord
END:VEVENT
BEGIN:VEVENT
DTSTART;TZID=Europe/Paris:20171016T190000
DTEND;TZID=Europe/Paris:20171016T220000
DTSTAMP:20260422T122656
CREATED:20171004T095508Z
LAST-MODIFIED:20241011T202220Z
UID:3872-1508180400-1508191200@biofoto.no
SUMMARY:Lokallagsledermøte i BioFoto
DESCRIPTION:Det er tid for høstens første lokallags-ledermøte\,  mandag 16. oktober.\nTid:  19.00 – 22.00 (Skype)\n \nDersom du ikke kan stille på møtet\, sender du nestleder/annen fra ditt styre istedet. \nDa må jeg ha beskjed om hvem som stiller istedenfor deg\, slik at jeg kan få kobla meg på vedkommende ift. at møtet er på Skype. \nFint om du gir raskt beskjed om det. \nVi snakkes! \nHilsen Anne-Lise \nPS: Husk å oppdatere Skype senest dagen før møtet så slipper vi å vente på hverandre!
URL:https://biofoto.no/event/lokallagsledermote-i-biofoto/
LOCATION:Skype
CATEGORIES:Sentralstyret
END:VEVENT
BEGIN:VEVENT
DTSTART;VALUE=DATE:20171022
DTEND;VALUE=DATE:20171023
DTSTAMP:20260422T122656
CREATED:20170823T112923Z
LAST-MODIFIED:20241011T202210Z
UID:3234-1508630400-1508716799@biofoto.no
SUMMARY:Fototur BioFoto Sunnmøre og Nordfjord
DESCRIPTION:Fototur til Romedalen i Ørsta kommune. Arrangør BioFoto Sunnmøre og Nordfjord\nSøndag 22. oktober til Romedalen i Ørsta kommune\nMer info kommer
URL:https://biofoto.no/event/fototur-biofoto-sunnmore-nordfjord/
CATEGORIES:Sunnmøre og Nordfjord
END:VEVENT
BEGIN:VEVENT
DTSTART;TZID=Europe/Paris:20171025T180000
DTEND;TZID=Europe/Paris:20171025T210000
DTSTAMP:20260422T122656
CREATED:20170913T182009Z
LAST-MODIFIED:20241011T202206Z
UID:3366-1508954400-1508965200@biofoto.no
SUMMARY:BioFoto Midt-Norge\, kurs i arbeidsflyt
DESCRIPTION:Pelikan. © Fotograf Einar Hugnes. \nBioFoto Midt-Norge  inviterer til kurs i arbeidsflyt for sine medlemmer\nTidspunkt: 25. oktober kl 18:00 – 21:00 \n  \nKursledere: Lars Andreas Dybvik og Linda Bjørgan \nSted: Stjørdal foto/Torgkvartalet \nKurset er gratis. \nPåmelding innen 1.oktober. \n  \nHovedmålet denne kurskvelden er en grunnleggende innføring i arbeidsflyt fra du tar bildet til det er søkbart og arkivert. Her er det mange ulike løsninger\, og vi vil vise noen eksempler på hva det er lurt å tenke på fra du tar bildet\, hvordan du kan laste inn bildene og hvordan du kan organisere bildene dine. Vi vil også gå gjennom en del grunnleggende\, smarte og viktige ting å tenke på når det gjelder fargerom\, filformater etc. Det blir både teori\, praktiske eksempler i fellesskap og mulighet for individuell veiledning hvis du tar med deg en Mac/PC og noen bilder. \nSe nærmere informasjon om kursinnhold og påmelding på bloggen: http://biofoto-midtnorge.blogspot.no/
URL:https://biofoto.no/event/biofoto-midt-norge-kurs-arbeidsflyt/
LOCATION:Størdal Foto\, Stjørdal\, Norge
CATEGORIES:Midt-Norge
ATTACH;FMTTYPE=image/jpeg:https://biofoto.no/wp-content/uploads/2017/09/Pelikan.jpg
END:VEVENT
BEGIN:VEVENT
DTSTART;TZID=Europe/Paris:20171026T130000
DTEND;TZID=Europe/Paris:20171029T170000
DTSTAMP:20260422T122656
CREATED:20170829T182649Z
LAST-MODIFIED:20241011T202204Z
UID:3241-1509022800-1509296400@biofoto.no
SUMMARY:BioFoto Nordland inviterer til fotosamling i Lofoten.
DESCRIPTION:BioFoto Nordland gjentar suksessen fra fototuren i 2014 å inviterer nå til ny samling i Lofoten \nTuren går igjen til vakre Reine i Lofoten 26.- 30. Oktober 2017 \nLofoten er ettertraktet og verdenskjent foto-destinasjon som byr på majestetisk landskap og fantastisk lys. Nå har du en flott mulighet til å bli bedre kjent med våre medlemmer og ikke minst oppleve magiske Lofoten. \nØnsker du flotte naturbilder byr området på noe av det vakreste Norge har å by på. På denne tiden av året er lyset helt magisk\, i oktober er det også gode muligheter for nordlysaktivitet. Været kan vi ikke gjøre noe med\, men blir det storm så er jo Lofoten riktig plass å være for fotografering\, så her er det alle muligheter til å fange årets bilde. \nHåper du har anledning og lyst til å delta på denne fotosamlingen. Se linken for ytterligere informasjon/påmelding og pris. \nMed hilsen styret BioFoto Nordland\nTommy\, Geir\, Rita og Kenneth.
URL:https://biofoto.no/event/biofoto-nordland-inviterer-fotosamling-lofoten/
CATEGORIES:Nordland
ATTACH;FMTTYPE=image/jpeg:https://biofoto.no/wp-content/uploads/2017/08/Lofoten-foto-Tommy-Andreassen-7216.jpg
END:VEVENT
END:VCALENDAR