BEGIN:VCALENDAR
VERSION:2.0
PRODID:-//BioFoto - ECPv6.15.20//NONSGML v1.0//EN
CALSCALE:GREGORIAN
METHOD:PUBLISH
X-ORIGINAL-URL:https://biofoto.no
X-WR-CALDESC:Arrangement for BioFoto
REFRESH-INTERVAL;VALUE=DURATION:PT1H
X-Robots-Tag:noindex
X-PUBLISHED-TTL:PT1H
BEGIN:VTIMEZONE
TZID:Europe/Paris
BEGIN:DAYLIGHT
TZOFFSETFROM:+0100
TZOFFSETTO:+0200
TZNAME:CEST
DTSTART:20230326T010000
END:DAYLIGHT
BEGIN:STANDARD
TZOFFSETFROM:+0200
TZOFFSETTO:+0100
TZNAME:CET
DTSTART:20231029T010000
END:STANDARD
BEGIN:DAYLIGHT
TZOFFSETFROM:+0100
TZOFFSETTO:+0200
TZNAME:CEST
DTSTART:20240331T010000
END:DAYLIGHT
BEGIN:STANDARD
TZOFFSETFROM:+0200
TZOFFSETTO:+0100
TZNAME:CET
DTSTART:20241027T010000
END:STANDARD
BEGIN:DAYLIGHT
TZOFFSETFROM:+0100
TZOFFSETTO:+0200
TZNAME:CEST
DTSTART:20250330T010000
END:DAYLIGHT
BEGIN:STANDARD
TZOFFSETFROM:+0200
TZOFFSETTO:+0100
TZNAME:CET
DTSTART:20251026T010000
END:STANDARD
END:VTIMEZONE
BEGIN:VEVENT
DTSTART;TZID=Europe/Paris:20240912T183000
DTEND;TZID=Europe/Paris:20240912T203000
DTSTAMP:20260423T222610
CREATED:20240903T175251Z
LAST-MODIFIED:20250113T212209Z
UID:17486-1726165800-1726173000@biofoto.no
SUMMARY:Rogaland: medlemsmøte med Staffan Widstrand
DESCRIPTION:Høstens første medlemsmøte er torsdag 12. september kl. 18.30 hos Stavanger foto\, Sjøhagen 11\, Stavanger. \nI samarbeid med Stavanger Foto og Sony har vi da gleden av å invitere til et spennende foredrag ved den anerkjente svenske naturfotografen Staffan Widstrand. \nKonkurransen er nå åpen for våre medlemmer. Gå inn på biofoto.flogvit.com. Obs. Merk kort frist for innlevering av bilder til september-konkurransen førstkommende søndag 8. september før midnatt. \n  \n  \n  \n 
URL:https://biofoto.no/event/medlemsmote-12-september/
LOCATION:Stavanger Foto\, Sjøhagen 11\, Stavanger
CATEGORIES:Rogaland
END:VEVENT
END:VCALENDAR