BEGIN:VCALENDAR
VERSION:2.0
PRODID:-//BioFoto - ECPv6.15.20//NONSGML v1.0//EN
CALSCALE:GREGORIAN
METHOD:PUBLISH
X-ORIGINAL-URL:https://biofoto.no
X-WR-CALDESC:Arrangement for BioFoto
REFRESH-INTERVAL;VALUE=DURATION:PT1H
X-Robots-Tag:noindex
X-PUBLISHED-TTL:PT1H
BEGIN:VTIMEZONE
TZID:Europe/Paris
BEGIN:DAYLIGHT
TZOFFSETFROM:+0100
TZOFFSETTO:+0200
TZNAME:CEST
DTSTART:20230326T010000
END:DAYLIGHT
BEGIN:STANDARD
TZOFFSETFROM:+0200
TZOFFSETTO:+0100
TZNAME:CET
DTSTART:20231029T010000
END:STANDARD
BEGIN:DAYLIGHT
TZOFFSETFROM:+0100
TZOFFSETTO:+0200
TZNAME:CEST
DTSTART:20240331T010000
END:DAYLIGHT
BEGIN:STANDARD
TZOFFSETFROM:+0200
TZOFFSETTO:+0100
TZNAME:CET
DTSTART:20241027T010000
END:STANDARD
BEGIN:DAYLIGHT
TZOFFSETFROM:+0100
TZOFFSETTO:+0200
TZNAME:CEST
DTSTART:20250330T010000
END:DAYLIGHT
BEGIN:STANDARD
TZOFFSETFROM:+0200
TZOFFSETTO:+0100
TZNAME:CET
DTSTART:20251026T010000
END:STANDARD
END:VTIMEZONE
BEGIN:VEVENT
DTSTART;TZID=Europe/Paris:20241204T190000
DTEND;TZID=Europe/Paris:20241204T210000
DTSTAMP:20260423T160841
CREATED:20241011T205200Z
LAST-MODIFIED:20241219T204227Z
UID:18194-1733338800-1733346000@biofoto.no
SUMMARY:Østlandet: medlemsmøte 4. desember med Bård Næss
DESCRIPTION:Julekos\, årets fotograf og Bård Næss.\nBiofoto Østlandet feirer årets siste medlemsmøte med litt julekos\, kveldskonkurranse\, kåring av årets fotograf samt et kjempespennende foredrag av og med den verdenskjente fotografen Bård Næss. \nFoto: Bård Næss\nI tillegg som eier og filmfotograf for Norway Naturefilm AS jobber Næss som daglig leder og redaktør av det norske magasinet Natur & Foto. Han er en profilert natur- og reklamefotograf i Norge. Han jobber for reklamebyrået Inkognito AS som fotograf. Han er prisvinner i flere nasjonale og internasjonale fotokonkurranser. Publisert og illustrert med fotografiene sine i over 40 bøker. Næss har hatt flere utstillinger og ble valgt ut av 100 andre billedkunstnere fra alle verdens hjørner til en fellesutstilling i Stockholm\, kalt Tid. I tillegg har han de siste 10 årene laget flere programmer med naturfilmer for NRK i samarbeid med Norway Naturefilm AS. Hans siste filmprosjekt blir vist  denne høsten på Naturkanal 1.En serie med 3 programmer som omhandler “Dyrenes adferd”\, laget i samarbeid med Torbjørn Martinsen. Næss er medlem av Norske Naturfotografer\, Biofoto\, Norsk Naturfilmforening og Drøbak kunstnerforum. \n\n\n\nForedraget heter “Min vei til målet” \n\n\n\nSom regel setter jeg meg et mål på hva jeg har i tankene på min fotografering og filming. Det kan være at jeg er opphengt i et smalt tema eller i et større og lengre prosjekt som varer i mange år. Jeg ønsker å fortelle litt om hva jeg tenker og opplever for å oppnå det målet jeg har satt meg. Underveis oppdager jeg ofte flere ting. Jeg kommer da i en ny fase og en kreativ prosess som inspirerer meg til å gå enda lengre inn i dybden på prosjektet jeg har startet. Foredraget vil inneholde dyrehistorier\, fototekniske ting\, forberedelser og hva jeg tenker under opptak. \n\n  \n\n			\n				\n			\n			\n				\n			\n			\n				\n			\n			\n				\n			\n		\n\n  \n 
URL:https://biofoto.no/event/medlemsmote-4-desember-med-bard-naess/
LOCATION:OsloMet Kjeller\, Kunnskapsveien 55\, Kjeller\, 2007\, Norway
CATEGORIES:Østlandet,Møter
ORGANIZER;CN="BioFoto %C3%98stlandet":MAILTO:ostlandet@biofoto.no
END:VEVENT
END:VCALENDAR