BEGIN:VCALENDAR
VERSION:2.0
PRODID:-//BioFoto - ECPv6.15.20//NONSGML v1.0//EN
CALSCALE:GREGORIAN
METHOD:PUBLISH
X-WR-CALNAME:BioFoto
X-ORIGINAL-URL:https://biofoto.no
X-WR-CALDESC:Arrangement for BioFoto
REFRESH-INTERVAL;VALUE=DURATION:PT1H
X-Robots-Tag:noindex
X-PUBLISHED-TTL:PT1H
BEGIN:VTIMEZONE
TZID:Europe/Paris
BEGIN:DAYLIGHT
TZOFFSETFROM:+0100
TZOFFSETTO:+0200
TZNAME:CEST
DTSTART:20230326T010000
END:DAYLIGHT
BEGIN:STANDARD
TZOFFSETFROM:+0200
TZOFFSETTO:+0100
TZNAME:CET
DTSTART:20231029T010000
END:STANDARD
BEGIN:DAYLIGHT
TZOFFSETFROM:+0100
TZOFFSETTO:+0200
TZNAME:CEST
DTSTART:20240331T010000
END:DAYLIGHT
BEGIN:STANDARD
TZOFFSETFROM:+0200
TZOFFSETTO:+0100
TZNAME:CET
DTSTART:20241027T010000
END:STANDARD
BEGIN:DAYLIGHT
TZOFFSETFROM:+0100
TZOFFSETTO:+0200
TZNAME:CEST
DTSTART:20250330T010000
END:DAYLIGHT
BEGIN:STANDARD
TZOFFSETFROM:+0200
TZOFFSETTO:+0100
TZNAME:CET
DTSTART:20251026T010000
END:STANDARD
END:VTIMEZONE
BEGIN:VEVENT
DTSTART;TZID=Europe/Paris:20241106T190000
DTEND;TZID=Europe/Paris:20241106T210000
DTSTAMP:20260423T174242
CREATED:20241011T204547Z
LAST-MODIFIED:20241011T204547Z
UID:18185-1730919600-1730926800@biofoto.no
SUMMARY:Medlemsmøte 6. november – Bente Klevenberg
DESCRIPTION:Makrofoto og lysmaling.  \nBente Klevenberg har vært medlem i Biofot Østlandsavdelingen i flere år. Hun er hovedsakelig makrofotograf og finner fotomotivene i sitt nærmiljø. Med sine sopp- og plantebilder ønsker hun å formidle naturens mangfold med fokus på former og små detaljer. Gjennom kamera ser hun naturen som et kunstverk.   \nPå kveldsmøtet vil hun vise makrobilder av sopp og planter\, og fortelle hvordan hun jobber med lys. Blant annet hvordan hun bruker lysmalingsteknikk.   \nHjemmeside: benteklevenbergphotography.net \nInstagram: @bklevenberg  \nTema kveldskonkurransen: Nærbilde/Macro
URL:https://biofoto.no/event/medlemsmote-6-november-bente-klevenberg/
LOCATION:OsloMet Kjeller\, Kunnskapsveien 55\, Kjeller\, 2007\, Norway
CATEGORIES:Østlandet
ORGANIZER;CN="BioFoto %C3%98stlandet":MAILTO:ostlandet@biofoto.no
END:VEVENT
BEGIN:VEVENT
DTSTART;TZID=Europe/Paris:20241123T100000
DTEND;TZID=Europe/Paris:20241123T170000
DTSTAMP:20260423T174242
CREATED:20241011T204816Z
LAST-MODIFIED:20241011T204816Z
UID:18191-1732356000-1732381200@biofoto.no
SUMMARY:Fugl i Frognerparken – 23. november
DESCRIPTION:Lørdag 23. november blir det tur til Frognerparken. Erfaringsmessig har det samlet segen del hegrer i parken på denne tiden\, i tillegg til at det kan være noen vannfugler i nedre dam og det skal være fossekall i bekken som renner videre nedover. \nFremmøte kl.10.00 ved “Sinnataggen”. \nDen vanlege turlederen er sjuk\, men Rine er vikar. Ta kontakt på 90653358 om du har spørsmål om turen. \nVelkommen til tur! \nKrikkender i Frognerparken. Foto: Rine G. Carlsen
URL:https://biofoto.no/event/fugl-i-frognerparken-23-november/
LOCATION:Frognerparken\, Kirkeveien\, Oslo\, 0268\, Norway
CATEGORIES:Østlandet
ORGANIZER;CN="BioFoto %C3%98stlandet":MAILTO:ostlandet@biofoto.no
END:VEVENT
END:VCALENDAR