BEGIN:VCALENDAR
VERSION:2.0
PRODID:-//BioFoto - ECPv6.15.20//NONSGML v1.0//EN
CALSCALE:GREGORIAN
METHOD:PUBLISH
X-WR-CALNAME:BioFoto
X-ORIGINAL-URL:https://biofoto.no
X-WR-CALDESC:Arrangement for BioFoto
REFRESH-INTERVAL;VALUE=DURATION:PT1H
X-Robots-Tag:noindex
X-PUBLISHED-TTL:PT1H
BEGIN:VTIMEZONE
TZID:Europe/Paris
BEGIN:DAYLIGHT
TZOFFSETFROM:+0100
TZOFFSETTO:+0200
TZNAME:CEST
DTSTART:20240331T010000
END:DAYLIGHT
BEGIN:STANDARD
TZOFFSETFROM:+0200
TZOFFSETTO:+0100
TZNAME:CET
DTSTART:20241027T010000
END:STANDARD
BEGIN:DAYLIGHT
TZOFFSETFROM:+0100
TZOFFSETTO:+0200
TZNAME:CEST
DTSTART:20250330T010000
END:DAYLIGHT
BEGIN:STANDARD
TZOFFSETFROM:+0200
TZOFFSETTO:+0100
TZNAME:CET
DTSTART:20251026T010000
END:STANDARD
BEGIN:DAYLIGHT
TZOFFSETFROM:+0100
TZOFFSETTO:+0200
TZNAME:CEST
DTSTART:20260329T010000
END:DAYLIGHT
BEGIN:STANDARD
TZOFFSETFROM:+0200
TZOFFSETTO:+0100
TZNAME:CET
DTSTART:20261025T010000
END:STANDARD
END:VTIMEZONE
BEGIN:VEVENT
DTSTART;VALUE=DATE:20250216
DTEND;VALUE=DATE:20250217
DTSTAMP:20260425T020530
CREATED:20250102T220439Z
LAST-MODIFIED:20250202T200018Z
UID:19458-1739664000-1739750399@biofoto.no
SUMMARY:Østlandet: Vinter i de dype skoger - Aurskog-Høland
DESCRIPTION:Bli med til det vidstrakte skogs- og åkerlandskapet i Aurskog-Høland. Planene for dagen inkluderer stopp ved fossefall – med motiver som islagte vann\, isformasjoner og ev. fossekaller. På vår vei gjennom et vinterlig skogs- og åkerlandskap kan man også få øye på elg\, rådyr og de første flokkene med sangsvaner og andre vadefugler. Turen avsluttes (for de som ønsker det) med grilling og sosialt samvær på siste “lokasjon”. \nTa med sitteunderlag\, drikke\, niste til lunsj og ev. egen mat du kan varme på bålet. \nOppmøte på parkeringsplassen utenfor Haneborgveien 739 søndag 16. februar kl. 09:00.\nAnslått tid: Fra kl 9 på oppmøtested Lierfoss (ca 50 minutters kjøring fra Oslo) til ca kl 14/15. \nNB: For de som ønsker det\, blir det også mulig å få kjøpt pølser m/tilbehør på stedet. \nTurleder: Bente Walander. Ta kontakt på 922 96 251  om du lurer på noe.
URL:https://biofoto.no/event/vinter-i-de-dype-skoger-aurskog-holand/
CATEGORIES:Østlandet,Turer
END:VEVENT
END:VCALENDAR