BEGIN:VCALENDAR
VERSION:2.0
PRODID:-//BioFoto - ECPv6.15.20//NONSGML v1.0//EN
CALSCALE:GREGORIAN
METHOD:PUBLISH
X-WR-CALNAME:BioFoto
X-ORIGINAL-URL:https://biofoto.no
X-WR-CALDESC:Arrangement for BioFoto
REFRESH-INTERVAL;VALUE=DURATION:PT1H
X-Robots-Tag:noindex
X-PUBLISHED-TTL:PT1H
BEGIN:VTIMEZONE
TZID:Europe/Paris
BEGIN:DAYLIGHT
TZOFFSETFROM:+0100
TZOFFSETTO:+0200
TZNAME:CEST
DTSTART:20230326T010000
END:DAYLIGHT
BEGIN:STANDARD
TZOFFSETFROM:+0200
TZOFFSETTO:+0100
TZNAME:CET
DTSTART:20231029T010000
END:STANDARD
BEGIN:DAYLIGHT
TZOFFSETFROM:+0100
TZOFFSETTO:+0200
TZNAME:CEST
DTSTART:20240331T010000
END:DAYLIGHT
BEGIN:STANDARD
TZOFFSETFROM:+0200
TZOFFSETTO:+0100
TZNAME:CET
DTSTART:20241027T010000
END:STANDARD
BEGIN:DAYLIGHT
TZOFFSETFROM:+0100
TZOFFSETTO:+0200
TZNAME:CEST
DTSTART:20250330T010000
END:DAYLIGHT
BEGIN:STANDARD
TZOFFSETFROM:+0200
TZOFFSETTO:+0100
TZNAME:CET
DTSTART:20251026T010000
END:STANDARD
END:VTIMEZONE
BEGIN:VEVENT
DTSTART;TZID=Europe/Paris:20241205T180000
DTEND;TZID=Europe/Paris:20241205T200000
DTSTAMP:20260425T051022
CREATED:20240906T193052Z
LAST-MODIFIED:20241011T200511Z
UID:17579-1733421600-1733428800@biofoto.no
SUMMARY:Medlemsmøte i Biofoto Hordaland
DESCRIPTION:Årets siste medlemsmøte\, og tema er Bilder fra Årets turer. Bli med på denne mimrekvelden hvor vi koser oss med gjensyn fra alle de flotte turene vi har vært med på i året som har gått. \nStedet er som vanlig Multisalen i Åsane kulturhus\, men møtet vil også bli overført på Teams. \nDet blir selvsagt en liten “skryte og skravlepause”\, jeg kan ikke love at nissen dukker opp\, men noe julegodt kan det vel hende at vi får. \nHjertelig velkommen!
URL:https://biofoto.no/event/medlemsmote-i-biofoto-hordaland-2/
LOCATION:Åsane Kulturhus\, Åsane senter 52\, Bergen\, 5116\, Norway
CATEGORIES:Hordaland
END:VEVENT
END:VCALENDAR