BEGIN:VCALENDAR
VERSION:2.0
PRODID:-//BioFoto - ECPv6.15.20//NONSGML v1.0//EN
CALSCALE:GREGORIAN
METHOD:PUBLISH
X-ORIGINAL-URL:https://biofoto.no
X-WR-CALDESC:Arrangement for BioFoto
REFRESH-INTERVAL;VALUE=DURATION:PT1H
X-Robots-Tag:noindex
X-PUBLISHED-TTL:PT1H
BEGIN:VTIMEZONE
TZID:Europe/Paris
BEGIN:DAYLIGHT
TZOFFSETFROM:+0100
TZOFFSETTO:+0200
TZNAME:CEST
DTSTART:20240331T010000
END:DAYLIGHT
BEGIN:STANDARD
TZOFFSETFROM:+0200
TZOFFSETTO:+0100
TZNAME:CET
DTSTART:20241027T010000
END:STANDARD
BEGIN:DAYLIGHT
TZOFFSETFROM:+0100
TZOFFSETTO:+0200
TZNAME:CEST
DTSTART:20250330T010000
END:DAYLIGHT
BEGIN:STANDARD
TZOFFSETFROM:+0200
TZOFFSETTO:+0100
TZNAME:CET
DTSTART:20251026T010000
END:STANDARD
BEGIN:DAYLIGHT
TZOFFSETFROM:+0100
TZOFFSETTO:+0200
TZNAME:CEST
DTSTART:20260329T010000
END:DAYLIGHT
BEGIN:STANDARD
TZOFFSETFROM:+0200
TZOFFSETTO:+0100
TZNAME:CET
DTSTART:20261025T010000
END:STANDARD
END:VTIMEZONE
BEGIN:VEVENT
DTSTART;TZID=Europe/Paris:20250107T180000
DTEND;TZID=Europe/Paris:20250107T204500
DTSTAMP:20260425T015856
CREATED:20241027T111839Z
LAST-MODIFIED:20250106T202110Z
UID:18528-1736272800-1736282700@biofoto.no
SUMMARY:Medlemsmøte Sørlandet - "Fra Lista til Lofoten" med Jarle I. Kvam
DESCRIPTION:Foredragsholder: Jarle I. Kvam\nTittel: Fra Lista til Lofoten\n \n\nMånedens Foto: “Solnedgang”\nBildesamtale\nKåring Topp 5 m/premieutdeling \nI pausen koser vi oss med deilig kake og kaffe! \nVELKOMMEN TIL MEDLEMMER OG ANDRE INTERESSERTE! 
URL:https://biofoto.no/event/medlemsmote-fra-lista-til-lofoten-med-jarle-i-kvam/
LOCATION:Rådhuskvartalet\, Rådhusgata 18\, KRISTIANSAND
CATEGORIES:Sørlandet
ORGANIZER;CN="BioFoto S%C3%B8rlandet":MAILTO:biofotosorlandet1@gmail.com
END:VEVENT
BEGIN:VEVENT
DTSTART;TZID=Europe/Paris:20250108T190000
DTEND;TZID=Europe/Paris:20250108T210000
DTSTAMP:20260425T015856
CREATED:20241125T211528Z
LAST-MODIFIED:20250113T211740Z
UID:18936-1736362800-1736370000@biofoto.no
SUMMARY:Østlandet: medlemsmøte 8. januar med Arne Nævra
DESCRIPTION:NATUROPPLEVELSER\, NATURFOTO OG NATUR UNDER PRESS\nArne Nævra er først og fremst kjent for utallige naturfilmer og naturserier på NRK\, og er en av de mest profilerte naturfilmskaperne i Norden. Det er nok å nevne Villdyr og Villmark (9 episoder fra hele verden)\, Antarktis- en eventyrlig seilas (3 episoder) med Stein P. Aasheim\, Norske Naturperler (8 episoder) fra utvalgte steder i landet i 2014. Dette var nok den mest omfattende serien laget i Norden med ville dyr i hovedrollen. Han har også vært mer og mer opptatt av å skildre ødeleggelsene i naturen\, og den siste serien Min Natur (4 episoder\, 2017)\, med blant andre Dag O. Hessen\, Trude Myhre og Gjermund Andersen\, var dette viktig. De siste åra har han jobbet sammen med Torgeir Beck Lande som han drev selskapet Naturbilder AS sammen med. I tillegg til disse større seriene har han vært sentral i Ut i naturens magasinprogram i mange år på 1990-tallet. I perioden 2017 til 2021 var han også stortingsrepresentant for SV\, innvalgt fra Buskerud\, der han spesielt jobba med miljørelaterte spørsmål. Men sjøl om TV-filmer har vært næringsveien for Nævra\, har han alltid hatt et Nikon stillskamera på brystet. «stillbildet er et eget uttrykk»\, sier Nævra\, «jeg har alltid vært fasinert av å skildre en historie eller en situasjon i ett eneste bilde. \nI kveld vil Nævra vise noen av høydepunktene sine som filmprodusent og stillbildefotograf\, der nærmøter med ville dyr står sentralt. Men siden han har blitt mer og mer opptatt av å advare mot nedbygging av naturen\, vil han også vise noen eksempler på hvordan kameraet kan brukes som våpen i naturvernkampen. Dette er en tematikk han har holdt foredrag om før\, og som også er tema for kveldskonkurransen. Dette at naturen angripes fra mange kanter er også viktig tematikk i hans nye bok Naturen og oss\, som han også har med for salg og signering på møtet (kr. 400\,-). \nTema for kveldskonkurransen er “Med kamera som våpen”.
URL:https://biofoto.no/event/ostlandet-medlemsmote-8-januar-med-arne-naevra/
LOCATION:OsloMet Kjeller\, Kunnskapsveien 55\, Kjeller\, 2007\, Norway
CATEGORIES:Østlandet,Møter
ATTACH;FMTTYPE=image/jpeg:https://biofoto.no/wp-content/uploads/2024/11/To-ulike-liv.jpg
ORGANIZER;CN="BioFoto %C3%98stlandet":MAILTO:ostlandet@biofoto.no
END:VEVENT
BEGIN:VEVENT
DTSTART;TZID=Europe/Paris:20250109T190000
DTEND;TZID=Europe/Paris:20250109T213000
DTSTAMP:20260425T015856
CREATED:20241111T183619Z
LAST-MODIFIED:20241219T204224Z
UID:18625-1736449200-1736458200@biofoto.no
SUMMARY:Østlandet: workshop i kreativ fotografering med Antje Meier
DESCRIPTION:Vi er så heldige at vi har kommet i kontakt med Antje Meier som ønsker å tilby workshops til medlemmene i BioFoto Østlandet til en rabattert pris. \n\nGrunnkurs kreative kamerateknikker: 9.1.25 og 16.1.25\nFordypningskurs ICM (kamerabevegelse): 06.02.25\, 13.02.25 og 20.02.25\nFordypningskurs ME (flere eksponeringer i kamera): 11.09.25\, 18.09.25 og 25.09.25\n\nAntall deltakere (gjelder hvert kurs): Minst 5 deltakere\, maks 8 deltakere\nTidspunkt: kl. 19 – 21.30 på Zoom (kan justeres etter behov)\nPåmelding: Påmelding på epost til antje@antjefoto.no. Påmeldingen er bindende. \nPris: 10% rabatt for BioFotomedlemmer allerede trukket ifra.\nBetaling: Regning for workshopen sendes fra Antje etter påmeldingen\, til hver enkel deltaker. Det er betalingsfrist på 10 dager. Alt skal være betalt av deltakerne før workshopen. Dersom kurset ikke kan gjennomføres vil deltakerne få tilbake det de har betalt. \n\nGrunnkurs – ICM og ME – 2 kvelder: 1100 NOK per deltaker\nFordypningskurs ICM – 3 kvelder: 1350 NOK per deltaker\nFordypningskurs ME – 3 kvelder: 1350 NOK per deltaker\n\nSpesiell pakkepris om en deltar på flere kurs: \n\nKurs 1 og 2 (eller 1 og 3): 2200 NOK\nKurs 2 og 3: 2450 NOK\nKurs 1\, 2\, og 3: 3400 NOK\n\n  \nInnhold: \n\nGrunnkurs kreative kamerateknikker: Bildeforedrag med undervisning om å se og om kreative teknikker i kamera (deltakerne følger med sitt eget kamera og får hjelp til å finneinnstillingene). Både bilder tatt med kamerabevegelse og bilder lagt sammen av to eller flere bilder i kamera vil bli tema. Eksempler vil bli vist. En kort repetisjon av grunnleggende innstillinger (blender\, lukkertid\, Iso) kan bli gitt. På slutten av den første kvelden får deltakerne oppgaver å jobbe med i en uke. Bildevisning av et utvalg av deltakernes bilder og samtale om bildene (ros og forbedringsforslag). Se også beskrivelse fra lignende kurs på antjefoto.no.\nFordypningskurs ICM (kamerabevegelse): Bildeforedrag med undervisning om ICM med mange eksempler og råd til kamerainnstillingene (deltakerne følger med sitt eget kamera og får hjelp til å finne innstillingene). På slutten av første kvelden får deltakerne oppgaver å jobbe med i en uke. På den andre kvelden er det bildevisning av et utvalg av deltakernes bilder og samtale om bildene (ros og forbedringsforslag). I tillegg vil nye teknikker og nye oppgaver bli presentert. Deltakerne jobber med oppgavene og utvalgte bilder vil bli presentert på den tredje kvelden. Workshopholder viser noen flere teknikker med eksempler. Se også beskrivelse på antjefoto.no.\nFordynpingskurs ME (flere eksponeringer i kamera): Bildeforedrag med undervisning om ME med mange eksempler og råd til kamerainnstillingene (deltakerne følger med sitt eget kamera og får hjelp til å finne innstillingene). Ellers lignende opplegg som kurs 2. Se også beskrivelse på antjefoto.no.\n\nHar du spørsmål eller er usikker på om kurset passer for deg er du velkommen til å sende en e-post til Antje til samme mail-adresse som påmelding. \n\n			\n				\n			\n			\n				\n			\n			\n				\n			\n			\n				\n			\n			\n				\n			\n			\n				\n			\n			\n				\n			\n			\n				\n			\n			\n				\n			\n		\n\n 
URL:https://biofoto.no/event/workshop-i-kreativ-fotografering-med-antje-meier/
LOCATION:Zoom\, Online
CATEGORIES:Østlandet,Kurs
ATTACH;FMTTYPE=image/jpeg:https://biofoto.no/wp-content/uploads/2024/11/Antje_Meier_ICM3.jpg
ORGANIZER;CN="BioFoto %C3%98stlandet":MAILTO:ostlandet@biofoto.no
END:VEVENT
BEGIN:VEVENT
DTSTART;TZID=Europe/Paris:20250112T100000
DTEND;TZID=Europe/Paris:20250112T150000
DTSTAMP:20260425T015856
CREATED:20250107T190542Z
LAST-MODIFIED:20250110T220412Z
UID:19521-1736676000-1736694000@biofoto.no
SUMMARY:Midt-Norge: dagstur Straumen
DESCRIPTION:BioFoto Midt-Norge inviterer til dagstur for medlemmene ved Straumen på Inderøya søndag 12. januar. \nHer er det mulig å fange både ærfugl\, haveller og en og annen skarv på matjakt. Og ikke minst slå av en prat med likesinnende. \nMange gode fotoråd deles på disse turene. \n\n\nDet er ingen påmelding. Oppmøte kl 10.00 på parkeringsplassen på høyre side når du kommer over brua sørfra. \nDerfra er det bare et par hundre meter å gå. Det er IKKE parkeringsmuligheter nede ved fjorden. \nOm du kommer senere\, finner du oss nede ved den gamle mølleplassen mellom naustene.\n\n\nTa med egen mat og gjerne en termos med varm drikke om du vil\, og gjerne noe brød til fuglene. \nTa også på varmt tøy etter været og fotoutstyr etter eget ønske og behov. Det er ikke tilgjengelig toalett eller tak over hodet nede ved Straumen.\n\n\nDet er korte dager nå og ikke mange timene med dagslys\, men er vi heldige kan vi få fine situasjoner med fuglelivet i vinterlyset. Styret.
URL:https://biofoto.no/event/dagstur-straumen/
LOCATION:Einhaugen 36\, 7670 Inderøy\, Einhaugen 36\, Inderøy\, 7670
CATEGORIES:Midt-Norge
END:VEVENT
BEGIN:VEVENT
DTSTART;TZID=Europe/Paris:20250125T140000
DTEND;TZID=Europe/Paris:20250125T170000
DTSTAMP:20260425T015856
CREATED:20250110T215733Z
LAST-MODIFIED:20250110T220334Z
UID:19543-1737813600-1737824400@biofoto.no
SUMMARY:CEWE Japan Photo i Tromsø inviterer til bildeforedrag
DESCRIPTION:CEWE Japan Photo Tromsø ønsker å invitere dere og deres medlemmer i BioFoto Troms & Finnmark og Nordland til et event knyttet til vår butikk på Jekta Storsenter i Tromsø. \nLørdag 25. januar kommer vår ambassadør\, Thor Håkonsen\, nordover for å holde et bildeforedrag der han viser frem det han driver med; Wonders of Cold Blood. Vi vil samtidig benytte anledningen å vise frem og fortelle om våre bildeprodukter og kanskje gi et tips eller to for hvordan du velger korrekt materiale til dine bilder. \nLørdag 25.januar kl. 14.\nOppmøte ved vår butikk på Jekta Storsenter:\nCEWE Japan Photo Tromsø\nKarlsøyvegen 12\, 9015 Tromsø \n\nKort informasjon om Thor Håkonsen:\nThor Håkonsen er lidenskaplig opptatt av reptiler generelt\, og hoggorm spesielt\, og reiser verden rundt for å observere og fotografere disse fascinerende skapningene.\nHan har vært ambassadør for CEWE Japan Photo siden 2017\, og leder i Norsk Herpetologisk Forening siden 2014. Thor er medlem av Norske Naturfotografer/NN og BioFoto. \n\nOm du ønsker å delta så gjerne meld deg på her.
URL:https://biofoto.no/event/cewe-japan-photo-i-tromso-inviterer-til-bildeforedrag/
LOCATION:CEWE Japan Photo Tromsø\, Karlsøyvegen 12\, Tromsø\, 9015\, Norway
CATEGORIES:Nordland,Troms og Finnmark,Nasjonalt
ATTACH;FMTTYPE=image/jpeg:https://biofoto.no/wp-content/uploads/2025/01/FB_event_topp_v2-1.jpg
ORGANIZER;CN="CEWE Japan Photo Troms%C3%B8":MAILTO:tromso@japanphoto.no
END:VEVENT
BEGIN:VEVENT
DTSTART;TZID=Europe/Paris:20250128T180000
DTEND;TZID=Europe/Paris:20250128T210000
DTSTAMP:20260425T015856
CREATED:20241216T184756Z
LAST-MODIFIED:20250120T204925Z
UID:19336-1738087200-1738098000@biofoto.no
SUMMARY:Midt-Norge: Medlemsmøte\, Årsmøte
DESCRIPTION:Årsmøte og medlemsmøte tirsdag 28.januar 2025 kl 18.30.\nDørene åpnes som vanlig kl 18\, slik at du kan komme i god tid for en prat. Vil du delta på møtet\nvia Teams\, går du inn i møtet via lenken som ble sendt ut i rundskrivet for januar 2025. \nPå møtet får du høre Torbjørn Martinsen fra Bøstad i Lofoten. Han har fulgt en elgokse i fem år\, og foredraget vil dreie seg om denne elgoksen og andre elger han kommer over på sin fotoferd. Etter pause og foredraget fra Torbjørn fortsetter vi med årsmøtet. Innkalling og sakspapirer ble sendt i egen epost 14.januar 2025. Møtet avsluttes med presentasjon av vinnerne av fotokonkurransen vår\, samt utdeling av premier. \n 
URL:https://biofoto.no/event/medlemsmote-arsmote/
LOCATION:Byåsen videregående skole\, Selsbakkveien 34\, Trondheim\, 7027
CATEGORIES:Midt-Norge
END:VEVENT
END:VCALENDAR