BEGIN:VCALENDAR
VERSION:2.0
PRODID:-//BioFoto - ECPv6.15.20//NONSGML v1.0//EN
CALSCALE:GREGORIAN
METHOD:PUBLISH
X-WR-CALNAME:BioFoto
X-ORIGINAL-URL:https://biofoto.no
X-WR-CALDESC:Arrangement for BioFoto
REFRESH-INTERVAL;VALUE=DURATION:PT1H
X-Robots-Tag:noindex
X-PUBLISHED-TTL:PT1H
BEGIN:VTIMEZONE
TZID:Europe/Paris
BEGIN:DAYLIGHT
TZOFFSETFROM:+0100
TZOFFSETTO:+0200
TZNAME:CEST
DTSTART:20240331T010000
END:DAYLIGHT
BEGIN:STANDARD
TZOFFSETFROM:+0200
TZOFFSETTO:+0100
TZNAME:CET
DTSTART:20241027T010000
END:STANDARD
BEGIN:DAYLIGHT
TZOFFSETFROM:+0100
TZOFFSETTO:+0200
TZNAME:CEST
DTSTART:20250330T010000
END:DAYLIGHT
BEGIN:STANDARD
TZOFFSETFROM:+0200
TZOFFSETTO:+0100
TZNAME:CET
DTSTART:20251026T010000
END:STANDARD
BEGIN:DAYLIGHT
TZOFFSETFROM:+0100
TZOFFSETTO:+0200
TZNAME:CEST
DTSTART:20260329T010000
END:DAYLIGHT
BEGIN:STANDARD
TZOFFSETFROM:+0200
TZOFFSETTO:+0100
TZNAME:CET
DTSTART:20261025T010000
END:STANDARD
END:VTIMEZONE
BEGIN:VEVENT
DTSTART;VALUE=DATE:20250628
DTEND;VALUE=DATE:20250629
DTSTAMP:20260419T152510
CREATED:20250202T161941Z
LAST-MODIFIED:20250619T191148Z
UID:19877-1751068800-1751155199@biofoto.no
SUMMARY:Østlandet: orkidetur til Slåttemyra
DESCRIPTION:Møt opp på Movatn stasjon kl. 10.30. Tog går fra Oslo Sentralstasjon kl. 10:04 (R31) med ankomst Movatn kl. 10:26. Det er også noen få parkeringsplasser på stasjonen. Merk: Disse kan være opptatt! \nSlåttemyra ligger mellom Movatn og Nittedal. Fra Movatn stasjon er det 2\,2 km. Det tar ca. 30 minutter å gå fra stasjonen til myra. På Slåttemyra er det funnet 10 arter og tre hybrider av orkidéer. Ta med matpakke og noe å drikke! \nTurleder er Morten Vagleng\, mobil: 911 36 599
URL:https://biofoto.no/event/orkidetur-til-slattemyra/
CATEGORIES:Østlandet,Turer
END:VEVENT
END:VCALENDAR