BEGIN:VCALENDAR
VERSION:2.0
PRODID:-//BioFoto - ECPv6.15.20//NONSGML v1.0//EN
CALSCALE:GREGORIAN
METHOD:PUBLISH
X-WR-CALNAME:BioFoto
X-ORIGINAL-URL:https://biofoto.no
X-WR-CALDESC:Arrangement for BioFoto
REFRESH-INTERVAL;VALUE=DURATION:PT1H
X-Robots-Tag:noindex
X-PUBLISHED-TTL:PT1H
BEGIN:VTIMEZONE
TZID:Europe/Paris
BEGIN:DAYLIGHT
TZOFFSETFROM:+0100
TZOFFSETTO:+0200
TZNAME:CEST
DTSTART:20240331T010000
END:DAYLIGHT
BEGIN:STANDARD
TZOFFSETFROM:+0200
TZOFFSETTO:+0100
TZNAME:CET
DTSTART:20241027T010000
END:STANDARD
BEGIN:DAYLIGHT
TZOFFSETFROM:+0100
TZOFFSETTO:+0200
TZNAME:CEST
DTSTART:20250330T010000
END:DAYLIGHT
BEGIN:STANDARD
TZOFFSETFROM:+0200
TZOFFSETTO:+0100
TZNAME:CET
DTSTART:20251026T010000
END:STANDARD
BEGIN:DAYLIGHT
TZOFFSETFROM:+0100
TZOFFSETTO:+0200
TZNAME:CEST
DTSTART:20260329T010000
END:DAYLIGHT
BEGIN:STANDARD
TZOFFSETFROM:+0200
TZOFFSETTO:+0100
TZNAME:CET
DTSTART:20261025T010000
END:STANDARD
END:VTIMEZONE
BEGIN:VEVENT
DTSTART;TZID=Europe/Paris:20250611T173000
DTEND;TZID=Europe/Paris:20250611T213000
DTSTAMP:20260419T152547
CREATED:20241125T212623Z
LAST-MODIFIED:20250427T060511Z
UID:18961-1749663000-1749677400@biofoto.no
SUMMARY:Naturfotodag i samarbeid med BioFoto Østlandet\, Stjørdal Foto og Sony onsdag 11. juni
DESCRIPTION:I samarbeid med vår sponsor Stjørdal foto og Sony Europa inviterer vi alle til Naturfotodag på OsloMet\, Kjeller\, en kveld med naturfoto\, foredrag og inspirasjon. Det vil være mulig å teste nyheter fra Sony. \nArrangementet er åpent for alle! Gratis deltakelse og pizza og drikke til alle. \nInspirasjon\, møte med andre naturfotografer og mat servering. \nForedrag med naturfotografene Magnus Winbjørk (https://www.instagram.com/winbjorkphoto/) og Petter Askø Ness ( https://www.instagram.com/pankb/). \nSony er til stede. Du får mulighet til å teste nyheter! \nPremieutdeling: Det vil være en loddtrekning med tre flotte premier til alle som kommer på møtet.  \nI tillegg dobler Stjørdal Foto premiesummene i kveldskonkurransen (kun for Biofoto-medlemmer). \nAgenda:\n17:30 – Dørene åpner\n\nVelkommen! Registrering og mingling.\nSony stiller ut og lar deg teste de nyeste kameranyhetene.\n\n18:00 – Foredrag: Magnus Winbjørk (ca. 50 min)\n\nEn visuell og inspirerende reise med en av Sveriges mest spennende naturfotografer.\nTema: landskap\, stemninger og nordisk natur.\n\n18:50 – Kort pause (10 min)\n\nKaffe\, prat og kamera-prøving med Sony.\n\n19:00 – Foredrag: Petter Askø Ness (ca. 30 min)\n\nPetter deler sine beste øyeblikk og teknikker innen fugle- og dyrefotografering.\n\n19:30 – Pizza og sosial pause (30 min)\n\nNyt mat og møt andre fotoentusiaster. Vi bestiller pizza til alle.\n\n20:00 – Fotokonkurranse og premieutdeling (ca. 40 min)\n\nVisning av innsendte bilder.\nKveldskonkurranse for BioFoto-medlemmer – premiesummene dobles i kveld!\nLoddtrekning med tre flotte premier – alle deltakere er med i trekningen!\n\n21:30 – Avslutning og takk for i kveld \nVi ser frem til en inspirerende dag og håper å se deg der! \nTema kveldskonkurranse: action (natur)\nInnleveringsfrist: 8. juni kl. 23:59
URL:https://biofoto.no/event/ostlandet-naturfotodag-11-juni/
LOCATION:OsloMet Kjeller\, Kunnskapsveien 55\, Kjeller\, 2007\, Norway
CATEGORIES:Østlandet,Nasjonalt,Møter
ORGANIZER;CN="BioFoto %C3%98stlandet":MAILTO:ostlandet@biofoto.no
END:VEVENT
END:VCALENDAR