BEGIN:VCALENDAR
VERSION:2.0
PRODID:-//BioFoto - ECPv6.15.20//NONSGML v1.0//EN
CALSCALE:GREGORIAN
METHOD:PUBLISH
X-ORIGINAL-URL:https://biofoto.no
X-WR-CALDESC:Arrangement for BioFoto
REFRESH-INTERVAL;VALUE=DURATION:PT1H
X-Robots-Tag:noindex
X-PUBLISHED-TTL:PT1H
BEGIN:VTIMEZONE
TZID:Europe/Paris
BEGIN:DAYLIGHT
TZOFFSETFROM:+0100
TZOFFSETTO:+0200
TZNAME:CEST
DTSTART:20240331T010000
END:DAYLIGHT
BEGIN:STANDARD
TZOFFSETFROM:+0200
TZOFFSETTO:+0100
TZNAME:CET
DTSTART:20241027T010000
END:STANDARD
BEGIN:DAYLIGHT
TZOFFSETFROM:+0100
TZOFFSETTO:+0200
TZNAME:CEST
DTSTART:20250330T010000
END:DAYLIGHT
BEGIN:STANDARD
TZOFFSETFROM:+0200
TZOFFSETTO:+0100
TZNAME:CET
DTSTART:20251026T010000
END:STANDARD
BEGIN:DAYLIGHT
TZOFFSETFROM:+0100
TZOFFSETTO:+0200
TZNAME:CEST
DTSTART:20260329T010000
END:DAYLIGHT
BEGIN:STANDARD
TZOFFSETFROM:+0200
TZOFFSETTO:+0100
TZNAME:CET
DTSTART:20261025T010000
END:STANDARD
END:VTIMEZONE
BEGIN:VEVENT
DTSTART;VALUE=DATE:20250606
DTEND;VALUE=DATE:20250609
DTSTAMP:20260419T152737
CREATED:20250106T185618Z
LAST-MODIFIED:20250106T185619Z
UID:19510-1749168000-1749427199@biofoto.no
SUMMARY:Landstreffet 2025: Bø i Vesterålen 6.-8. juni
DESCRIPTION:Velkommen til Landstreffet 2025 – Bø i Vesterålen – 06-08. Juni. \nForberedelsene til landstreffet er godt i gang\, og vi er ivrige etter å skape en flott helg for alle deltakere. Vi samles i Nord-Norge for en helg full av inspirasjon\, læring og nye foto eventyr. Vi er i hvalens og midtnattsolens rike! \nFjordcamp blir vår base for landstreffet. De tilbyr 34 hytter i tillegg til mulighet for telt og bobil.\nVi kommer tilbake til påmelding\, program og booking senere! \nSett av arrangementet på kalenderen allerede nå\, og forleng gjerne helgen med ekstra dager i Lofoten og Vesterålen. Om du ikke reiser i egen bil\, er det mulighet for å leie bil/bobil\, reise med hurtigruten eller kanskje reise sammen med gode fotovenner. Mulighetene er mange. \nVi ønsker alle medlemmer i BioFoto velkommen til en spennende helg i vakker natur.
URL:https://biofoto.no/event/landstreffet-2025-bo-i-vesteralen-6-8-juni/
LOCATION:Fjordcamp\, 8475 Straumsjøen
CATEGORIES:Nordland,Nasjonalt
ATTACH;FMTTYPE=image/jpeg:https://biofoto.no/wp-content/uploads/2024/11/LiseMariFoto_Vesteralen3.jpg
END:VEVENT
END:VCALENDAR