BEGIN:VCALENDAR
VERSION:2.0
PRODID:-//BioFoto - ECPv6.15.20//NONSGML v1.0//EN
CALSCALE:GREGORIAN
METHOD:PUBLISH
X-ORIGINAL-URL:https://biofoto.no
X-WR-CALDESC:Arrangement for BioFoto
REFRESH-INTERVAL;VALUE=DURATION:PT1H
X-Robots-Tag:noindex
X-PUBLISHED-TTL:PT1H
BEGIN:VTIMEZONE
TZID:Europe/Paris
BEGIN:DAYLIGHT
TZOFFSETFROM:+0100
TZOFFSETTO:+0200
TZNAME:CEST
DTSTART:20240331T010000
END:DAYLIGHT
BEGIN:STANDARD
TZOFFSETFROM:+0200
TZOFFSETTO:+0100
TZNAME:CET
DTSTART:20241027T010000
END:STANDARD
BEGIN:DAYLIGHT
TZOFFSETFROM:+0100
TZOFFSETTO:+0200
TZNAME:CEST
DTSTART:20250330T010000
END:DAYLIGHT
BEGIN:STANDARD
TZOFFSETFROM:+0200
TZOFFSETTO:+0100
TZNAME:CET
DTSTART:20251026T010000
END:STANDARD
BEGIN:DAYLIGHT
TZOFFSETFROM:+0100
TZOFFSETTO:+0200
TZNAME:CEST
DTSTART:20260329T010000
END:DAYLIGHT
BEGIN:STANDARD
TZOFFSETFROM:+0200
TZOFFSETTO:+0100
TZNAME:CET
DTSTART:20261025T010000
END:STANDARD
END:VTIMEZONE
BEGIN:VEVENT
DTSTART;TZID=Europe/Paris:20250425T150000
DTEND;TZID=Europe/Paris:20250427T170000
DTSTAMP:20260419T215150
CREATED:20250125T210417Z
LAST-MODIFIED:20250125T210417Z
UID:19776-1745593200-1745773200@biofoto.no
SUMMARY:Biofoto Hordaland - Tur til Nes i Hardanger
DESCRIPTION:Denne gangen går turen til Nes i Hardanger\, vi overnatter på Nestunet. Her kan det bli anledning til å fotografere padder\, hjort\, gammelskog\, kjempeeiker\, blåveis\, og mye annet! \nPåmelding til turleder Anders Lundberg\, anders.lundberg@gmail.com\, innen 1.april.
URL:https://biofoto.no/event/biofoto-hordaland-tur-til-nes-i-hardanger/
LOCATION:Nestunet
CATEGORIES:Hordaland
END:VEVENT
BEGIN:VEVENT
DTSTART;TZID=Europe/Paris:20250426T103000
DTEND;TZID=Europe/Paris:20250426T103000
DTSTAMP:20260419T215150
CREATED:20250410T122430Z
LAST-MODIFIED:20250510T081047Z
UID:21029-1745663400-1745663400@biofoto.no
SUMMARY:Sørlandet: fototur til Jomfruland
DESCRIPTION:Oppmøte fergekaia i Kragerø kl. 10.30
URL:https://biofoto.no/event/fototur-til-jomfruland/
CATEGORIES:Sørlandet
END:VEVENT
BEGIN:VEVENT
DTSTART;TZID=Europe/Paris:20250426T103000
DTEND;TZID=Europe/Paris:20250426T170000
DTSTAMP:20260419T215150
CREATED:20250415T131135Z
LAST-MODIFIED:20250415T131135Z
UID:21031-1745663400-1745686800@biofoto.no
SUMMARY:Fototur til Jomfruland med Biofoto Sørlandet
DESCRIPTION:Vi møter våren på Jomfruland. Oppmøte er på fergekaia i Kragerø klokken 10.30.
URL:https://biofoto.no/event/fototur-til-jomfruland-med-biofoto-sorlandet/
LOCATION:Kragerø
CATEGORIES:Sørlandet
END:VEVENT
END:VCALENDAR