BEGIN:VCALENDAR
VERSION:2.0
PRODID:-//BioFoto - ECPv6.15.20//NONSGML v1.0//EN
CALSCALE:GREGORIAN
METHOD:PUBLISH
X-ORIGINAL-URL:https://biofoto.no
X-WR-CALDESC:Arrangement for BioFoto
REFRESH-INTERVAL;VALUE=DURATION:PT1H
X-Robots-Tag:noindex
X-PUBLISHED-TTL:PT1H
BEGIN:VTIMEZONE
TZID:Europe/Paris
BEGIN:DAYLIGHT
TZOFFSETFROM:+0100
TZOFFSETTO:+0200
TZNAME:CEST
DTSTART:20180325T010000
END:DAYLIGHT
BEGIN:STANDARD
TZOFFSETFROM:+0200
TZOFFSETTO:+0100
TZNAME:CET
DTSTART:20181028T010000
END:STANDARD
BEGIN:DAYLIGHT
TZOFFSETFROM:+0100
TZOFFSETTO:+0200
TZNAME:CEST
DTSTART:20190331T010000
END:DAYLIGHT
BEGIN:STANDARD
TZOFFSETFROM:+0200
TZOFFSETTO:+0100
TZNAME:CET
DTSTART:20191027T010000
END:STANDARD
BEGIN:DAYLIGHT
TZOFFSETFROM:+0100
TZOFFSETTO:+0200
TZNAME:CEST
DTSTART:20200329T010000
END:DAYLIGHT
BEGIN:STANDARD
TZOFFSETFROM:+0200
TZOFFSETTO:+0100
TZNAME:CET
DTSTART:20201025T010000
END:STANDARD
END:VTIMEZONE
BEGIN:VEVENT
DTSTART;TZID=Europe/Paris:20190920T160000
DTEND;TZID=Europe/Paris:20190922T160000
DTSTAMP:20260420T104126
CREATED:20190820T171108Z
LAST-MODIFIED:20241011T200846Z
UID:10628-1568995200-1569168000@biofoto.no
SUMMARY:Midt-Norske NaturFotodager
DESCRIPTION:Midt-Norske NaturFotodager 20-22. september \nBioFoto Midt-Norge arrangerer Midt-Norske NaturFotodager i samarbeid med Stjørdal foto. \nPå programmet\, som varer ei hel helg\,  står foredrag med foredragsholdere fra både BioFoto og eksternt\, utstilling av medlemsbilder\, fotomesse\, sosial samling og fototur. \nDette er det største BioFoto Midt-Norge noen gang har arrangert\, og vi håper og tror vi har noe for enhver smak. Arrangementet er gratis og åpent for alle som er interessert i natur og naturfotografering.
URL:https://biofoto.no/event/midt-norske-naturfotodager-2/
LOCATION:Kimen kulturhus i Stjørdal\, Stjørdal
CATEGORIES:Midt-Norge
ATTACH;FMTTYPE=image/jpeg:https://biofoto.no/wp-content/uploads/2019/08/MidtNorskeNaturFotodager-2019_Plakat_V6-200819.jpg
END:VEVENT
END:VCALENDAR