BEGIN:VCALENDAR
VERSION:2.0
PRODID:-//BioFoto - ECPv6.15.20//NONSGML v1.0//EN
CALSCALE:GREGORIAN
METHOD:PUBLISH
X-ORIGINAL-URL:https://biofoto.no
X-WR-CALDESC:Arrangement for BioFoto
REFRESH-INTERVAL;VALUE=DURATION:PT1H
X-Robots-Tag:noindex
X-PUBLISHED-TTL:PT1H
BEGIN:VTIMEZONE
TZID:Europe/Paris
BEGIN:DAYLIGHT
TZOFFSETFROM:+0100
TZOFFSETTO:+0200
TZNAME:CEST
DTSTART:20180325T010000
END:DAYLIGHT
BEGIN:STANDARD
TZOFFSETFROM:+0200
TZOFFSETTO:+0100
TZNAME:CET
DTSTART:20181028T010000
END:STANDARD
BEGIN:DAYLIGHT
TZOFFSETFROM:+0100
TZOFFSETTO:+0200
TZNAME:CEST
DTSTART:20190331T010000
END:DAYLIGHT
BEGIN:STANDARD
TZOFFSETFROM:+0200
TZOFFSETTO:+0100
TZNAME:CET
DTSTART:20191027T010000
END:STANDARD
BEGIN:DAYLIGHT
TZOFFSETFROM:+0100
TZOFFSETTO:+0200
TZNAME:CEST
DTSTART:20200329T010000
END:DAYLIGHT
BEGIN:STANDARD
TZOFFSETFROM:+0200
TZOFFSETTO:+0100
TZNAME:CET
DTSTART:20201025T010000
END:STANDARD
END:VTIMEZONE
BEGIN:VEVENT
DTSTART;VALUE=DATE:20190620
DTEND;VALUE=DATE:20190624
DTSTAMP:20260420T023059
CREATED:20190516T192054Z
LAST-MODIFIED:20241011T200903Z
UID:8628-1560988800-1561334399@biofoto.no
SUMMARY:Medlemstur BioFoto Nordland
DESCRIPTION:Styret i BioFoto Nordland inviterer til fotohelg på Dønna.\nLanghelg fra torsdag 20. – søndag 23. juni. \nAlle medlemmer av BioFoto fra sør til nord kan melde seg på. \nFjell som stiger rett opp av havet i former og fasonger du knapt har sett før. Fjell med ansiktstrekk og fjell med utrolig panoramautsikt til tinder og hav; fjellene på Helgeland gir deg magiske naturopplevelser på kysten så vel som i innlandet. Se link “Bli med til Helgeland” for informasjon og påmelding. Velkommen til foto-tur Helgeland.
URL:https://biofoto.no/event/medlemstur-biofoto-nordland-4/
LOCATION:Dønna\, Dønna\, 8827\, Norge
CATEGORIES:Nordland
ATTACH;FMTTYPE=image/jpeg:https://biofoto.no/wp-content/uploads/2019/05/Dønna_2015_GeirA_-Lovund-1.jpg
END:VEVENT
END:VCALENDAR