BEGIN:VCALENDAR
VERSION:2.0
PRODID:-//BioFoto - ECPv6.15.20//NONSGML v1.0//EN
CALSCALE:GREGORIAN
METHOD:PUBLISH
X-WR-CALNAME:BioFoto
X-ORIGINAL-URL:https://biofoto.no
X-WR-CALDESC:Arrangement for BioFoto
REFRESH-INTERVAL;VALUE=DURATION:PT1H
X-Robots-Tag:noindex
X-PUBLISHED-TTL:PT1H
BEGIN:VTIMEZONE
TZID:Europe/Paris
BEGIN:DAYLIGHT
TZOFFSETFROM:+0100
TZOFFSETTO:+0200
TZNAME:CEST
DTSTART:20180325T010000
END:DAYLIGHT
BEGIN:STANDARD
TZOFFSETFROM:+0200
TZOFFSETTO:+0100
TZNAME:CET
DTSTART:20181028T010000
END:STANDARD
BEGIN:DAYLIGHT
TZOFFSETFROM:+0100
TZOFFSETTO:+0200
TZNAME:CEST
DTSTART:20190331T010000
END:DAYLIGHT
BEGIN:STANDARD
TZOFFSETFROM:+0200
TZOFFSETTO:+0100
TZNAME:CET
DTSTART:20191027T010000
END:STANDARD
BEGIN:DAYLIGHT
TZOFFSETFROM:+0100
TZOFFSETTO:+0200
TZNAME:CEST
DTSTART:20200329T010000
END:DAYLIGHT
BEGIN:STANDARD
TZOFFSETFROM:+0200
TZOFFSETTO:+0100
TZNAME:CET
DTSTART:20201025T010000
END:STANDARD
END:VTIMEZONE
BEGIN:VEVENT
DTSTART;TZID=Europe/Paris:20190404T180000
DTEND;TZID=Europe/Paris:20190404T210000
DTSTAMP:20260419T233453
CREATED:20190322T142130Z
LAST-MODIFIED:20241011T200936Z
UID:6866-1554400800-1554411600@biofoto.no
SUMMARY:Foredrag og Medlemsmøte Indre Østland
DESCRIPTION:BioFoto Indre Østland årsmøte.\nBioFoto Indre Østland holder årsmøte 4. april kl. 1800 på biblioteket i Brumunddal. \nMøte innledes med et åpent foredrag i samarbeid med biblioteket. Øyvind Antonsen holder det samme foredraget som han holdt på NNFF i år. \nhttps://www.ringsaker.kommune.no/droemmen-om-kolyma.6205909-448935.html?fbclid=IwAR2zycVZ6S7G0eRGynuNEaZHr5751nVkoFyvpRg4wkUyY7iunGBRr57NyVY \n 
URL:https://biofoto.no/event/foredrag-og-medlemsmote-indre-ostland/
CATEGORIES:Innlandet
ATTACH;FMTTYPE=image/jpeg:https://biofoto.no/wp-content/uploads/2019/03/Oyvind-antonsen-1.jpg
END:VEVENT
END:VCALENDAR