BEGIN:VCALENDAR
VERSION:2.0
PRODID:-//BioFoto - ECPv6.15.20//NONSGML v1.0//EN
CALSCALE:GREGORIAN
METHOD:PUBLISH
X-WR-CALNAME:BioFoto
X-ORIGINAL-URL:https://biofoto.no
X-WR-CALDESC:Arrangement for BioFoto
REFRESH-INTERVAL;VALUE=DURATION:PT1H
X-Robots-Tag:noindex
X-PUBLISHED-TTL:PT1H
BEGIN:VTIMEZONE
TZID:Europe/Paris
BEGIN:DAYLIGHT
TZOFFSETFROM:+0100
TZOFFSETTO:+0200
TZNAME:CEST
DTSTART:20180325T010000
END:DAYLIGHT
BEGIN:STANDARD
TZOFFSETFROM:+0200
TZOFFSETTO:+0100
TZNAME:CET
DTSTART:20181028T010000
END:STANDARD
BEGIN:DAYLIGHT
TZOFFSETFROM:+0100
TZOFFSETTO:+0200
TZNAME:CEST
DTSTART:20190331T010000
END:DAYLIGHT
BEGIN:STANDARD
TZOFFSETFROM:+0200
TZOFFSETTO:+0100
TZNAME:CET
DTSTART:20191027T010000
END:STANDARD
BEGIN:DAYLIGHT
TZOFFSETFROM:+0100
TZOFFSETTO:+0200
TZNAME:CEST
DTSTART:20200329T010000
END:DAYLIGHT
BEGIN:STANDARD
TZOFFSETFROM:+0200
TZOFFSETTO:+0100
TZNAME:CET
DTSTART:20201025T010000
END:STANDARD
END:VTIMEZONE
BEGIN:VEVENT
DTSTART;TZID=Europe/Paris:20190326T183000
DTEND;TZID=Europe/Paris:20190326T210000
DTSTAMP:20260419T220643
CREATED:20190322T142755Z
LAST-MODIFIED:20241011T201015Z
UID:6870-1553625000-1553634000@biofoto.no
SUMMARY:Medlemsmøte i BioFoto Midt-Norge
DESCRIPTION:Medlemsmøte i BioFoto Midt-Norge 26. mars \nPå møteagendaen står følgende punkter: \n·         Hovedforedrag: «Blant moskus og fotografer på Dovre » ved Arne Johannes Mortensen\n·         Bildekritikk: Jørn Konradsen og Knut Dreiås gir sine synspunkter på tre bilder som medlemmene har sendt inn til dette punktet\n·         Bilder fra fellesturer: Edvard Bergene vise bilder fra medlemsturer i høst og vinter\n·         Medlemmenes bilder: “Bilder fra Island rundt” ved Finn Nilsen\n·         Dagens framsnakk: Bente Prestmo-Edvardsen informerer om planer for Midt-Norske NaturFotodager\nOm hovedforedraget: \nMortensen jobber i Statens Naturoppsyn og har Hjerkinn og Dovre som sitt hjemmeområde. \nHan vet derfor mye om både moskus og fjellrev som mange naturfotografer jakter ivrig på. Her får vi både råd\, etisk veiledning og fakta i skjønn forening. \nMvh\nSolveig Rinnan Sundt
URL:https://biofoto.no/event/medlemsmote-i-biofoto-midt-norge/
LOCATION:Suhmhuset\, Elvegata 6\, Trondheim\, Norge
CATEGORIES:Midt-Norge
ATTACH;FMTTYPE=image/jpeg:https://biofoto.no/wp-content/uploads/2019/03/Moskus.jpg
END:VEVENT
END:VCALENDAR