BEGIN:VCALENDAR
VERSION:2.0
PRODID:-//BioFoto - ECPv6.15.20//NONSGML v1.0//EN
CALSCALE:GREGORIAN
METHOD:PUBLISH
X-WR-CALNAME:BioFoto
X-ORIGINAL-URL:https://biofoto.no
X-WR-CALDESC:Arrangement for BioFoto
REFRESH-INTERVAL;VALUE=DURATION:PT1H
X-Robots-Tag:noindex
X-PUBLISHED-TTL:PT1H
BEGIN:VTIMEZONE
TZID:Europe/Paris
BEGIN:DAYLIGHT
TZOFFSETFROM:+0100
TZOFFSETTO:+0200
TZNAME:CEST
DTSTART:20170326T010000
END:DAYLIGHT
BEGIN:STANDARD
TZOFFSETFROM:+0200
TZOFFSETTO:+0100
TZNAME:CET
DTSTART:20171029T010000
END:STANDARD
BEGIN:DAYLIGHT
TZOFFSETFROM:+0100
TZOFFSETTO:+0200
TZNAME:CEST
DTSTART:20180325T010000
END:DAYLIGHT
BEGIN:STANDARD
TZOFFSETFROM:+0200
TZOFFSETTO:+0100
TZNAME:CET
DTSTART:20181028T010000
END:STANDARD
BEGIN:DAYLIGHT
TZOFFSETFROM:+0100
TZOFFSETTO:+0200
TZNAME:CEST
DTSTART:20190331T010000
END:DAYLIGHT
BEGIN:STANDARD
TZOFFSETFROM:+0200
TZOFFSETTO:+0100
TZNAME:CET
DTSTART:20191027T010000
END:STANDARD
END:VTIMEZONE
BEGIN:VEVENT
DTSTART;TZID=Europe/Paris:20181211T183000
DTEND;TZID=Europe/Paris:20181211T203000
DTSTAMP:20260419T172802
CREATED:20181204T183613Z
LAST-MODIFIED:20241011T201248Z
UID:6097-1544553000-1544560200@biofoto.no
SUMMARY:Medlemsmøte i BioFoto Midt-Norge 11. desember
DESCRIPTION:Tid: 11. desember kl 18:30\nSted: Suhmhuset ved Vitenskapsmuseet i Trondheim\nBilde:  Se vedlegg \nTekst: \nMedlemsmøte i BioFoto Midt-Norge 11. desember \nPå møteagendaen står følgende punkter: \nHovedforedrag: \n\n“Maasai Mara” ved Edvard Bergene\, Anne Bergene\, Terje Gran\, Marianne Brurok og Einar Hugnes.\n\nDisse BioFoto-medlemmene deltok på en tur organisert av Stjørdal foto i oktober. \nHøstkonkurransen: \n\nKåring av “Årets bilde” i BioFoto Midt-Norge\n\nDagens tips: \n\nEdvard Bergene gir dagens Lightroom-tips\n\nDagens framsnakk: \n\nDenne dagen framsnakker vi oss selv: Linda Bjørgan presenterer planene våre for neste år\n\nMvh\nSolveig Rinnan Sundt
URL:https://biofoto.no/event/medlemsmote-i-biofoto-midt-norge-11-desember/
LOCATION:Suhmhuset\, Elvegata 6\, Trondheim\, Norge
CATEGORIES:Midt-Norge
ATTACH;FMTTYPE=image/jpeg:https://biofoto.no/wp-content/uploads/2018/12/Maasai.jpg
END:VEVENT
END:VCALENDAR