BEGIN:VCALENDAR
VERSION:2.0
PRODID:-//BioFoto - ECPv6.15.20//NONSGML v1.0//EN
CALSCALE:GREGORIAN
METHOD:PUBLISH
X-ORIGINAL-URL:https://biofoto.no
X-WR-CALDESC:Arrangement for BioFoto
REFRESH-INTERVAL;VALUE=DURATION:PT1H
X-Robots-Tag:noindex
X-PUBLISHED-TTL:PT1H
BEGIN:VTIMEZONE
TZID:Europe/Paris
BEGIN:DAYLIGHT
TZOFFSETFROM:+0100
TZOFFSETTO:+0200
TZNAME:CEST
DTSTART:20170326T010000
END:DAYLIGHT
BEGIN:STANDARD
TZOFFSETFROM:+0200
TZOFFSETTO:+0100
TZNAME:CET
DTSTART:20171029T010000
END:STANDARD
BEGIN:DAYLIGHT
TZOFFSETFROM:+0100
TZOFFSETTO:+0200
TZNAME:CEST
DTSTART:20180325T010000
END:DAYLIGHT
BEGIN:STANDARD
TZOFFSETFROM:+0200
TZOFFSETTO:+0100
TZNAME:CET
DTSTART:20181028T010000
END:STANDARD
BEGIN:DAYLIGHT
TZOFFSETFROM:+0100
TZOFFSETTO:+0200
TZNAME:CEST
DTSTART:20190331T010000
END:DAYLIGHT
BEGIN:STANDARD
TZOFFSETFROM:+0200
TZOFFSETTO:+0100
TZNAME:CET
DTSTART:20191027T010000
END:STANDARD
END:VTIMEZONE
BEGIN:VEVENT
DTSTART;TZID=Europe/Paris:20180227T180000
DTEND;TZID=Europe/Paris:20180227T210000
DTSTAMP:20260420T035916
CREATED:20180117T204428Z
LAST-MODIFIED:20241011T201836Z
UID:4504-1519754400-1519765200@biofoto.no
SUMMARY:Medlemsmøte BioFoto Midt-Norge
DESCRIPTION:Foto: Børge Wahl \nMedlemsmøte i BioFoto Midt-Norge 27. februar kl 18:00 \nHovedforedrag: \nLars Andreas Dybvik presenterer den nye boka si «PLAY» \n \n\nMedlemmenes bilder: \nFinn Nilsen viser bilder fra turen sin til Borneo \nEdvard Bergene viser deltakernes bilder fra årets medlemsturer til Smøla og Flatanger \nLars Andreas vil presentere boka si og fortelle hvordan han har jobbet underveis\, både rent praktisk og konseptuelt for å velge bilder og layout. Vi får se førsteutgave og trykkark som viser hvordan bøker trykkes. Dette er første gang Lars Andreas har brukt tid på hele produktet\, som valg av papir\, trykk\, bildejusteringer\, sammensetning av bilder på oppslag\, store eller små bilder osv.  Boka selges på møtet. Vanlig utgave koster kr 360. Nummerert utgave inkl. signert bilde koster kr 495. Du kan betale kontant eller med Vipps. \nMvh Solveig Rinnan Sundt
URL:https://biofoto.no/event/medlemsmote-biofoto-midt-norge-3/
LOCATION:Suhmhuset\,\, Trondheim
CATEGORIES:Midt-Norge
ATTACH;FMTTYPE=image/jpeg:https://biofoto.no/wp-content/uploads/2018/01/Januar.jpg
END:VEVENT
END:VCALENDAR