BEGIN:VCALENDAR
VERSION:2.0
PRODID:-//BioFoto - ECPv6.15.20//NONSGML v1.0//EN
CALSCALE:GREGORIAN
METHOD:PUBLISH
X-ORIGINAL-URL:https://biofoto.no
X-WR-CALDESC:Arrangement for BioFoto
REFRESH-INTERVAL;VALUE=DURATION:PT1H
X-Robots-Tag:noindex
X-PUBLISHED-TTL:PT1H
BEGIN:VTIMEZONE
TZID:Europe/Paris
BEGIN:DAYLIGHT
TZOFFSETFROM:+0100
TZOFFSETTO:+0200
TZNAME:CEST
DTSTART:20170326T010000
END:DAYLIGHT
BEGIN:STANDARD
TZOFFSETFROM:+0200
TZOFFSETTO:+0100
TZNAME:CET
DTSTART:20171029T010000
END:STANDARD
BEGIN:DAYLIGHT
TZOFFSETFROM:+0100
TZOFFSETTO:+0200
TZNAME:CEST
DTSTART:20180325T010000
END:DAYLIGHT
BEGIN:STANDARD
TZOFFSETFROM:+0200
TZOFFSETTO:+0100
TZNAME:CET
DTSTART:20181028T010000
END:STANDARD
BEGIN:DAYLIGHT
TZOFFSETFROM:+0100
TZOFFSETTO:+0200
TZNAME:CEST
DTSTART:20190331T010000
END:DAYLIGHT
BEGIN:STANDARD
TZOFFSETFROM:+0200
TZOFFSETTO:+0100
TZNAME:CET
DTSTART:20191027T010000
END:STANDARD
END:VTIMEZONE
BEGIN:VEVENT
DTSTART;TZID=Europe/Paris:20180215T180000
DTEND;TZID=Europe/Paris:20180215T210000
DTSTAMP:20260420T052451
CREATED:20171218T202158Z
LAST-MODIFIED:20241011T201842Z
UID:4454-1518717600-1518728400@biofoto.no
SUMMARY:Videokurs for BioFoto Midt-Norge
DESCRIPTION:Arrangement 5 \nTittel: Videokurs for BioFoto Midt-Norge\nTidspunkt: Torsdag 15. februar 2018 kl 18:00 – 21:00 \nSted: Torgkvartalet i Stjørdal\, 3. etasje \nBilde: video.jpg (vedlagt) \nTekst:  Stjørdal Foto tilbyr BioFoto Midt-Norges medlemmer gratis kurs i videofotografering. Påmelding til Linda Bjørgan innen 20. januar på tlf 906 310 241 eller Facebook. Max 10 plasser.
URL:https://biofoto.no/event/videokurs-biofoto-midt-norge/
LOCATION:Torgkvartalet\, Stjørdal\, Stokmovegen 2\, Stjørda\, 7500
CATEGORIES:Midt-Norge
ATTACH;FMTTYPE=image/jpeg:https://biofoto.no/wp-content/uploads/2017/12/video.jpg
END:VEVENT
END:VCALENDAR