BEGIN:VCALENDAR
VERSION:2.0
PRODID:-//BioFoto - ECPv6.15.20//NONSGML v1.0//EN
CALSCALE:GREGORIAN
METHOD:PUBLISH
X-ORIGINAL-URL:https://biofoto.no
X-WR-CALDESC:Arrangement for BioFoto
REFRESH-INTERVAL;VALUE=DURATION:PT1H
X-Robots-Tag:noindex
X-PUBLISHED-TTL:PT1H
BEGIN:VTIMEZONE
TZID:Europe/Paris
BEGIN:DAYLIGHT
TZOFFSETFROM:+0100
TZOFFSETTO:+0200
TZNAME:CEST
DTSTART:20170326T010000
END:DAYLIGHT
BEGIN:STANDARD
TZOFFSETFROM:+0200
TZOFFSETTO:+0100
TZNAME:CET
DTSTART:20171029T010000
END:STANDARD
BEGIN:DAYLIGHT
TZOFFSETFROM:+0100
TZOFFSETTO:+0200
TZNAME:CEST
DTSTART:20180325T010000
END:DAYLIGHT
BEGIN:STANDARD
TZOFFSETFROM:+0200
TZOFFSETTO:+0100
TZNAME:CET
DTSTART:20181028T010000
END:STANDARD
BEGIN:DAYLIGHT
TZOFFSETFROM:+0100
TZOFFSETTO:+0200
TZNAME:CEST
DTSTART:20190331T010000
END:DAYLIGHT
BEGIN:STANDARD
TZOFFSETFROM:+0200
TZOFFSETTO:+0100
TZNAME:CET
DTSTART:20191027T010000
END:STANDARD
END:VTIMEZONE
BEGIN:VEVENT
DTSTART;TZID=Europe/Paris:20180204T110000
DTEND;TZID=Europe/Paris:20180204T190000
DTSTAMP:20260420T052157
CREATED:20171030T195950Z
LAST-MODIFIED:20241011T201909Z
UID:4008-1517742000-1517770800@biofoto.no
SUMMARY:Natur&Foto-dagen
DESCRIPTION:Natur&Foto-dagen i Oslo konserthus 4. februar tidligere i år ble en suksess. Derfor gjentaes suksessen på samme dag i 2018. Foruten gedigen premiedryss til Nordens beste naturfotografer\, byr Natur&Foto også denne gangen på inspirerende foredrag i verdensklasse. Fotobransjen er til stede på egen fotomesse med gode tilbud. Dette er en happening du bør få med deg! \n  \nHER KAN DU FØLGE ARRANGEMANGET PÅ FACEBOOK \nPRAKTISK INFO\nKonserten starter presis.\nIngen aldersgrense. \nFor rullestolplass\nkontakt billettluken\npå 23113111 eller billetter@okh.no \nHer kan du lese om Natur&Foto-dagen i Oslo konserthus \n  \nPRISER (EKS. BILL. AVGIFT)550\,-
URL:https://biofoto.no/event/naturfoto-dagen/
LOCATION:Oslo konserthus\, Munkedamsveien 14\, Oslo\, 0115\, Norge
CATEGORIES:Nasjonalt
ATTACH;FMTTYPE=image/png:https://biofoto.no/wp-content/uploads/2015/11/nnpc_2016.png
END:VEVENT
END:VCALENDAR