BEGIN:VCALENDAR
VERSION:2.0
PRODID:-//BioFoto - ECPv6.15.20//NONSGML v1.0//EN
CALSCALE:GREGORIAN
METHOD:PUBLISH
X-ORIGINAL-URL:https://biofoto.no
X-WR-CALDESC:Arrangement for BioFoto
REFRESH-INTERVAL;VALUE=DURATION:PT1H
X-Robots-Tag:noindex
X-PUBLISHED-TTL:PT1H
BEGIN:VTIMEZONE
TZID:Europe/Paris
BEGIN:DAYLIGHT
TZOFFSETFROM:+0100
TZOFFSETTO:+0200
TZNAME:CEST
DTSTART:20170326T010000
END:DAYLIGHT
BEGIN:STANDARD
TZOFFSETFROM:+0200
TZOFFSETTO:+0100
TZNAME:CET
DTSTART:20171029T010000
END:STANDARD
BEGIN:DAYLIGHT
TZOFFSETFROM:+0100
TZOFFSETTO:+0200
TZNAME:CEST
DTSTART:20180325T010000
END:DAYLIGHT
BEGIN:STANDARD
TZOFFSETFROM:+0200
TZOFFSETTO:+0100
TZNAME:CET
DTSTART:20181028T010000
END:STANDARD
BEGIN:DAYLIGHT
TZOFFSETFROM:+0100
TZOFFSETTO:+0200
TZNAME:CEST
DTSTART:20190331T010000
END:DAYLIGHT
BEGIN:STANDARD
TZOFFSETFROM:+0200
TZOFFSETTO:+0100
TZNAME:CET
DTSTART:20191027T010000
END:STANDARD
END:VTIMEZONE
BEGIN:VEVENT
DTSTART;TZID=Europe/Paris:20180130T183000
DTEND;TZID=Europe/Paris:20180130T210000
DTSTAMP:20260420T052206
CREATED:20180117T204145Z
LAST-MODIFIED:20241011T201913Z
UID:4500-1517337000-1517346000@biofoto.no
SUMMARY:Årsmøte og medlemsmøte i BioFoto Midt-Norge
DESCRIPTION:Foto: Børge Wahl \nÅrsmøte og medlemsmøte i BioFoto Midt-Norge 30. januar kl 18:30\nPå møteagendaen står følgende punkter: \nHovedforedrag: \n – «365 fotografier gjennom ett år” v/Børge Wahl \nÅrsmøte: \n – Årsmøtepapirene ble sendt på mail til medlemmene 11. januar \nAnnet:\n– Informasjon om vårens Midt-Norske NaturFotodager v/Einar Hugnes
URL:https://biofoto.no/event/arsmote-medlemsmote-biofoto-midt-norge/
CATEGORIES:Midt-Norge
ATTACH;FMTTYPE=image/jpeg:https://biofoto.no/wp-content/uploads/2018/01/Januar.jpg
END:VEVENT
END:VCALENDAR