BEGIN:VCALENDAR
VERSION:2.0
PRODID:-//BioFoto - ECPv6.15.20//NONSGML v1.0//EN
CALSCALE:GREGORIAN
METHOD:PUBLISH
X-ORIGINAL-URL:https://biofoto.no
X-WR-CALDESC:Arrangement for BioFoto
REFRESH-INTERVAL;VALUE=DURATION:PT1H
X-Robots-Tag:noindex
X-PUBLISHED-TTL:PT1H
BEGIN:VTIMEZONE
TZID:Europe/Paris
BEGIN:DAYLIGHT
TZOFFSETFROM:+0100
TZOFFSETTO:+0200
TZNAME:CEST
DTSTART:20170326T010000
END:DAYLIGHT
BEGIN:STANDARD
TZOFFSETFROM:+0200
TZOFFSETTO:+0100
TZNAME:CET
DTSTART:20171029T010000
END:STANDARD
BEGIN:DAYLIGHT
TZOFFSETFROM:+0100
TZOFFSETTO:+0200
TZNAME:CEST
DTSTART:20180325T010000
END:DAYLIGHT
BEGIN:STANDARD
TZOFFSETFROM:+0200
TZOFFSETTO:+0100
TZNAME:CET
DTSTART:20181028T010000
END:STANDARD
BEGIN:DAYLIGHT
TZOFFSETFROM:+0100
TZOFFSETTO:+0200
TZNAME:CEST
DTSTART:20190331T010000
END:DAYLIGHT
BEGIN:STANDARD
TZOFFSETFROM:+0200
TZOFFSETTO:+0100
TZNAME:CET
DTSTART:20191027T010000
END:STANDARD
END:VTIMEZONE
BEGIN:VEVENT
DTSTART;TZID=Europe/Paris:20180129T190000
DTEND;TZID=Europe/Paris:20180129T213000
DTSTAMP:20260420T052153
CREATED:20180127T131614Z
LAST-MODIFIED:20241011T201918Z
UID:4533-1517252400-1517261400@biofoto.no
SUMMARY:Sentralstyremøte BioFoto Skype
DESCRIPTION:Sentralstyremøte BioFoto\nDag/dato: Mandag 29.01.18\nTid: kl. 19.00 – 21.30\nSted: Skype \nSaker: \n– Natur&Foto-dagen (febr) \n– NNFF (mars) \n– Landstreff (juni) \n– Fotografiets dager (aug) \nm.m.
URL:https://biofoto.no/event/sentralstyremote-biofoto-skype/
LOCATION:Skype
CATEGORIES:Sentralstyret
ATTACH;FMTTYPE=image/jpeg:https://biofoto.no/wp-content/uploads/2018/01/Nordlys-Lofoten-foto-Tommy-Andreassen-4045.jpg
END:VEVENT
END:VCALENDAR