BEGIN:VCALENDAR
VERSION:2.0
PRODID:-//BioFoto - ECPv6.15.20//NONSGML v1.0//EN
CALSCALE:GREGORIAN
METHOD:PUBLISH
X-WR-CALNAME:BioFoto
X-ORIGINAL-URL:https://biofoto.no
X-WR-CALDESC:Arrangement for BioFoto
REFRESH-INTERVAL;VALUE=DURATION:PT1H
X-Robots-Tag:noindex
X-PUBLISHED-TTL:PT1H
BEGIN:VTIMEZONE
TZID:Europe/Paris
BEGIN:DAYLIGHT
TZOFFSETFROM:+0100
TZOFFSETTO:+0200
TZNAME:CEST
DTSTART:20170326T010000
END:DAYLIGHT
BEGIN:STANDARD
TZOFFSETFROM:+0200
TZOFFSETTO:+0100
TZNAME:CET
DTSTART:20171029T010000
END:STANDARD
BEGIN:DAYLIGHT
TZOFFSETFROM:+0100
TZOFFSETTO:+0200
TZNAME:CEST
DTSTART:20180325T010000
END:DAYLIGHT
BEGIN:STANDARD
TZOFFSETFROM:+0200
TZOFFSETTO:+0100
TZNAME:CET
DTSTART:20181028T010000
END:STANDARD
BEGIN:DAYLIGHT
TZOFFSETFROM:+0100
TZOFFSETTO:+0200
TZNAME:CEST
DTSTART:20190331T010000
END:DAYLIGHT
BEGIN:STANDARD
TZOFFSETFROM:+0200
TZOFFSETTO:+0100
TZNAME:CET
DTSTART:20191027T010000
END:STANDARD
END:VTIMEZONE
BEGIN:VEVENT
DTSTART;TZID=Europe/Paris:20180115T180000
DTEND;TZID=Europe/Paris:20180116T210000
DTSTAMP:20260420T071433
CREATED:20171218T201153Z
LAST-MODIFIED:20241011T201958Z
UID:4445-1516039200-1516136400@biofoto.no
SUMMARY:Kurs i Lightroom lagring/arkivering for BioFoto Midt-Norge
DESCRIPTION:Arrangement 3 \nTittel: Kurs i Lightroom lagring/arkivering for BioFoto Midt-Norge\nTidspunkt: Mandag 15. januar 2018 kl 18:00 – 21:00 og Tirsdag 16. januar 2018 kl 18:00 – 21:00 \nSted: Torgkvartalet\, Stjørdal
URL:https://biofoto.no/event/kurs-lightroom-lagringarkivering-biofoto-midt-norge/
LOCATION:Torgkvartalet\, Stjørdal\, Stokmovegen 2\, Stjørda\, 7500
CATEGORIES:Midt-Norge
ATTACH;FMTTYPE=image/jpeg:https://biofoto.no/wp-content/uploads/2017/12/Lightroom.jpeg
END:VEVENT
END:VCALENDAR