BEGIN:VCALENDAR
VERSION:2.0
PRODID:-//BioFoto - ECPv6.15.20//NONSGML v1.0//EN
CALSCALE:GREGORIAN
METHOD:PUBLISH
X-WR-CALNAME:BioFoto
X-ORIGINAL-URL:https://biofoto.no
X-WR-CALDESC:Arrangement for BioFoto
REFRESH-INTERVAL;VALUE=DURATION:PT1H
X-Robots-Tag:noindex
X-PUBLISHED-TTL:PT1H
BEGIN:VTIMEZONE
TZID:Europe/Paris
BEGIN:DAYLIGHT
TZOFFSETFROM:+0100
TZOFFSETTO:+0200
TZNAME:CEST
DTSTART:20170326T010000
END:DAYLIGHT
BEGIN:STANDARD
TZOFFSETFROM:+0200
TZOFFSETTO:+0100
TZNAME:CET
DTSTART:20171029T010000
END:STANDARD
BEGIN:DAYLIGHT
TZOFFSETFROM:+0100
TZOFFSETTO:+0200
TZNAME:CEST
DTSTART:20180325T010000
END:DAYLIGHT
BEGIN:STANDARD
TZOFFSETFROM:+0200
TZOFFSETTO:+0100
TZNAME:CET
DTSTART:20181028T010000
END:STANDARD
BEGIN:DAYLIGHT
TZOFFSETFROM:+0100
TZOFFSETTO:+0200
TZNAME:CEST
DTSTART:20190331T010000
END:DAYLIGHT
BEGIN:STANDARD
TZOFFSETFROM:+0200
TZOFFSETTO:+0100
TZNAME:CET
DTSTART:20191027T010000
END:STANDARD
END:VTIMEZONE
BEGIN:VEVENT
DTSTART;TZID=Europe/Paris:20180110T180000
DTEND;TZID=Europe/Paris:20180111T210000
DTSTAMP:20260420T071334
CREATED:20171218T193000Z
LAST-MODIFIED:20241011T202010Z
UID:4436-1515607200-1515704400@biofoto.no
SUMMARY:Kurs i Lightroom redigering for BioFoto Midt-Norge
DESCRIPTION:Arrangement 1 \nTittel: Kurs i Lightroom redigering for BioFoto Midt-Norge\nTidspunkt: Onsdag 10. januar 2018 kl 18:00 – 21:00 og \nTorsdag 11. januar 2018 kl 18:00 – 21:00 \nSted: Fotofagskolen i Ila\, Trondheim
URL:https://biofoto.no/event/kurs-lightroom-redigering-biofoto-midt-norge/
LOCATION:NORSK FOTOFAGSKOLE AS\, Mellomila 56\, TRONDHEIM\, 7018
CATEGORIES:Midt-Norge
ATTACH;FMTTYPE=image/jpeg:https://biofoto.no/wp-content/uploads/2017/12/Lightroom.jpeg
END:VEVENT
BEGIN:VEVENT
DTSTART;TZID=Europe/Paris:20180110T190000
DTEND;TZID=Europe/Paris:20180110T213000
DTSTAMP:20260420T071334
CREATED:20180117T211530Z
LAST-MODIFIED:20241011T202003Z
UID:4510-1515610800-1515619800@biofoto.no
SUMMARY:Medlemsmøte BioFoto Sunnmøre og Nordfjord
DESCRIPTION:10. Januar\, kl. 19.00 – 21.30\, Pinsekyrkja i Volda (kjellerstua) Stormyra 3\, 6100 Volda\n\n7. Februar\, kl. 19.00 – 21.30\, Pinsekyrkja i Volda (kjellerstua) Stormyra 3\, 6100 Volda\n\n7. Mars\, kl. 19.00 – 21.30\, Pinsekyrkja i Volda (kjellerstua) Stormyra 3\, 6100 Volda\n\n4. April\, kl. 19.00 – 21.30\, Pinsekyrkja i Volda (kjellerstua) Stormyra 3\, 6100 Volda
URL:https://biofoto.no/event/medlemsmote-biofoto-sunnmore-nordfjord-5/
CATEGORIES:Sunnmøre og Nordfjord
END:VEVENT
END:VCALENDAR