BEGIN:VCALENDAR
VERSION:2.0
PRODID:-//BioFoto - ECPv6.15.20//NONSGML v1.0//EN
CALSCALE:GREGORIAN
METHOD:PUBLISH
X-WR-CALNAME:BioFoto
X-ORIGINAL-URL:https://biofoto.no
X-WR-CALDESC:Arrangement for BioFoto
REFRESH-INTERVAL;VALUE=DURATION:PT1H
X-Robots-Tag:noindex
X-PUBLISHED-TTL:PT1H
BEGIN:VTIMEZONE
TZID:Europe/Paris
BEGIN:DAYLIGHT
TZOFFSETFROM:+0100
TZOFFSETTO:+0200
TZNAME:CEST
DTSTART:20170326T010000
END:DAYLIGHT
BEGIN:STANDARD
TZOFFSETFROM:+0200
TZOFFSETTO:+0100
TZNAME:CET
DTSTART:20171029T010000
END:STANDARD
BEGIN:DAYLIGHT
TZOFFSETFROM:+0100
TZOFFSETTO:+0200
TZNAME:CEST
DTSTART:20180325T010000
END:DAYLIGHT
BEGIN:STANDARD
TZOFFSETFROM:+0200
TZOFFSETTO:+0100
TZNAME:CET
DTSTART:20181028T010000
END:STANDARD
BEGIN:DAYLIGHT
TZOFFSETFROM:+0100
TZOFFSETTO:+0200
TZNAME:CEST
DTSTART:20190331T010000
END:DAYLIGHT
BEGIN:STANDARD
TZOFFSETFROM:+0200
TZOFFSETTO:+0100
TZNAME:CET
DTSTART:20191027T010000
END:STANDARD
END:VTIMEZONE
BEGIN:VEVENT
DTSTART;TZID=Europe/Paris:20180101T000000
DTEND;TZID=Europe/Paris:20180101T235900
DTSTAMP:20260420T071346
CREATED:20171121T203326Z
LAST-MODIFIED:20241011T202027Z
UID:4088-1514764800-1514851140@biofoto.no
SUMMARY:Innleveringsfrist for stoff til Naturfotografen 2018
DESCRIPTION:Nr.1: I postkassen ca 9. mars – Frist for innlevering av stoff: 1. januar \nNr.2: I postkassen ca 1. juni – Frist for innlevering av stoff: 1. april \nNr.3: I postkassen ca 14. september – Frist for innlevering av stoff: 1. juli \nNr.4: I postkassen ca 30. november – Frist for innlevering av stoff: 1. oktober
URL:https://biofoto.no/event/innleveringsfrist-stoff-naturfotografen-2018/
CATEGORIES:Sentralstyret
ATTACH;FMTTYPE=image/jpeg:https://biofoto.no/wp-content/uploads/2016/02/12711120_10153616527294340_5393326391225956779_o.jpg
ORGANIZER;CN="Naturfotografen":MAILTO:naturfotografen@biofoto.no
END:VEVENT
END:VCALENDAR