BEGIN:VCALENDAR
VERSION:2.0
PRODID:-//BioFoto - ECPv6.15.20//NONSGML v1.0//EN
CALSCALE:GREGORIAN
METHOD:PUBLISH
X-WR-CALNAME:BioFoto
X-ORIGINAL-URL:https://biofoto.no
X-WR-CALDESC:Arrangement for BioFoto
REFRESH-INTERVAL;VALUE=DURATION:PT1H
X-Robots-Tag:noindex
X-PUBLISHED-TTL:PT1H
BEGIN:VTIMEZONE
TZID:Europe/Paris
BEGIN:DAYLIGHT
TZOFFSETFROM:+0100
TZOFFSETTO:+0200
TZNAME:CEST
DTSTART:20160327T010000
END:DAYLIGHT
BEGIN:STANDARD
TZOFFSETFROM:+0200
TZOFFSETTO:+0100
TZNAME:CET
DTSTART:20161030T010000
END:STANDARD
BEGIN:DAYLIGHT
TZOFFSETFROM:+0100
TZOFFSETTO:+0200
TZNAME:CEST
DTSTART:20170326T010000
END:DAYLIGHT
BEGIN:STANDARD
TZOFFSETFROM:+0200
TZOFFSETTO:+0100
TZNAME:CET
DTSTART:20171029T010000
END:STANDARD
BEGIN:DAYLIGHT
TZOFFSETFROM:+0100
TZOFFSETTO:+0200
TZNAME:CEST
DTSTART:20180325T010000
END:DAYLIGHT
BEGIN:STANDARD
TZOFFSETFROM:+0200
TZOFFSETTO:+0100
TZNAME:CET
DTSTART:20181028T010000
END:STANDARD
END:VTIMEZONE
BEGIN:VEVENT
DTSTART;VALUE=DATE:20171112
DTEND;VALUE=DATE:20171113
DTSTAMP:20260422T135253
CREATED:20171013T122618Z
LAST-MODIFIED:20241011T202121Z
UID:3899-1510444800-1510531199@biofoto.no
SUMMARY:BioFoto Indre Østland inviterer til Finnskogtur
DESCRIPTION:Biofoto Indre Østland inviterer til Finnskogtur søndag 12 november.\nTema for turen blir gammelskog\, og eventuelt forfalne boplasser i skogen om det er interesse for det. \nVi møtes ved Finnskogen kro og motell på Svullrya kl 10. De som ønsker å overnatte\, ordner dette selv. \nPåmelding til Øyvind Antonsen oyvind.g.antonsen@gmail.com innen 5. november. \nDet tas forbehold om at det blir tilstrekkelig antall deltakere. \nBegge bilder\, foto © Øyvind Antonsen
URL:https://biofoto.no/event/biofoto-indre-ostland-inviterer-finnskogtur/
LOCATION:Finnskogen\, Norge
CATEGORIES:Innlandet
ATTACH;FMTTYPE=image/jpeg:https://biofoto.no/wp-content/uploads/2017/10/DSC5326w3.jpg
END:VEVENT
END:VCALENDAR