BEGIN:VCALENDAR
VERSION:2.0
PRODID:-//BioFoto - ECPv6.15.20//NONSGML v1.0//EN
CALSCALE:GREGORIAN
METHOD:PUBLISH
X-ORIGINAL-URL:https://biofoto.no
X-WR-CALDESC:Arrangement for BioFoto
REFRESH-INTERVAL;VALUE=DURATION:PT1H
X-Robots-Tag:noindex
X-PUBLISHED-TTL:PT1H
BEGIN:VTIMEZONE
TZID:Europe/Paris
BEGIN:DAYLIGHT
TZOFFSETFROM:+0100
TZOFFSETTO:+0200
TZNAME:CEST
DTSTART:20160327T010000
END:DAYLIGHT
BEGIN:STANDARD
TZOFFSETFROM:+0200
TZOFFSETTO:+0100
TZNAME:CET
DTSTART:20161030T010000
END:STANDARD
BEGIN:DAYLIGHT
TZOFFSETFROM:+0100
TZOFFSETTO:+0200
TZNAME:CEST
DTSTART:20170326T010000
END:DAYLIGHT
BEGIN:STANDARD
TZOFFSETFROM:+0200
TZOFFSETTO:+0100
TZNAME:CET
DTSTART:20171029T010000
END:STANDARD
BEGIN:DAYLIGHT
TZOFFSETFROM:+0100
TZOFFSETTO:+0200
TZNAME:CEST
DTSTART:20180325T010000
END:DAYLIGHT
BEGIN:STANDARD
TZOFFSETFROM:+0200
TZOFFSETTO:+0100
TZNAME:CET
DTSTART:20181028T010000
END:STANDARD
END:VTIMEZONE
BEGIN:VEVENT
DTSTART;TZID=Europe/Paris:20171016T190000
DTEND;TZID=Europe/Paris:20171016T220000
DTSTAMP:20260422T122123
CREATED:20171004T095508Z
LAST-MODIFIED:20241011T202220Z
UID:3872-1508180400-1508191200@biofoto.no
SUMMARY:Lokallagsledermøte i BioFoto
DESCRIPTION:Det er tid for høstens første lokallags-ledermøte\,  mandag 16. oktober.\nTid:  19.00 – 22.00 (Skype)\n \nDersom du ikke kan stille på møtet\, sender du nestleder/annen fra ditt styre istedet. \nDa må jeg ha beskjed om hvem som stiller istedenfor deg\, slik at jeg kan få kobla meg på vedkommende ift. at møtet er på Skype. \nFint om du gir raskt beskjed om det. \nVi snakkes! \nHilsen Anne-Lise \nPS: Husk å oppdatere Skype senest dagen før møtet så slipper vi å vente på hverandre!
URL:https://biofoto.no/event/lokallagsledermote-i-biofoto/
LOCATION:Skype
CATEGORIES:Sentralstyret
END:VEVENT
END:VCALENDAR