BEGIN:VCALENDAR
VERSION:2.0
PRODID:-//BioFoto - ECPv6.15.20//NONSGML v1.0//EN
CALSCALE:GREGORIAN
METHOD:PUBLISH
X-ORIGINAL-URL:https://biofoto.no
X-WR-CALDESC:Arrangement for BioFoto
REFRESH-INTERVAL;VALUE=DURATION:PT1H
X-Robots-Tag:noindex
X-PUBLISHED-TTL:PT1H
BEGIN:VTIMEZONE
TZID:Europe/Paris
BEGIN:DAYLIGHT
TZOFFSETFROM:+0100
TZOFFSETTO:+0200
TZNAME:CEST
DTSTART:20160327T010000
END:DAYLIGHT
BEGIN:STANDARD
TZOFFSETFROM:+0200
TZOFFSETTO:+0100
TZNAME:CET
DTSTART:20161030T010000
END:STANDARD
BEGIN:DAYLIGHT
TZOFFSETFROM:+0100
TZOFFSETTO:+0200
TZNAME:CEST
DTSTART:20170326T010000
END:DAYLIGHT
BEGIN:STANDARD
TZOFFSETFROM:+0200
TZOFFSETTO:+0100
TZNAME:CET
DTSTART:20171029T010000
END:STANDARD
BEGIN:DAYLIGHT
TZOFFSETFROM:+0100
TZOFFSETTO:+0200
TZNAME:CEST
DTSTART:20180325T010000
END:DAYLIGHT
BEGIN:STANDARD
TZOFFSETFROM:+0200
TZOFFSETTO:+0100
TZNAME:CET
DTSTART:20181028T010000
END:STANDARD
END:VTIMEZONE
BEGIN:VEVENT
DTSTART;VALUE=DATE:20170922
DTEND;VALUE=DATE:20170925
DTSTAMP:20260422T135515
CREATED:20170909T090617Z
LAST-MODIFIED:20241011T202332Z
UID:3326-1506038400-1506297599@biofoto.no
SUMMARY:Medlemstur BioFoto Midt-Norge
DESCRIPTION:Medlemstur BioFoto Midt-Norge\nTidspunkt: 22-24. september \nBilde:  Moskus.JPG v/fotograf: Edvard Bergene \nMedlemstur til Grønbakken helga 22-24. september \nTuren til Grønbakken er åpen for alle BioFoto-medlemmer\, men BioFoto Midt-Norge prioriteres. \nDet er plass til 20 deltakere. \nPåmelding sendes til Edvard Bergene\, edvardbergene@gmail.com. \n  \nhttp://biofoto-midtnorge.blogspot.no/
URL:https://biofoto.no/event/medlemstur-biofoto-midt-norge/
CATEGORIES:Midt-Norge
ATTACH;FMTTYPE=image/jpeg:https://biofoto.no/wp-content/uploads/2017/09/Moskus.jpg
END:VEVENT
BEGIN:VEVENT
DTSTART;VALUE=DATE:20170924
DTEND;VALUE=DATE:20170925
DTSTAMP:20260422T135515
CREATED:20170913T174006Z
LAST-MODIFIED:20241011T202256Z
UID:3347-1506211200-1506297599@biofoto.no
SUMMARY:Fototur/medlemstur BioFoto Sørlandet
DESCRIPTION:Foto © Jarle Kvam \nFototur BioFoto Sørlandet søndag 24. september\nHei dere  \n\nDa steller vi til en finfin tur til Tromøya denne herlige søndagen. Vi satser på himla godt vær\, godt fotolys\, sosialt samvær\, litt læring og masse gode blinkskudd på brikka. Vi skal møtes på parkeringsplassen på Spornes\, klokken 11.00 Ta med noe å sitte på. Drikke varmt eller/og kaldt. Noe å bite i. Vi lager til bål så kan vi jo varme oss litt og ha noe godt over bålet. Ta gjerne med et par pinner ved. Arrangementet blir lagt ut på facbooksiden vår. \nSom dere skjønner er jeg helt håpløs på dette\, så jeg har goooglet litt jeg og her er beskrivelsen. \nSå om det har sneket seg med noen feil så regner jeg med noen skriker ut til meg 🙂 Annette \n  \n\nFra Harebakken kjører du slik: \nTuren tar ca 18 minutter\,\nFra Harabakken følger du Rv 410 (gjennom flere rundkjøringer) mot Tromøya ca 5\,6 km.\nTa første avkjøring i rundkjøring inn på Rv 409 ca 3 km\nTa av til venstre og inn på Fv 192 ca 1\,9km\nTa til høyre inn på Fv 201 ca 700 meter\nTa til venstre ca 300 m\nTa til høyre ca 100 m\nOg du er framme 🙂\n\nOm noen vil være med men ikke har noen å kjøre med ta kontakt med andre BioFotinger\, det er alltid noen som har et ledig sete i bilen. Legg gjerne ut i kommentarfeltet om du skal og har plass\, å kan man samkjøre litt.  Tore og Jarle står for guidinga. Og de er godt kjent så dette blir veldig kos.\nGleder meg til tur sammen med dere! \n\nMvh Annette Wimme Høyland \nLeder BioFoto Sørlandet
URL:https://biofoto.no/event/fototurmedlemstur-biofoto-sorlandet/
LOCATION:Tromøya\, Arendal\, Norge
CATEGORIES:Sørlandet
ATTACH;FMTTYPE=image/jpeg:https://biofoto.no/wp-content/uploads/2017/09/tromoya.jpg
ORGANIZER;CN="BioFoto S%C3%B8rlandet":MAILTO:biofotosorlandet1@gmail.com
END:VEVENT
END:VCALENDAR