BEGIN:VCALENDAR
VERSION:2.0
PRODID:-//BioFoto - ECPv6.15.20//NONSGML v1.0//EN
CALSCALE:GREGORIAN
METHOD:PUBLISH
X-ORIGINAL-URL:https://biofoto.no
X-WR-CALDESC:Arrangement for BioFoto
REFRESH-INTERVAL;VALUE=DURATION:PT1H
X-Robots-Tag:noindex
X-PUBLISHED-TTL:PT1H
BEGIN:VTIMEZONE
TZID:Europe/Paris
BEGIN:DAYLIGHT
TZOFFSETFROM:+0100
TZOFFSETTO:+0200
TZNAME:CEST
DTSTART:20160327T010000
END:DAYLIGHT
BEGIN:STANDARD
TZOFFSETFROM:+0200
TZOFFSETTO:+0100
TZNAME:CET
DTSTART:20161030T010000
END:STANDARD
BEGIN:DAYLIGHT
TZOFFSETFROM:+0100
TZOFFSETTO:+0200
TZNAME:CEST
DTSTART:20170326T010000
END:DAYLIGHT
BEGIN:STANDARD
TZOFFSETFROM:+0200
TZOFFSETTO:+0100
TZNAME:CET
DTSTART:20171029T010000
END:STANDARD
BEGIN:DAYLIGHT
TZOFFSETFROM:+0100
TZOFFSETTO:+0200
TZNAME:CEST
DTSTART:20180325T010000
END:DAYLIGHT
BEGIN:STANDARD
TZOFFSETFROM:+0200
TZOFFSETTO:+0100
TZNAME:CET
DTSTART:20181028T010000
END:STANDARD
END:VTIMEZONE
BEGIN:VEVENT
DTSTART;VALUE=DATE:20170910
DTEND;VALUE=DATE:20170911
DTSTAMP:20260422T135459
CREATED:20170823T163417Z
LAST-MODIFIED:20241011T202340Z
UID:3238-1505001600-1505087999@biofoto.no
SUMMARY:Innleveringsfrist fotokonkurranse kl. 23:59
DESCRIPTION:Innleveringsfrist fotokonkurranse. \nInnleveringsfrist for runde 2 er satt til den 10. september kl 23.59. \n  \nVed opplasting av bilder følg disse instruksene!\n• Bildeformat: .jpg\n• Lengste side: 1920 piksler.\n• Fargeprofil: sRGB\n• Maks filstørrelse: 10MB per fil\n• Filnavn: Gi bildet en kort tittel f.eks. ‘fugl_i_flukt.jpg’\n• Ikke bruk spesialtegn som æ\, ø\, å\, &\, =\, eller tilsvarende.\n• Last opp et bilde om gangen\n• Når du klikker på ‘Last opp bilde’\, vent til du blir sendt videre og får meldingen ‘Filen din_titel.jpg ble lastet opp.’ Klikk på ‘Tilbake’ for å komme tilbake til opplastningssiden!\n• Får du følgende feilmelding: ‘Beklager\, filnavnet eksisterer allerede’ – bruk et annet filnavn. \nLykke til alle sammen!
URL:https://biofoto.no/event/innleveringsfrist-fotokonkurranse/
CATEGORIES:Sentralstyret
END:VEVENT
END:VCALENDAR