BEGIN:VCALENDAR
VERSION:2.0
PRODID:-//BioFoto - ECPv6.15.20//NONSGML v1.0//EN
CALSCALE:GREGORIAN
METHOD:PUBLISH
X-ORIGINAL-URL:https://biofoto.no
X-WR-CALDESC:Arrangement for BioFoto
REFRESH-INTERVAL;VALUE=DURATION:PT1H
X-Robots-Tag:noindex
X-PUBLISHED-TTL:PT1H
BEGIN:VTIMEZONE
TZID:Europe/Paris
BEGIN:DAYLIGHT
TZOFFSETFROM:+0100
TZOFFSETTO:+0200
TZNAME:CEST
DTSTART:20160327T010000
END:DAYLIGHT
BEGIN:STANDARD
TZOFFSETFROM:+0200
TZOFFSETTO:+0100
TZNAME:CET
DTSTART:20161030T010000
END:STANDARD
BEGIN:DAYLIGHT
TZOFFSETFROM:+0100
TZOFFSETTO:+0200
TZNAME:CEST
DTSTART:20170326T010000
END:DAYLIGHT
BEGIN:STANDARD
TZOFFSETFROM:+0200
TZOFFSETTO:+0100
TZNAME:CET
DTSTART:20171029T010000
END:STANDARD
BEGIN:DAYLIGHT
TZOFFSETFROM:+0100
TZOFFSETTO:+0200
TZNAME:CEST
DTSTART:20180325T010000
END:DAYLIGHT
BEGIN:STANDARD
TZOFFSETFROM:+0200
TZOFFSETTO:+0100
TZNAME:CET
DTSTART:20181028T010000
END:STANDARD
END:VTIMEZONE
BEGIN:VEVENT
DTSTART;TZID=Europe/Paris:20170819T100000
DTEND;TZID=Europe/Paris:20170820T170000
DTSTAMP:20260422T170848
CREATED:20170816T190351Z
LAST-MODIFIED:20241011T202410Z
UID:3201-1503136800-1503248400@biofoto.no
SUMMARY:Fotografiets dager - 10-års jubileum
DESCRIPTION:Foto: Anne-Lise Stangenes (fra Fotografiets dag 2014) \n\n\nFotografiets dager – 10-års jubileum\n19. og 20. august. \nLørdag kl. 10.00 – 17.00 \nSøndag kl. 11.00 – 17.00 \nSted: Karljohansvern\, Horten. \nBioFoto har utstilling og stand. \nInngang inkl. Horten Mat og Ølfestival: Voksne kr 100\,- pr. dag.  Barn gratis. \nBilletter kan forhåndskjøpes her: https://ticketco.no/events/24281 \nFor fullt program – klikk linken: \nhttp://www.preusmuseum.no/Utforsk-museet/Arrangementer/Fotografiets-dager-20172 \nArrangementet på Facebook: https://www.facebook.com/events/585487841659428/?fref=ts \nHva er Fotografiets dag?\nFotografiets dag har som mål å skape forståelse og samhandling mellom de ulike fotomiljøene i Norge\, og legge til rette for gode møter. Arrangementet er et samarbeid mellom Preus museum og flere av de store fotograforganisasjonene i Norge. \nFotografiet er i fokus og fotografiets dag skal vise både bredden i fotografi og samtidig gi enkelte dypdykk. Både amatører og profesjonelle skal finne noe av interesse\, som kan bidra til inspirasjon og ny kunnskap. \nSamarbeidspartnere\nNorges Fotografforbund \nNorsk Selskap For Fotografi \nPressefotografenes Klubb \nForbundet Frie Fotografer \nNorske Reklamefotografer \nNorsk Fotohistorisk Forening – Preus museums venner \nNorske Naturfotografer \nInstitusjonsfotografenes Forening \nBiofoto
URL:https://biofoto.no/event/fotografiets-dager-10-ars-jubileum/
CATEGORIES:Nasjonalt
ATTACH;FMTTYPE=image/jpeg:https://biofoto.no/wp-content/uploads/2017/08/Foto-Anne-Lise_Stangenes.jpg
END:VEVENT
END:VCALENDAR